{"text_format":"1","workbook":"xlsx","n_sheets":16,"sheets":["基礎データ","「学校楽しいーと」個票","学級票（度数分布票）","学級票（下位項目評価表）","１回目直接入力","１回目ボタン入力","１回目ボタン出力","1回目集計表","２回目直接入力","２回目ボタン入力","２回目ボタン出力","２回目集計表","３回目直接入力","３回目ボタン入力","３回目ボタン出力","３回目集計表"],"not_rendered":{"charts":2,"images":0,"macros":1,"external_links":0,"defined_names":7,"comments":0,"pivot_tables":0},"unopened":[],"bounds":{"document_bytes":16777216,"sheet_cells":100000,"rows_first":2000,"rows_last":500,"rows_between":2000,"halvings":0,"cell_chars":16384,"cell_head_chars":4096},"cells_cut":0,"cells_raw":0,"read":"whole","date_system":"1900"}

{"sheet":"基礎データ","index":0,"n_rows":64,"n_cols":13,"rows_kept":64,"cut":false,"hidden":false,"merged":[[2,1,2,3]]}
[]
[]
[null,"名　簿",null,null,null,"学年",null,"組"]
[null,"出席番号","氏名","性別"]
[null,1," ",null,null,"１回目","令和",null,"年",null,"月",null,"日"]
[null,2,null,null,null,"２回目","令和",null,"年",null,"月",null,"日"]
[null,3,null,null,null,"３回目","令和",null,"年",null,"月",null,"日"]
[null,4]
[null,5]
[null,6]
[null,7]
[null,8]
[null,9]
[null,10]
[null,11]
[null,12]
[null,13]
[null,14]
[null,15]
[null,16]
[null,17]
[null,18]
[null,19]
[null,20]
[null,21]
[null,22]
[null,23]
[null,24]
[null,25]
[null,26]
[null,27]
[null,28]
[null,29]
[null,30]
[null,31]
[null,32]
[null,33]
[null,34]
[null,35]
[null,36]
[null,37]
[null,38]
[null,39]
[null,40]
[null,41]
[null,42]
[null,43]
[null,44]
[null,45]
[null,46]
[null,47]
[null,48]
[null,49]
[null,50]
[null,51]
[null,52]
[null,53]
[null,54]
[null,55]
[null,56]
[null,57]
[null,58]
[null,59]
[null,60]

{"sheet":"「学校楽しいーと」個票","index":1,"n_rows":66,"n_cols":70,"rows_kept":66,"cut":false,"hidden":false,"merged":[[51,24,51,37],[12,67,12,68],[13,55,13,64],[13,65,13,66],[13,67,13,68],[20,3,21,3],[12,69,12,70],[13,69,13,70],[14,69,14,70],[20,4,21,17],[28,4,29,17],[30,4,31,17],[18,24,19,37],[20,24,21,37],[22,24,23,37],[24,24,25,37],[26,24,27,37],[28,24,29,37],[30,24,31,37],[24,23,25,23],[22,23,23,23],[20,23,21,23],[18,23,19,23],[26,23,27,23],[11,55,11,64],[11,65,11,66],[11,67,11,68],[11,69,11,70],[14,55,14,64],[14,65,14,66],[14,67,14,68],[12,55,12,64],[12,65,12,66],[7,54,8,64],[7,65,8,66],[7,67,8,68],[9,55,9,64],[9,65,9,66],[9,67,9,68],[10,55,10,64],[10,65,10,66],[7,69,8,70],[9,69,9,70],[10,69,10,70],[10,67,10,68],[2,43,2,48],[17,23,17,37],[12,12,12,13],[13,12,13,13],[7,1,8,11],[7,43,8,50],[9,2,9,11],[10,2,10,11],[11,2,11,11],[12,2,12,11],[10,12,10,13],[11,12,11,13],[13,2,13,11],[7,12,8,13],[7,14,8,15],[9,12,9,13],[7,16,8,17],[14,12,14,13],[17,1,17,2],[14,2,14,11],[17,3,17,17],[17,21,17,22],[15,2,16,17],[0,0,0,41],[2,19,2,24],[3,19,3,24],[4,19,4,24],[2,25,2,27],[3,25,3,27],[4,25,4,27],[52,38,52,40],[51,22,51,23],[3,34,3,35],[4,28,4,29],[4,31,4,32],[4,34,4,35],[3,28,3,29],[3,31,3,32],[2,5,2,6],[2,9,2,10],[2,11,2,17],[2,28,2,29],[2,31,2,32],[2,34,2,35],[18,4,19,17],[18,3,19,3],[26,4,27,17],[28,23,29,23],[30,23,31,23],[32,24,33,37],[34,24,35,37],[36,24,37,37],[38,24,39,37],[40,24,41,37],[49,4,50,17],[47,4,48,17],[45,4,46,17],[43,4,44,17],[40,4,41,17],[38,4,39,17],[36,4,37,17],[34,4,35,17],[32,4,33,17],[32,23,33,23],[34,23,35,23],[36,23,37,23],[38,23,39,23],[40,23,41,23],[49,3,50,3],[47,3,48,3],[45,3,46,3],[43,3,44,3],[43,1,50,2],[43,38,44,38],[43,39,44,39],[43,40,44,40],[43,22,44,37],[45,22,46,23],[47,22,48,23],[49,22,50,23],[45,24,46,37],[47,24,48,37],[49,24,50,37],[49,38,50,38],[49,39,50,39],[49,40,50,40],[47,38,48,38],[47,39,48,39],[47,40,48,40],[45,38,46,38],[45,39,46,39],[45,40,46,40],[18,1,19,2],[20,1,25,2],[26,1,27,2],[28,1,33,2],[34,1,35,2],[36,1,41,2],[18,21,19,22],[20,21,25,22],[26,21,27,22],[28,21,33,22],[34,21,35,22],[36,21,41,22],[40,3,41,3],[38,3,39,3],[36,3,37,3],[34,3,35,3],[32,3,33,3],[30,3,31,3],[28,3,29,3],[26,3,27,3],[22,4,23,17],[22,3,23,3],[24,4,25,17],[24,3,25,3]]}
["比較用　「学校楽しぃーと」　個票　-　小学校低学年用　-"]
[]
[null,{"$f":"基礎データ!G3","v":0},"年",{"$f":"基礎データ!I3","v":0},"組",{"$f":"AX7","v":1},null,"番",null,"氏名",null,{"$f":"IF(F3=0,0,VLOOKUP(F3,基礎データ!B5:C64,2,FALSE))","v":" "},null,null,null,null,null,null,null,"1回目　実施日",null,null,null,null,null,{"$f":"基礎データ!G5","v":"令和"},null,null,{"$f":"基礎データ!H5","v":0},null,"年",{"$f":"基礎データ!J5","v":0},null,"月",{"$f":"基礎データ!L5","v":0},null,"日",null,null,null,null,null,null,"出席番号を選択してください",null,null,null,null,null,1]
[null,null,null,null,null,null,null,null,null,null,null,null,null,null,null,null,null,null,null,"2回目　実施日",null,null,null,null,null,{"$f":"基礎データ!G6","v":"令和"},null,null,{"$f":"基礎データ!H6","v":0},null,"年",{"$f":"基礎データ!J6","v":0},null,"月",{"$f":"基礎データ!L6","v":0},null,"日",null,null,null,null,null,null,null,null,null,null,null,null,null,null,null,1]
[null,null,null,null,null,null,null,null,null,null,null,null,null,null,null,null,null,null,null,"3回目　実施日",null,null,null,null,null,{"$f":"基礎データ!G7","v":"令和"},null,null,{"$f":"基礎データ!H7","v":0},null,"年",{"$f":"基礎データ!J7","v":0},null,"月",{"$f":"基礎データ!L7","v":0},null,"日",null,null,null,null,null,null,null,null,null,null,"開始番号","終了番号","出席番号",null,null,2]
[]
[null,null,null,null,null,null,null,null,null,null,null,null,null,null,null,null,null,null,null,null,null,null,null,null,null,null,null,null,null,null,null,null,null,null,null,null,null,null,null,null,null,null,null,null,null,null,null,1,40,{"$f":"AX3","v":1},null,null,3]
[null,"観　点",null,null,null,null,null,null,null,null,null,null,"１回目",null,"２回目",null,"３回目",null,null,null,null,null,null,null,null,null,null,null,null,null,null,null,null,null,null,null,null,null,null,null,null,null,null,"このボタンを押すと開始番号から終了番号の出席番号を連続印刷します。",null,null,null,null,null,null,null,null,4,null,"観　点",null,null,null,null,null,null,null,null,null,null,"１回目",null,"２回目",null,"３回目"]
[null,null,null,null,null,null,null,null,null,null,null,null,null,null,null,null,null,null,null,null,null,null,null,null,null,null,null,null,null,null,null,null,null,null,null,null,null,null,null,null,null,null,null,null,null,null,null,null,null,null,null,null,5]
[null,1,"友達との関係",null,null,null,null,null,null,null,null,null,{"$f":"IF(ISERROR(VLOOKUP($AX$7,'1回目集計表'!$D$81:$AM$140,30,FALSE)),3.99,VLOOKUP($AX$7,'1回目集計表'!$D$81:$AM$140,30,FALSE))","v":3.99},null,{"$f":"IF(ISERROR(VLOOKUP($AX$7,'２回目集計表'!$D$81:$AM$140,30,FALSE)),3.99,VLOOKUP($AX$7,'２回目集計表'!$D$81:$AM$140,30,FALSE))","v":3.99},{"$f":"IF(ISERROR(VLOOKUP($AX$7,'２回目集計表'!$D$81:$AM$140,30,FALSE)),\"\",IF(O10>M10,\"↑\",IF(O10<M10,\"↓\",\"\")))","v":""},{"$f":"IF(ISERROR(VLOOKUP($AX$7,'３回目集計表'!$D$81:$AM$140,30,FALSE)),3.99,VLOOKUP($AX$7,'３回目集計表'!$D$81:$AM$140,30,FALSE))","v":3.99},{"$f":"IF(ISERROR(VLOOKUP($AX$7,'３回目集計表'!$D$81:$AM$140,30,FALSE)),\"\",IF(Q10>O10,\"↑\",IF(Q10<O10,\"↓\",\"\")))","v":""},null,null,null,null,null,null,null,null,null,null,null,null,null,null,null,null,null,null,null,null,null,null,null,null,null,null,null,null,null,null,null,null,null,null,6,null,1,"友達との関係",null,null,null,null,null,null,null,null,null,{"$f":"IF(VLOOKUP($AX$7,'1回目集計表'!$D$81:$AM$140,30,FALSE)<4,3.9,VLOOKUP($AX$7,'1回目集計表'!$D$81:$AM$140,30,FALSE))","v":{"$error":"#N/A"}},null,{"$f":"IF(VLOOKUP($AX$7,'２回目集計表'!$D$81:$AM$140,30,FALSE)<4,3.9,VLOOKUP($AX$7,'２回目集計表'!$D$81:$AM$140,30,FALSE))","v":{"$error":"#N/A"}},null,{"$f":"IF(VLOOKUP($AX$7,'３回目集計表'!$D$81:$AM$140,30,FALSE)<4,3.9,VLOOKUP($AX$7,'３回目集計表'!$D$81:$AM$140,30,FALSE))","v":{"$error":"#N/A"}}]
[null,2,"教師との関係",null,null,null,null,null,null,null,null,null,{"$f":"IF(ISERROR(VLOOKUP($AX$7,'1回目集計表'!$D$81:$AM$140,31,FALSE)),3.99,VLOOKUP($AX$7,'1回目集計表'!$D$81:$AM$140,31,FALSE))","v":3.99},null,{"$f":"IF(ISERROR(VLOOKUP($AX$7,'２回目集計表'!$D$81:$AM$140,31,FALSE)),3.99,VLOOKUP($AX$7,'２回目集計表'!$D$81:$AM$140,31,FALSE))","v":3.99},{"$f":"IF(ISERROR(VLOOKUP($AX$7,'２回目集計表'!$D$81:$AM$140,31,FALSE)),\"\",IF(O11>M11,\"↑\",IF(O11<M11,\"↓\",\"\")))","v":""},{"$f":"IF(ISERROR(VLOOKUP($AX$7,'３回目集計表'!$D$81:$AM$140,31,FALSE)),3.99,VLOOKUP($AX$7,'３回目集計表'!$D$81:$AM$140,31,FALSE))","v":3.99},{"$f":"IF(ISERROR(VLOOKUP($AX$7,'３回目集計表'!$D$81:$AM$140,31,FALSE)),\"\",IF(Q11>O11,\"↑\",IF(Q11<O11,\"↓\",\"\")))","v":""},null,null,null,null,null,null,null,null,null,null,null,null,null,null,null,null,null,null,null,null,null,null,null,null,null,null,null,null,null,null,null,null,null,null,7,null,2,"教師との関係",null,null,null,null,null,null,null,null,null,{"$f":"IF(VLOOKUP($AX$7,'1回目集計表'!$D$81:$AM$140,31,FALSE)<4,3.9,VLOOKUP($AX$7,'1回目集計表'!$D$81:$AM$140,31,FALSE))","v":{"$error":"#N/A"}},null,{"$f":"IF(VLOOKUP($AX$7,'２回目集計表'!$D$81:$AM$140,31,FALSE)<4,3.9,VLOOKUP($AX$7,'２回目集計表'!$D$81:$AM$140,31,FALSE))","v":{"$error":"#N/A"}},null,{"$f":"IF(VLOOKUP($AX$7,'３回目集計表'!$D$81:$AM$140,31,FALSE)<4,3.9,VLOOKUP($AX$7,'３回目集計表'!$D$81:$AM$140,31,FALSE))","v":{"$error":"#N/A"}}]
[null,3,"学習意欲",null,null,null,null,null,null,null,null,null,{"$f":"IF(ISERROR(VLOOKUP($AX$7,'1回目集計表'!$D$81:$AM$140,32,FALSE)),3.99,VLOOKUP($AX$7,'1回目集計表'!$D$81:$AM$140,32,FALSE))","v":3.99},null,{"$f":"IF(ISERROR(VLOOKUP($AX$7,'２回目集計表'!$D$81:$AM$140,32,FALSE)),3.99,VLOOKUP($AX$7,'２回目集計表'!$D$81:$AM$140,32,FALSE))","v":3.99},{"$f":"IF(ISERROR(VLOOKUP($AX$7,'２回目集計表'!$D$81:$AM$140,32,FALSE)),\"\",IF(O12>M12,\"↑\",IF(O12<M12,\"↓\",\"\")))","v":""},{"$f":"IF(ISERROR(VLOOKUP($AX$7,'３回目集計表'!$D$81:$AM$140,32,FALSE)),3.99,VLOOKUP($AX$7,'３回目集計表'!$D$81:$AM$140,32,FALSE))","v":3.99},{"$f":"IF(ISERROR(VLOOKUP($AX$7,'３回目集計表'!$D$81:$AM$140,32,FALSE)),\"\",IF(Q12>O12,\"↑\",IF(Q12<O12,\"↓\",\"\")))","v":""},null,null,null,null,null,null,null,null,null,null,null,null,null,null,null,null,null,null,null,null,null,null,null,null,null,null,null,null,null,null,null,null,null,null,8,null,3,"学習意欲",null,null,null,null,null,null,null,null,null,{"$f":"IF(VLOOKUP($AX$7,'1回目集計表'!$D$81:$AM$140,32,FALSE)<4,3.9,VLOOKUP($AX$7,'1回目集計表'!$D$81:$AM$140,32,FALSE))","v":{"$error":"#N/A"}},null,{"$f":"IF(VLOOKUP($AX$7,'２回目集計表'!$D$81:$AM$140,32,FALSE)<4,3.9,VLOOKUP($AX$7,'２回目集計表'!$D$81:$AM$140,32,FALSE))","v":{"$error":"#N/A"}},null,{"$f":"IF(VLOOKUP($AX$7,'３回目集計表'!$D$81:$AM$140,32,FALSE)<4,3.9,VLOOKUP($AX$7,'３回目集計表'!$D$81:$AM$140,32,FALSE))","v":{"$error":"#N/A"}}]
[null,4,"自己肯定感",null,null,null,null,null,null,null,null,null,{"$f":"IF(ISERROR(VLOOKUP($AX$7,'1回目集計表'!$D$81:$AM$140,33,FALSE)),3.99,VLOOKUP($AX$7,'1回目集計表'!$D$81:$AM$140,33,FALSE))","v":3.99},null,{"$f":"IF(ISERROR(VLOOKUP($AX$7,'２回目集計表'!$D$81:$AM$140,33,FALSE)),3.99,VLOOKUP($AX$7,'２回目集計表'!$D$81:$AM$140,33,FALSE))","v":3.99},{"$f":"IF(ISERROR(VLOOKUP($AX$7,'２回目集計表'!$D$81:$AM$140,33,FALSE)),\"\",IF(O13>M13,\"↑\",IF(O13<M13,\"↓\",\"\")))","v":""},{"$f":"IF(ISERROR(VLOOKUP($AX$7,'３回目集計表'!$D$81:$AM$140,33,FALSE)),3.99,VLOOKUP($AX$7,'３回目集計表'!$D$81:$AM$140,33,FALSE))","v":3.99},{"$f":"IF(ISERROR(VLOOKUP($AX$7,'３回目集計表'!$D$81:$AM$140,33,FALSE)),\"\",IF(Q13>O13,\"↑\",IF(Q13<O13,\"↓\",\"\")))","v":""},null,null,null,null,null,null,null,null,null,null,null,null,null,null,null,null,null,null,null,null,null,null,null,null,null,null,null,null,null,null,null,null,null,null,9,null,4,"自己肯定感",null,null,null,null,null,null,null,null,null,{"$f":"IF(VLOOKUP($AX$7,'1回目集計表'!$D$81:$AM$140,33,FALSE)<4,3.9,VLOOKUP($AX$7,'1回目集計表'!$D$81:$AM$140,33,FALSE))","v":{"$error":"#N/A"}},null,{"$f":"IF(VLOOKUP($AX$7,'２回目集計表'!$D$81:$AM$140,33,FALSE)<4,3.9,VLOOKUP($AX$7,'２回目集計表'!$D$81:$AM$140,33,FALSE))","v":{"$error":"#N/A"}},null,{"$f":"IF(VLOOKUP($AX$7,'３回目集計表'!$D$81:$AM$140,33,FALSE)<4,3.9,VLOOKUP($AX$7,'３回目集計表'!$D$81:$AM$140,33,FALSE))","v":{"$error":"#N/A"}}]
[null,5,"心身の状態",null,null,null,null,null,null,null,null,null,{"$f":"IF(ISERROR(VLOOKUP($AX$7,'1回目集計表'!$D$81:$AM$140,34,FALSE)),3.99,VLOOKUP($AX$7,'1回目集計表'!$D$81:$AM$140,34,FALSE))","v":3.99},null,{"$f":"IF(ISERROR(VLOOKUP($AX$7,'２回目集計表'!$D$81:$AM$140,34,FALSE)),3.99,VLOOKUP($AX$7,'２回目集計表'!$D$81:$AM$140,34,FALSE))","v":3.99},{"$f":"IF(ISERROR(VLOOKUP($AX$7,'２回目集計表'!$D$81:$AM$140,34,FALSE)),\"\",IF(O14>M14,\"↑\",IF(O14<M14,\"↓\",\"\")))","v":""},{"$f":"IF(ISERROR(VLOOKUP($AX$7,'３回目集計表'!$D$81:$AM$140,34,FALSE)),3.99,VLOOKUP($AX$7,'３回目集計表'!$D$81:$AM$140,34,FALSE))","v":3.99},{"$f":"IF(ISERROR(VLOOKUP($AX$7,'３回目集計表'!$D$81:$AM$140,34,FALSE)),\"\",IF(Q14>O14,\"↑\",IF(Q14<O14,\"↓\",\"\")))","v":""},null,null,null,null,null,null,null,null,null,null,null,null,null,null,null,null,null,null,null,null,null,null,null,null,null,null,null,null,null,null,null,null,null,null,10,null,5,"心身の状態",null,null,null,null,null,null,null,null,null,{"$f":"IF(VLOOKUP($AX$7,'1回目集計表'!$D$81:$AM$140,34,FALSE)<4,3.9,VLOOKUP($AX$7,'1回目集計表'!$D$81:$AM$140,34,FALSE))","v":{"$error":"#N/A"}},null,{"$f":"IF(VLOOKUP($AX$7,'２回目集計表'!$D$81:$AM$140,34,FALSE)<4,3.9,VLOOKUP($AX$7,'２回目集計表'!$D$81:$AM$140,34,FALSE))","v":{"$error":"#N/A"}},null,{"$f":"IF(VLOOKUP($AX$7,'３回目集計表'!$D$81:$AM$140,34,FALSE)<4,3.9,VLOOKUP($AX$7,'３回目集計表'!$D$81:$AM$140,34,FALSE))","v":{"$error":"#N/A"}}]
[null,6,"学級集団における適応感",null,null,null,null,null,null,null,null,null,{"$f":"IF(ISERROR(VLOOKUP($AX$7,'1回目集計表'!$D$81:$AM$140,35,FALSE)),3.99,VLOOKUP($AX$7,'1回目集計表'!$D$81:$AM$140,35,FALSE))","v":3.99},null,{"$f":"IF(ISERROR(VLOOKUP($AX$7,'２回目集計表'!$D$81:$AM$140,35,FALSE)),3.99,VLOOKUP($AX$7,'２回目集計表'!$D$81:$AM$140,35,FALSE))","v":3.99},{"$f":"IF(ISERROR(VLOOKUP($AX$7,'２回目集計表'!$D$81:$AM$140,35,FALSE)),\"\",IF(O15>M15,\"↑\",IF(O15<M15,\"↓\",\"\")))","v":""},{"$f":"IF(ISERROR(VLOOKUP($AX$7,'３回目集計表'!$D$81:$AM$140,35,FALSE)),3.99,VLOOKUP($AX$7,'３回目集計表'!$D$81:$AM$140,35,FALSE))","v":3.99},{"$f":"IF(ISERROR(VLOOKUP($AX$7,'３回目集計表'!$D$81:$AM$140,35,FALSE)),\"\",IF(Q15>O15,\"↑\",IF(Q15<O15,\"↓\",\"\")))","v":""},null,null,null,null,null,null,null,null,null,null,null,null,null,null,null,null,null,null,null,null,null,null,null,null,null,null,null,null,null,null,null,null,null,null,11,null,6,"学級集団における適応感",null,null,null,null,null,null,null,null,null,{"$f":"IF(VLOOKUP($AX$7,'1回目集計表'!$D$81:$AM$140,35,FALSE)<4,3.9,VLOOKUP($AX$7,'1回目集計表'!$D$81:$AM$140,35,FALSE))","v":{"$error":"#N/A"}},null,{"$f":"IF(VLOOKUP($AX$7,'２回目集計表'!$D$81:$AM$140,35,FALSE)<4,3.9,VLOOKUP($AX$7,'２回目集計表'!$D$81:$AM$140,35,FALSE))","v":{"$error":"#N/A"}},null,{"$f":"IF(VLOOKUP($AX$7,'３回目集計表'!$D$81:$AM$140,35,FALSE)<4,3.9,VLOOKUP($AX$7,'３回目集計表'!$D$81:$AM$140,35,FALSE))","v":{"$error":"#N/A"}}]
[null,null,"最大値が16になり，値が大きいほど適応できている　状態を示します。レーダーチャートのバランスが悪い　場合は不安定の状態を示しています。",null,null,null,null,null,null,null,null,null,null,null,null,null,null,null,null,null,null,null,null,null,null,null,null,null,null,null,null,null,null,null,null,null,null,null,null,null,null,null,null,null,null,null,null,null,null,null,null,null,12]
[null,null,null,null,null,null,null,null,null,null,null,null,null,null,null,null,null,null,null,null,null,null,null,null,null,null,null,null,null,null,null,null,null,null,null,null,null,null,null,null,null,null,null,null,null,null,null,null,null,null,null,null,13]
[null,"観点",null,"質問",null,null,null,null,null,null,null,null,null,null,null,null,null,null,"1回目","2回目","3回目","観点",null,"質問",null,null,null,null,null,null,null,null,null,null,null,null,null,null,"1回目","2回目","3回目",null,null,null,null,null,null,null,null,null,null,null,14]
[null,"１",null,1,"学校には，お話ができる友達がいますか。",null,null,null,null,null,null,null,null,null,null,null,null,null,{"$f":"IF(ISERROR(VLOOKUP($AX$7,'1回目集計表'!$D$81:$AM$140,2,FALSE)),0,VLOOKUP($AX$7,'1回目集計表'!$D$81:$AM$140,2,FALSE))","v":0},{"$f":"IF(ISERROR(VLOOKUP($AX$7,'２回目集計表'!$D$81:$AM$140,2,FALSE)),0,VLOOKUP($AX$7,'２回目集計表'!$D$81:$AM$140,2,FALSE))","v":0},{"$f":"IF(ISERROR(VLOOKUP($AX$7,'３回目集計表'!$D$81:$AM$140,2,FALSE)),0,VLOOKUP($AX$7,'３回目集計表'!$D$81:$AM$140,2,FALSE))","v":0},"２",null,2,"学校には，自分の心配なことを話せる先生がいますか。",null,null,null,null,null,null,null,null,null,null,null,null,null,{"$f":"IF(ISERROR(VLOOKUP($AX$7,'1回目集計表'!$D$81:$AM$140,3,FALSE)),0,VLOOKUP($AX$7,'1回目集計表'!$D$81:$AM$140,3,FALSE))","v":0},{"$f":"IF(ISERROR(VLOOKUP($AX$7,'２回目集計表'!$D$81:$AM$140,3,FALSE)),0,VLOOKUP($AX$7,'２回目集計表'!$D$81:$AM$140,3,FALSE))","v":0},{"$f":"IF(ISERROR(VLOOKUP($AX$7,'３回目集計表'!$D$81:$AM$140,3,FALSE)),0,VLOOKUP($AX$7,'３回目集計表'!$D$81:$AM$140,3,FALSE))","v":0},null,null,null,null,null,null,null,null,null,null,null,15]
[null,null,null,null,null,null,null,null,null,null,null,null,null,null,null,null,null,null,{"$f":"IF(ISERROR(VLOOKUP($AX$7,'1回目集計表'!$D$6:$AM$65,2,FALSE)),0,VLOOKUP($AX$7,'1回目集計表'!$D$6:$AM$65,2,FALSE))","v":0},{"$f":"IF(ISERROR(VLOOKUP($AX$7,'２回目集計表'!$D$6:$AM$65,2,FALSE)),0,VLOOKUP($AX$7,'２回目集計表'!$D$6:$AM$65,2,FALSE))","v":0},{"$f":"IF(ISERROR(VLOOKUP($AX$7,'３回目集計表'!$D$6:$AM$65,2,FALSE)),0,VLOOKUP($AX$7,'３回目集計表'!$D$6:$AM$65,2,FALSE))","v":0},null,null,null,null,null,null,null,null,null,null,null,null,null,null,null,null,null,{"$f":"IF(ISERROR(VLOOKUP($AX$7,'1回目集計表'!$D$6:$AM$65,3,FALSE)),0,VLOOKUP($AX$7,'1回目集計表'!$D$6:$AM$65,3,FALSE))","v":0},{"$f":"IF(ISERROR(VLOOKUP($AX$7,'２回目集計表'!$D$6:$AM$65,3,FALSE)),0,VLOOKUP($AX$7,'２回目集計表'!$D$6:$AM$65,3,FALSE))","v":0},{"$f":"IF(ISERROR(VLOOKUP($AX$7,'３回目集計表'!$D$6:$AM$65,3,FALSE)),0,VLOOKUP($AX$7,'３回目集計表'!$D$6:$AM$65,3,FALSE))","v":0}]
[null,"友達との関係",null,9,"学級には，一緒にお話をしたり，遊んだりする友達がいますか。",null,null,null,null,null,null,null,null,null,null,null,null,null,{"$f":"IF(ISERROR(VLOOKUP($AX$7,'1回目集計表'!$D$81:$AM$140,10,FALSE)),0,VLOOKUP($AX$7,'1回目集計表'!$D$81:$AM$140,10,FALSE))","v":0},{"$f":"IF(ISERROR(VLOOKUP($AX$7,'２回目集計表'!$D$81:$AM$140,10,FALSE)),0,VLOOKUP($AX$7,'２回目集計表'!$D$81:$AM$140,10,FALSE))","v":0},{"$f":"IF(ISERROR(VLOOKUP($AX$7,'３回目集計表'!$D$81:$AM$140,10,FALSE)),0,VLOOKUP($AX$7,'３回目集計表'!$D$81:$AM$140,10,FALSE))","v":0},"教師との関係",null,10,"学校には，自分の気持ちを分かってくれる先生がいますか。",null,null,null,null,null,null,null,null,null,null,null,null,null,{"$f":"IF(ISERROR(VLOOKUP($AX$7,'1回目集計表'!$D$81:$AM$140,11,FALSE)),0,VLOOKUP($AX$7,'1回目集計表'!$D$81:$AM$140,11,FALSE))","v":0},{"$f":"IF(ISERROR(VLOOKUP($AX$7,'２回目集計表'!$D$81:$AM$140,11,FALSE)),0,VLOOKUP($AX$7,'２回目集計表'!$D$81:$AM$140,11,FALSE))","v":0},{"$f":"IF(ISERROR(VLOOKUP($AX$7,'３回目集計表'!$D$81:$AM$140,11,FALSE)),0,VLOOKUP($AX$7,'３回目集計表'!$D$81:$AM$140,11,FALSE))","v":0},null,null,null,null,null,null,null,null,null,null,null,16]
[null,null,null,null,null,null,null,null,null,null,null,null,null,null,null,null,null,null,{"$f":"IF(ISERROR(VLOOKUP($AX$7,'1回目集計表'!$D$6:$AM$65,10,FALSE)),0,VLOOKUP($AX$7,'1回目集計表'!$D$6:$AM$65,10,FALSE))","v":0},{"$f":"IF(ISERROR(VLOOKUP($AX$7,'２回目集計表'!$D$6:$AM$65,10,FALSE)),0,VLOOKUP($AX$7,'２回目集計表'!$D$6:$AM$65,10,FALSE))","v":0},{"$f":"IF(ISERROR(VLOOKUP($AX$7,'３回目集計表'!$D$6:$AM$65,10,FALSE)),0,VLOOKUP($AX$7,'３回目集計表'!$D$6:$AM$65,10,FALSE))","v":0},null,null,null,null,null,null,null,null,null,null,null,null,null,null,null,null,null,{"$f":"IF(ISERROR(VLOOKUP($AX$7,'1回目集計表'!$D$6:$AM$65,11,FALSE)),0,VLOOKUP($AX$7,'1回目集計表'!$D$6:$AM$65,11,FALSE))","v":0},{"$f":"IF(ISERROR(VLOOKUP($AX$7,'２回目集計表'!$D$6:$AM$65,11,FALSE)),0,VLOOKUP($AX$7,'２回目集計表'!$D$6:$AM$65,11,FALSE))","v":0},{"$f":"IF(ISERROR(VLOOKUP($AX$7,'３回目集計表'!$D$6:$AM$65,11,FALSE)),0,VLOOKUP($AX$7,'３回目集計表'!$D$6:$AM$65,11,FALSE))","v":0}]
[null,null,null,15,"学校には，自分の気持ちを話せる友達がいますか。",null,null,null,null,null,null,null,null,null,null,null,null,null,{"$f":"IF(ISERROR(VLOOKUP($AX$7,'1回目集計表'!$D$81:$AM$140,16,FALSE)),0,VLOOKUP($AX$7,'1回目集計表'!$D$81:$AM$140,16,FALSE))","v":0},{"$f":"IF(ISERROR(VLOOKUP($AX$7,'２回目集計表'!$D$81:$AM$140,16,FALSE)),0,VLOOKUP($AX$7,'２回目集計表'!$D$81:$AM$140,16,FALSE))","v":0},{"$f":"IF(ISERROR(VLOOKUP($AX$7,'３回目集計表'!$D$81:$AM$140,16,FALSE)),0,VLOOKUP($AX$7,'３回目集計表'!$D$81:$AM$140,16,FALSE))","v":0},null,null,16,"学校には，間違いや失敗をしても，きちんと理由を聞いてくれる先生がいますか。",null,null,null,null,null,null,null,null,null,null,null,null,null,{"$f":"IF(ISERROR(VLOOKUP($AX$7,'1回目集計表'!$D$81:$AM$140,17,FALSE)),0,VLOOKUP($AX$7,'1回目集計表'!$D$81:$AM$140,17,FALSE))","v":0},{"$f":"IF(ISERROR(VLOOKUP($AX$7,'２回目集計表'!$D$81:$AM$140,17,FALSE)),0,VLOOKUP($AX$7,'２回目集計表'!$D$81:$AM$140,17,FALSE))","v":0},{"$f":"IF(ISERROR(VLOOKUP($AX$7,'３回目集計表'!$D$81:$AM$140,17,FALSE)),0,VLOOKUP($AX$7,'３回目集計表'!$D$81:$AM$140,17,FALSE))","v":0},null,null,null,null,null,null,null,null,null,null,null,17]
[null,null,null,null,null,null,null,null,null,null,null,null,null,null,null,null,null,null,{"$f":"IF(ISERROR(VLOOKUP($AX$7,'1回目集計表'!$D$6:$AM$65,16,FALSE)),0,VLOOKUP($AX$7,'1回目集計表'!$D$6:$AM$65,16,FALSE))","v":0},{"$f":"IF(ISERROR(VLOOKUP($AX$7,'２回目集計表'!$D$6:$AM$65,16,FALSE)),0,VLOOKUP($AX$7,'２回目集計表'!$D$6:$AM$65,16,FALSE))","v":0},{"$f":"IF(ISERROR(VLOOKUP($AX$7,'３回目集計表'!$D$6:$AM$65,16,FALSE)),0,VLOOKUP($AX$7,'３回目集計表'!$D$6:$AM$65,16,FALSE))","v":0},null,null,null,null,null,null,null,null,null,null,null,null,null,null,null,null,null,{"$f":"IF(ISERROR(VLOOKUP($AX$7,'1回目集計表'!$D$6:$AM$65,17,FALSE)),0,VLOOKUP($AX$7,'1回目集計表'!$D$6:$AM$65,17,FALSE))","v":0},{"$f":"IF(ISERROR(VLOOKUP($AX$7,'２回目集計表'!$D$6:$AM$65,17,FALSE)),0,VLOOKUP($AX$7,'２回目集計表'!$D$6:$AM$65,17,FALSE))","v":0},{"$f":"IF(ISERROR(VLOOKUP($AX$7,'３回目集計表'!$D$6:$AM$65,17,FALSE)),0,VLOOKUP($AX$7,'３回目集計表'!$D$6:$AM$65,17,FALSE))","v":0}]
[null,null,null,21,"自分が困っているときに，お手伝いをしてくれる友達がいますか。",null,null,null,null,null,null,null,null,null,null,null,null,null,{"$f":"IF(ISERROR(VLOOKUP($AX$7,'1回目集計表'!$D$81:$AM$140,22,FALSE)),0,VLOOKUP($AX$7,'1回目集計表'!$D$81:$AM$140,22,FALSE))","v":0},{"$f":"IF(ISERROR(VLOOKUP($AX$7,'２回目集計表'!$D$81:$AM$140,22,FALSE)),0,VLOOKUP($AX$7,'２回目集計表'!$D$81:$AM$140,22,FALSE))","v":0},{"$f":"IF(ISERROR(VLOOKUP($AX$7,'３回目集計表'!$D$81:$AM$140,22,FALSE)),0,VLOOKUP($AX$7,'３回目集計表'!$D$81:$AM$140,22,FALSE))","v":0},null,null,22,"学校の先生は，ひいきをせずにみんなと同じようにあなたにお話をしてくれますか。",null,null,null,null,null,null,null,null,null,null,null,null,null,{"$f":"IF(ISERROR(VLOOKUP($AX$7,'1回目集計表'!$D$81:$AM$140,23,FALSE)),0,VLOOKUP($AX$7,'1回目集計表'!$D$81:$AM$140,23,FALSE))","v":0},{"$f":"IF(ISERROR(VLOOKUP($AX$7,'２回目集計表'!$D$81:$AM$140,23,FALSE)),0,VLOOKUP($AX$7,'２回目集計表'!$D$81:$AM$140,23,FALSE))","v":0},{"$f":"IF(ISERROR(VLOOKUP($AX$7,'３回目集計表'!$D$81:$AM$140,23,FALSE)),0,VLOOKUP($AX$7,'３回目集計表'!$D$81:$AM$140,23,FALSE))","v":0},null,null,null,null,null,null,null,null,null,null,null,18]
[null,null,null,null,null,null,null,null,null,null,null,null,null,null,null,null,null,null,{"$f":"IF(ISERROR(VLOOKUP($AX$7,'1回目集計表'!$D$6:$AM$65,22,FALSE)),0,VLOOKUP($AX$7,'1回目集計表'!$D$6:$AM$65,22,FALSE))","v":0},{"$f":"IF(ISERROR(VLOOKUP($AX$7,'２回目集計表'!$D$6:$AM$65,22,FALSE)),0,VLOOKUP($AX$7,'２回目集計表'!$D$6:$AM$65,22,FALSE))","v":0},{"$f":"IF(ISERROR(VLOOKUP($AX$7,'３回目集計表'!$D$6:$AM$65,22,FALSE)),0,VLOOKUP($AX$7,'３回目集計表'!$D$6:$AM$65,22,FALSE))","v":0},null,null,null,null,null,null,null,null,null,null,null,null,null,null,null,null,null,{"$f":"IF(ISERROR(VLOOKUP($AX$7,'1回目集計表'!$D$6:$AM$65,23,FALSE)),0,VLOOKUP($AX$7,'1回目集計表'!$D$6:$AM$65,23,FALSE))","v":0},{"$f":"IF(ISERROR(VLOOKUP($AX$7,'２回目集計表'!$D$6:$AM$65,23,FALSE)),0,VLOOKUP($AX$7,'２回目集計表'!$D$6:$AM$65,23,FALSE))","v":0},{"$f":"IF(ISERROR(VLOOKUP($AX$7,'３回目集計表'!$D$6:$AM$65,23,FALSE)),0,VLOOKUP($AX$7,'３回目集計表'!$D$6:$AM$65,23,FALSE))","v":0}]
[null,"３",null,5,"授業の時，「できた」，「わかった」と思うことがありますか。",null,null,null,null,null,null,null,null,null,null,null,null,null,{"$f":"IF(ISERROR(VLOOKUP($AX$7,'1回目集計表'!$D$81:$AM$140,6,FALSE)),0,VLOOKUP($AX$7,'1回目集計表'!$D$81:$AM$140,6,FALSE))","v":0},{"$f":"IF(ISERROR(VLOOKUP($AX$7,'２回目集計表'!$D$81:$AM$140,6,FALSE)),0,VLOOKUP($AX$7,'２回目集計表'!$D$81:$AM$140,6,FALSE))","v":0},{"$f":"IF(ISERROR(VLOOKUP($AX$7,'３回目集計表'!$D$81:$AM$140,6,FALSE)),0,VLOOKUP($AX$7,'３回目集計表'!$D$81:$AM$140,6,FALSE))","v":0},"４",null,4,"自分の係の仕事は，みんなの役に立っていると思いますか。",null,null,null,null,null,null,null,null,null,null,null,null,null,{"$f":"IF(ISERROR(VLOOKUP($AX$7,'1回目集計表'!$D$81:$AM$140,5,FALSE)),0,VLOOKUP($AX$7,'1回目集計表'!$D$81:$AM$140,5,FALSE))","v":0},{"$f":"IF(ISERROR(VLOOKUP($AX$7,'２回目集計表'!$D$81:$AM$140,5,FALSE)),0,VLOOKUP($AX$7,'２回目集計表'!$D$81:$AM$140,5,FALSE))","v":0},{"$f":"IF(ISERROR(VLOOKUP($AX$7,'３回目集計表'!$D$81:$AM$140,5,FALSE)),0,VLOOKUP($AX$7,'３回目集計表'!$D$81:$AM$140,5,FALSE))","v":0},null,null,null,null,null,null,null,null,null,null,null,19]
[null,null,null,null,null,null,null,null,null,null,null,null,null,null,null,null,null,null,{"$f":"IF(ISERROR(VLOOKUP($AX$7,'1回目集計表'!$D$6:$AM$65,6,FALSE)),0,VLOOKUP($AX$7,'1回目集計表'!$D$6:$AM$65,6,FALSE))","v":0},{"$f":"IF(ISERROR(VLOOKUP($AX$7,'２回目集計表'!$D$6:$AM$65,6,FALSE)),0,VLOOKUP($AX$7,'２回目集計表'!$D$6:$AM$65,6,FALSE))","v":0},{"$f":"IF(ISERROR(VLOOKUP($AX$7,'３回目集計表'!$D$6:$AM$65,6,FALSE)),0,VLOOKUP($AX$7,'３回目集計表'!$D$6:$AM$65,6,FALSE))","v":0},null,null,null,null,null,null,null,null,null,null,null,null,null,null,null,null,null,{"$f":"IF(ISERROR(VLOOKUP($AX$7,'1回目集計表'!$D$6:$AM$65,5,FALSE)),0,VLOOKUP($AX$7,'1回目集計表'!$D$6:$AM$65,5,FALSE))","v":0},{"$f":"IF(ISERROR(VLOOKUP($AX$7,'２回目集計表'!$D$6:$AM$65,5,FALSE)),0,VLOOKUP($AX$7,'２回目集計表'!$D$6:$AM$65,5,FALSE))","v":0},{"$f":"IF(ISERROR(VLOOKUP($AX$7,'３回目集計表'!$D$6:$AM$65,5,FALSE)),0,VLOOKUP($AX$7,'３回目集計表'!$D$6:$AM$65,5,FALSE))","v":0}]
[null,"学習意欲",null,13,"授業の時，先生のお話をよく聞いていますか。",null,null,null,null,null,null,null,null,null,null,null,null,null,{"$f":"IF(ISERROR(VLOOKUP($AX$7,'1回目集計表'!$D$81:$AM$140,14,FALSE)),0,VLOOKUP($AX$7,'1回目集計表'!$D$81:$AM$140,14,FALSE))","v":0},{"$f":"IF(ISERROR(VLOOKUP($AX$7,'２回目集計表'!$D$81:$AM$140,14,FALSE)),0,VLOOKUP($AX$7,'２回目集計表'!$D$81:$AM$140,14,FALSE))","v":0},{"$f":"IF(ISERROR(VLOOKUP($AX$7,'３回目集計表'!$D$81:$AM$140,14,FALSE)),0,VLOOKUP($AX$7,'３回目集計表'!$D$81:$AM$140,14,FALSE))","v":0},"自己肯定感",null,12,"授業や給食当番で「自分は，よく頑張ったなあ」と思うことがありますか。",null,null,null,null,null,null,null,null,null,null,null,null,null,{"$f":"IF(ISERROR(VLOOKUP($AX$7,'1回目集計表'!$D$81:$AM$140,13,FALSE)),0,VLOOKUP($AX$7,'1回目集計表'!$D$81:$AM$140,13,FALSE))","v":0},{"$f":"IF(ISERROR(VLOOKUP($AX$7,'２回目集計表'!$D$81:$AM$140,13,FALSE)),0,VLOOKUP($AX$7,'２回目集計表'!$D$81:$AM$140,13,FALSE))","v":0},{"$f":"IF(ISERROR(VLOOKUP($AX$7,'３回目集計表'!$D$81:$AM$140,13,FALSE)),0,VLOOKUP($AX$7,'３回目集計表'!$D$81:$AM$140,13,FALSE))","v":0},null,null,null,null,null,null,null,null,null,null,null,20]
[null,null,null,null,null,null,null,null,null,null,null,null,null,null,null,null,null,null,{"$f":"IF(ISERROR(VLOOKUP($AX$7,'1回目集計表'!$D$6:$AM$65,14,FALSE)),0,VLOOKUP($AX$7,'1回目集計表'!$D$6:$AM$65,14,FALSE))","v":0},{"$f":"IF(ISERROR(VLOOKUP($AX$7,'２回目集計表'!$D$6:$AM$65,14,FALSE)),0,VLOOKUP($AX$7,'２回目集計表'!$D$6:$AM$65,14,FALSE))","v":0},{"$f":"IF(ISERROR(VLOOKUP($AX$7,'３回目集計表'!$D$6:$AM$65,14,FALSE)),0,VLOOKUP($AX$7,'３回目集計表'!$D$6:$AM$65,14,FALSE))","v":0},null,null,null,null,null,null,null,null,null,null,null,null,null,null,null,null,null,{"$f":"IF(ISERROR(VLOOKUP($AX$7,'1回目集計表'!$D$6:$AM$65,13,FALSE)),0,VLOOKUP($AX$7,'1回目集計表'!$D$6:$AM$65,13,FALSE))","v":0},{"$f":"IF(ISERROR(VLOOKUP($AX$7,'２回目集計表'!$D$6:$AM$65,13,FALSE)),0,VLOOKUP($AX$7,'２回目集計表'!$D$6:$AM$65,13,FALSE))","v":0},{"$f":"IF(ISERROR(VLOOKUP($AX$7,'３回目集計表'!$D$6:$AM$65,13,FALSE)),0,VLOOKUP($AX$7,'３回目集計表'!$D$6:$AM$65,13,FALSE))","v":0}]
[null,null,null,19,"授業の時，よく発表していますか。",null,null,null,null,null,null,null,null,null,null,null,null,null,{"$f":"IF(ISERROR(VLOOKUP($AX$7,'1回目集計表'!$D$81:$AM$140,20,FALSE)),0,VLOOKUP($AX$7,'1回目集計表'!$D$81:$AM$140,20,FALSE))","v":0},{"$f":"IF(ISERROR(VLOOKUP($AX$7,'２回目集計表'!$D$81:$AM$140,20,FALSE)),0,VLOOKUP($AX$7,'２回目集計表'!$D$81:$AM$140,20,FALSE))","v":0},{"$f":"IF(ISERROR(VLOOKUP($AX$7,'３回目集計表'!$D$81:$AM$140,20,FALSE)),0,VLOOKUP($AX$7,'３回目集計表'!$D$81:$AM$140,20,FALSE))","v":0},null,null,18,"自分には，自分のいいところがあると思いますか。",null,null,null,null,null,null,null,null,null,null,null,null,null,{"$f":"IF(ISERROR(VLOOKUP($AX$7,'1回目集計表'!$D$81:$AM$140,19,FALSE)),0,VLOOKUP($AX$7,'1回目集計表'!$D$81:$AM$140,19,FALSE))","v":0},{"$f":"IF(ISERROR(VLOOKUP($AX$7,'２回目集計表'!$D$81:$AM$140,19,FALSE)),0,VLOOKUP($AX$7,'２回目集計表'!$D$81:$AM$140,19,FALSE))","v":0},{"$f":"IF(ISERROR(VLOOKUP($AX$7,'３回目集計表'!$D$81:$AM$140,19,FALSE)),0,VLOOKUP($AX$7,'３回目集計表'!$D$81:$AM$140,19,FALSE))","v":0},null,null,null,null,null,null,null,null,null,null,null,21]
[null,null,null,null,null,null,null,null,null,null,null,null,null,null,null,null,null,null,{"$f":"IF(ISERROR(VLOOKUP($AX$7,'1回目集計表'!$D$6:$AM$65,20,FALSE)),0,VLOOKUP($AX$7,'1回目集計表'!$D$6:$AM$65,20,FALSE))","v":0},{"$f":"IF(ISERROR(VLOOKUP($AX$7,'２回目集計表'!$D$6:$AM$65,20,FALSE)),0,VLOOKUP($AX$7,'２回目集計表'!$D$6:$AM$65,20,FALSE))","v":0},{"$f":"IF(ISERROR(VLOOKUP($AX$7,'３回目集計表'!$D$6:$AM$65,20,FALSE)),0,VLOOKUP($AX$7,'３回目集計表'!$D$6:$AM$65,20,FALSE))","v":0},null,null,null,null,null,null,null,null,null,null,null,null,null,null,null,null,null,{"$f":"IF(ISERROR(VLOOKUP($AX$7,'1回目集計表'!$D$6:$AM$65,19,FALSE)),0,VLOOKUP($AX$7,'1回目集計表'!$D$6:$AM$65,19,FALSE))","v":0},{"$f":"IF(ISERROR(VLOOKUP($AX$7,'２回目集計表'!$D$6:$AM$65,19,FALSE)),0,VLOOKUP($AX$7,'２回目集計表'!$D$6:$AM$65,19,FALSE))","v":0},{"$f":"IF(ISERROR(VLOOKUP($AX$7,'３回目集計表'!$D$6:$AM$65,19,FALSE)),0,VLOOKUP($AX$7,'３回目集計表'!$D$6:$AM$65,19,FALSE))","v":0}]
[null,null,null,25,"授業で習ったことができるようになろうと頑張っていますか。",null,null,null,null,null,null,null,null,null,null,null,null,null,{"$f":"IF(ISERROR(VLOOKUP($AX$7,'1回目集計表'!$D$81:$AM$140,26,FALSE)),0,VLOOKUP($AX$7,'1回目集計表'!$D$81:$AM$140,26,FALSE))","v":0},{"$f":"IF(ISERROR(VLOOKUP($AX$7,'２回目集計表'!$D$81:$AM$140,26,FALSE)),0,VLOOKUP($AX$7,'２回目集計表'!$D$81:$AM$140,26,FALSE))","v":0},{"$f":"IF(ISERROR(VLOOKUP($AX$7,'３回目集計表'!$D$81:$AM$140,26,FALSE)),0,VLOOKUP($AX$7,'３回目集計表'!$D$81:$AM$140,26,FALSE))","v":0},null,null,24,"他の人から好かれていると思いますか。",null,null,null,null,null,null,null,null,null,null,null,null,null,{"$f":"IF(ISERROR(VLOOKUP($AX$7,'1回目集計表'!$D$81:$AM$140,25,FALSE)),0,VLOOKUP($AX$7,'1回目集計表'!$D$81:$AM$140,25,FALSE))","v":0},{"$f":"IF(ISERROR(VLOOKUP($AX$7,'２回目集計表'!$D$81:$AM$140,25,FALSE)),0,VLOOKUP($AX$7,'２回目集計表'!$D$81:$AM$140,25,FALSE))","v":0},{"$f":"IF(ISERROR(VLOOKUP($AX$7,'３回目集計表'!$D$81:$AM$140,25,FALSE)),0,VLOOKUP($AX$7,'３回目集計表'!$D$81:$AM$140,25,FALSE))","v":0},null,null,null,null,null,null,null,null,null,null,null,22]
[null,null,null,null,null,null,null,null,null,null,null,null,null,null,null,null,null,null,{"$f":"IF(ISERROR(VLOOKUP($AX$7,'1回目集計表'!$D$6:$AM$65,26,FALSE)),0,VLOOKUP($AX$7,'1回目集計表'!$D$6:$AM$65,26,FALSE))","v":0},{"$f":"IF(ISERROR(VLOOKUP($AX$7,'２回目集計表'!$D$6:$AM$65,26,FALSE)),0,VLOOKUP($AX$7,'２回目集計表'!$D$6:$AM$65,26,FALSE))","v":0},{"$f":"IF(ISERROR(VLOOKUP($AX$7,'３回目集計表'!$D$6:$AM$65,26,FALSE)),0,VLOOKUP($AX$7,'３回目集計表'!$D$6:$AM$65,26,FALSE))","v":0},null,null,null,null,null,null,null,null,null,null,null,null,null,null,null,null,null,{"$f":"IF(ISERROR(VLOOKUP($AX$7,'1回目集計表'!$D$6:$AM$65,25,FALSE)),0,VLOOKUP($AX$7,'1回目集計表'!$D$6:$AM$65,25,FALSE))","v":0},{"$f":"IF(ISERROR(VLOOKUP($AX$7,'２回目集計表'!$D$6:$AM$65,25,FALSE)),0,VLOOKUP($AX$7,'２回目集計表'!$D$6:$AM$65,25,FALSE))","v":0},{"$f":"IF(ISERROR(VLOOKUP($AX$7,'３回目集計表'!$D$6:$AM$65,25,FALSE)),0,VLOOKUP($AX$7,'３回目集計表'!$D$6:$AM$65,25,FALSE))","v":0}]
[null,"５",null,6,"悲しい気持ちになることがありますか。",null,null,null,null,null,null,null,null,null,null,null,null,null,{"$f":"IF(ISERROR(VLOOKUP($AX$7,'1回目集計表'!$D$81:$AM$140,7,FALSE)),0,VLOOKUP($AX$7,'1回目集計表'!$D$81:$AM$140,7,FALSE))","v":0},{"$f":"IF(ISERROR(VLOOKUP($AX$7,'２回目集計表'!$D$81:$AM$140,7,FALSE)),0,VLOOKUP($AX$7,'２回目集計表'!$D$81:$AM$140,7,FALSE))","v":0},{"$f":"IF(ISERROR(VLOOKUP($AX$7,'３回目集計表'!$D$81:$AM$140,7,FALSE)),0,VLOOKUP($AX$7,'３回目集計表'!$D$81:$AM$140,7,FALSE))","v":0},"６",null,3,"学級の中にいると，楽しい気持ちになりますか。",null,null,null,null,null,null,null,null,null,null,null,null,null,{"$f":"IF(ISERROR(VLOOKUP($AX$7,'1回目集計表'!$D$81:$AM$140,4,FALSE)),0,VLOOKUP($AX$7,'1回目集計表'!$D$81:$AM$140,4,FALSE))","v":0},{"$f":"IF(ISERROR(VLOOKUP($AX$7,'２回目集計表'!$D$81:$AM$140,4,FALSE)),0,VLOOKUP($AX$7,'２回目集計表'!$D$81:$AM$140,4,FALSE))","v":0},{"$f":"IF(ISERROR(VLOOKUP($AX$7,'３回目集計表'!$D$81:$AM$140,4,FALSE)),0,VLOOKUP($AX$7,'３回目集計表'!$D$81:$AM$140,4,FALSE))","v":0},null,null,null,null,null,null,null,null,null,null,null,23]
[null,null,null,null,null,null,null,null,null,null,null,null,null,null,null,null,null,null,{"$f":"IF(ISERROR(VLOOKUP($AX$7,'1回目集計表'!$D$6:$AM$65,7,FALSE)),0,VLOOKUP($AX$7,'1回目集計表'!$D$6:$AM$65,7,FALSE))","v":0},{"$f":"IF(ISERROR(VLOOKUP($AX$7,'２回目集計表'!$D$6:$AM$65,7,FALSE)),0,VLOOKUP($AX$7,'２回目集計表'!$D$6:$AM$65,7,FALSE))","v":0},{"$f":"IF(ISERROR(VLOOKUP($AX$7,'３回目集計表'!$D$6:$AM$65,7,FALSE)),0,VLOOKUP($AX$7,'３回目集計表'!$D$6:$AM$65,7,FALSE))","v":0},null,null,null,null,null,null,null,null,null,null,null,null,null,null,null,null,null,{"$f":"IF(ISERROR(VLOOKUP($AX$7,'1回目集計表'!$D$6:$AM$65,4,FALSE)),0,VLOOKUP($AX$7,'1回目集計表'!$D$6:$AM$65,4,FALSE))","v":0},{"$f":"IF(ISERROR(VLOOKUP($AX$7,'２回目集計表'!$D$6:$AM$65,4,FALSE)),0,VLOOKUP($AX$7,'２回目集計表'!$D$6:$AM$65,4,FALSE))","v":0},{"$f":"IF(ISERROR(VLOOKUP($AX$7,'３回目集計表'!$D$6:$AM$65,4,FALSE)),0,VLOOKUP($AX$7,'３回目集計表'!$D$6:$AM$65,4,FALSE))","v":0}]
[null,"心身の状態",null,14,"お腹が痛くなるときがありますか。",null,null,null,null,null,null,null,null,null,null,null,null,null,{"$f":"IF(ISERROR(VLOOKUP($AX$7,'1回目集計表'!$D$81:$AM$140,15,FALSE)),0,VLOOKUP($AX$7,'1回目集計表'!$D$81:$AM$140,15,FALSE))","v":0},{"$f":"IF(ISERROR(VLOOKUP($AX$7,'２回目集計表'!$D$81:$AM$140,15,FALSE)),0,VLOOKUP($AX$7,'２回目集計表'!$D$81:$AM$140,15,FALSE))","v":0},{"$f":"IF(ISERROR(VLOOKUP($AX$7,'３回目集計表'!$D$81:$AM$140,15,FALSE)),0,VLOOKUP($AX$7,'３回目集計表'!$D$81:$AM$140,15,FALSE))","v":0},"学級集団に\nおける適応感",null,11,"学級のみんなと一緒にいるのは，楽しいですか。",null,null,null,null,null,null,null,null,null,null,null,null,null,{"$f":"IF(ISERROR(VLOOKUP($AX$7,'1回目集計表'!$D$81:$AM$140,12,FALSE)),0,VLOOKUP($AX$7,'1回目集計表'!$D$81:$AM$140,12,FALSE))","v":0},{"$f":"IF(ISERROR(VLOOKUP($AX$7,'２回目集計表'!$D$81:$AM$140,12,FALSE)),0,VLOOKUP($AX$7,'２回目集計表'!$D$81:$AM$140,12,FALSE))","v":0},{"$f":"IF(ISERROR(VLOOKUP($AX$7,'３回目集計表'!$D$81:$AM$140,12,FALSE)),0,VLOOKUP($AX$7,'３回目集計表'!$D$81:$AM$140,12,FALSE))","v":0},null,null,null,null,null,null,null,null,null,null,null,24]
[null,null,null,null,null,null,null,null,null,null,null,null,null,null,null,null,null,null,{"$f":"IF(ISERROR(VLOOKUP($AX$7,'1回目集計表'!$D$6:$AM$65,15,FALSE)),0,VLOOKUP($AX$7,'1回目集計表'!$D$6:$AM$65,15,FALSE))","v":0},{"$f":"IF(ISERROR(VLOOKUP($AX$7,'２回目集計表'!$D$6:$AM$65,15,FALSE)),0,VLOOKUP($AX$7,'２回目集計表'!$D$6:$AM$65,15,FALSE))","v":0},{"$f":"IF(ISERROR(VLOOKUP($AX$7,'３回目集計表'!$D$6:$AM$65,15,FALSE)),0,VLOOKUP($AX$7,'３回目集計表'!$D$6:$AM$65,15,FALSE))","v":0},null,null,null,null,null,null,null,null,null,null,null,null,null,null,null,null,null,{"$f":"IF(ISERROR(VLOOKUP($AX$7,'1回目集計表'!$D$6:$AM$65,12,FALSE)),0,VLOOKUP($AX$7,'1回目集計表'!$D$6:$AM$65,12,FALSE))","v":0},{"$f":"IF(ISERROR(VLOOKUP($AX$7,'２回目集計表'!$D$6:$AM$65,12,FALSE)),0,VLOOKUP($AX$7,'２回目集計表'!$D$6:$AM$65,12,FALSE))","v":0},{"$f":"IF(ISERROR(VLOOKUP($AX$7,'３回目集計表'!$D$6:$AM$65,12,FALSE)),0,VLOOKUP($AX$7,'３回目集計表'!$D$6:$AM$65,12,FALSE))","v":0}]
[null,null,null,20,"頭が痛くなるときがありますか。",null,null,null,null,null,null,null,null,null,null,null,null,null,{"$f":"IF(ISERROR(VLOOKUP($AX$7,'1回目集計表'!$D$81:$AM$140,21,FALSE)),0,VLOOKUP($AX$7,'1回目集計表'!$D$81:$AM$140,21,FALSE))","v":0},{"$f":"IF(ISERROR(VLOOKUP($AX$7,'２回目集計表'!$D$81:$AM$140,21,FALSE)),0,VLOOKUP($AX$7,'２回目集計表'!$D$81:$AM$140,21,FALSE))","v":0},{"$f":"IF(ISERROR(VLOOKUP($AX$7,'３回目集計表'!$D$81:$AM$140,21,FALSE)),0,VLOOKUP($AX$7,'３回目集計表'!$D$81:$AM$140,21,FALSE))","v":0},null,null,17,"自分は，この学級でよかったと思いますか。",null,null,null,null,null,null,null,null,null,null,null,null,null,{"$f":"IF(ISERROR(VLOOKUP($AX$7,'1回目集計表'!$D$81:$AM$140,18,FALSE)),0,VLOOKUP($AX$7,'1回目集計表'!$D$81:$AM$140,18,FALSE))","v":0},{"$f":"IF(ISERROR(VLOOKUP($AX$7,'２回目集計表'!$D$81:$AM$140,18,FALSE)),0,VLOOKUP($AX$7,'２回目集計表'!$D$81:$AM$140,18,FALSE))","v":0},{"$f":"IF(ISERROR(VLOOKUP($AX$7,'３回目集計表'!$D$81:$AM$140,18,FALSE)),0,VLOOKUP($AX$7,'３回目集計表'!$D$81:$AM$140,18,FALSE))","v":0},null,null,null,null,null,null,null,null,null,null,null,25]
[null,null,null,null,null,null,null,null,null,null,null,null,null,null,null,null,null,null,{"$f":"IF(ISERROR(VLOOKUP($AX$7,'1回目集計表'!$D$6:$AM$65,21,FALSE)),0,VLOOKUP($AX$7,'1回目集計表'!$D$6:$AM$65,21,FALSE))","v":0},{"$f":"IF(ISERROR(VLOOKUP($AX$7,'２回目集計表'!$D$6:$AM$65,21,FALSE)),0,VLOOKUP($AX$7,'２回目集計表'!$D$6:$AM$65,21,FALSE))","v":0},{"$f":"IF(ISERROR(VLOOKUP($AX$7,'３回目集計表'!$D$6:$AM$65,21,FALSE)),0,VLOOKUP($AX$7,'３回目集計表'!$D$6:$AM$65,21,FALSE))","v":0},null,null,null,null,null,null,null,null,null,null,null,null,null,null,null,null,null,{"$f":"IF(ISERROR(VLOOKUP($AX$7,'1回目集計表'!$D$6:$AM$65,18,FALSE)),0,VLOOKUP($AX$7,'1回目集計表'!$D$6:$AM$65,18,FALSE))","v":0},{"$f":"IF(ISERROR(VLOOKUP($AX$7,'２回目集計表'!$D$6:$AM$65,18,FALSE)),0,VLOOKUP($AX$7,'２回目集計表'!$D$6:$AM$65,18,FALSE))","v":0},{"$f":"IF(ISERROR(VLOOKUP($AX$7,'３回目集計表'!$D$6:$AM$65,18,FALSE)),0,VLOOKUP($AX$7,'３回目集計表'!$D$6:$AM$65,18,FALSE))","v":0}]
[null,null,null,26,"気分が悪くなることがありますか。",null,null,null,null,null,null,null,null,null,null,null,null,null,{"$f":"IF(ISERROR(VLOOKUP($AX$7,'1回目集計表'!$D$81:$AM$140,27,FALSE)),0,VLOOKUP($AX$7,'1回目集計表'!$D$81:$AM$140,27,FALSE))","v":0},{"$f":"IF(ISERROR(VLOOKUP($AX$7,'２回目集計表'!$D$81:$AM$140,27,FALSE)),0,VLOOKUP($AX$7,'２回目集計表'!$D$81:$AM$140,27,FALSE))","v":0},{"$f":"IF(ISERROR(VLOOKUP($AX$7,'３回目集計表'!$D$81:$AM$140,27,FALSE)),0,VLOOKUP($AX$7,'３回目集計表'!$D$81:$AM$140,27,FALSE))","v":0},null,null,23,"学級では，安心して過ごすことができますか。",null,null,null,null,null,null,null,null,null,null,null,null,null,{"$f":"IF(ISERROR(VLOOKUP($AX$7,'1回目集計表'!$D$81:$AM$140,24,FALSE)),0,VLOOKUP($AX$7,'1回目集計表'!$D$81:$AM$140,24,FALSE))","v":0},{"$f":"IF(ISERROR(VLOOKUP($AX$7,'２回目集計表'!$D$81:$AM$140,24,FALSE)),0,VLOOKUP($AX$7,'２回目集計表'!$D$81:$AM$140,24,FALSE))","v":0},{"$f":"IF(ISERROR(VLOOKUP($AX$7,'３回目集計表'!$D$81:$AM$140,24,FALSE)),0,VLOOKUP($AX$7,'３回目集計表'!$D$81:$AM$140,24,FALSE))","v":0},null,null,null,null,null,null,null,null,null,null,null,26]
[null,null,null,null,null,null,null,null,null,null,null,null,null,null,null,null,null,null,{"$f":"IF(ISERROR(VLOOKUP($AX$7,'1回目集計表'!$D$6:$AM$65,27,FALSE)),0,VLOOKUP($AX$7,'1回目集計表'!$D$6:$AM$65,27,FALSE))","v":0},{"$f":"IF(ISERROR(VLOOKUP($AX$7,'２回目集計表'!$D$6:$AM$65,27,FALSE)),0,VLOOKUP($AX$7,'２回目集計表'!$D$6:$AM$65,27,FALSE))","v":0},{"$f":"IF(ISERROR(VLOOKUP($AX$7,'３回目集計表'!$D$6:$AM$65,27,FALSE)),0,VLOOKUP($AX$7,'３回目集計表'!$D$6:$AM$65,27,FALSE))","v":0},null,null,null,null,null,null,null,null,null,null,null,null,null,null,null,null,null,{"$f":"IF(ISERROR(VLOOKUP($AX$7,'1回目集計表'!$D$6:$AM$65,24,FALSE)),0,VLOOKUP($AX$7,'1回目集計表'!$D$6:$AM$65,24,FALSE))","v":0},{"$f":"IF(ISERROR(VLOOKUP($AX$7,'２回目集計表'!$D$6:$AM$65,24,FALSE)),0,VLOOKUP($AX$7,'２回目集計表'!$D$6:$AM$65,24,FALSE))","v":0},{"$f":"IF(ISERROR(VLOOKUP($AX$7,'３回目集計表'!$D$6:$AM$65,24,FALSE)),0,VLOOKUP($AX$7,'３回目集計表'!$D$6:$AM$65,24,FALSE))","v":0}]
[]
[null,"いじめ",null,7,"友達からものを隠されたり，体を叩かれたりして嫌な気持ちになることがありますか。",null,null,null,null,null,null,null,null,null,null,null,null,null,{"$f":"IF(ISERROR(VLOOKUP($AX$7,'1回目集計表'!$D$81:$AM$140,8,FALSE)),0,VLOOKUP($AX$7,'1回目集計表'!$D$81:$AM$140,8,FALSE))","v":0},{"$f":"IF(ISERROR(VLOOKUP($AX$7,'２回目集計表'!$D$81:$AM$140,8,FALSE)),0,VLOOKUP($AX$7,'２回目集計表'!$D$81:$AM$140,8,FALSE))","v":0},{"$f":"IF(ISERROR(VLOOKUP($AX$7,'３回目集計表'!$D$81:$AM$140,8,FALSE)),0,VLOOKUP($AX$7,'３回目集計表'!$D$81:$AM$140,8,FALSE))","v":0},null,"回答は子供からのメッセージです",null,null,null,null,null,null,null,null,null,null,null,null,null,null,null,"1回目","2回目","3回目",null,null,null,null,null,null,null,null,null,null,null,27]
[null,null,null,null,null,null,null,null,null,null,null,null,null,null,null,null,null,null,{"$f":"IF(ISERROR(VLOOKUP($AX$7,'1回目集計表'!$D$6:$AM$65,8,FALSE)),0,VLOOKUP($AX$7,'1回目集計表'!$D$6:$AM$65,8,FALSE))","v":0},{"$f":"IF(ISERROR(VLOOKUP($AX$7,'２回目集計表'!$D$6:$AM$65,8,FALSE)),0,VLOOKUP($AX$7,'２回目集計表'!$D$6:$AM$65,8,FALSE))","v":0},{"$f":"IF(ISERROR(VLOOKUP($AX$7,'３回目集計表'!$D$6:$AM$65,8,FALSE)),0,VLOOKUP($AX$7,'３回目集計表'!$D$6:$AM$65,8,FALSE))","v":0}]
[null,null,null,27,"友達から悪口を言われたり，無視をされたりして嫌な気持ちになることがありますか。",null,null,null,null,null,null,null,null,null,null,null,null,null,{"$f":"IF(ISERROR(VLOOKUP($AX$7,'1回目集計表'!$D$81:$AM$140,28,FALSE)),0,VLOOKUP($AX$7,'1回目集計表'!$D$81:$AM$140,28,FALSE))","v":0},{"$f":"IF(ISERROR(VLOOKUP($AX$7,'２回目集計表'!$D$81:$AM$140,28,FALSE)),0,VLOOKUP($AX$7,'２回目集計表'!$D$81:$AM$140,28,FALSE))","v":0},{"$f":"IF(ISERROR(VLOOKUP($AX$7,'３回目集計表'!$D$81:$AM$140,28,FALSE)),0,VLOOKUP($AX$7,'３回目集計表'!$D$81:$AM$140,28,FALSE))","v":0},null,"😄",null,"＝４ 　‟大丈夫です”",null,null,null,null,null,null,null,null,null,null,null,null,null,{"$f":"COUNTIF($S$19:$S$50,\"😄\")+COUNTIF($AM$19:$AM$41,\"😄\")","v":0},{"$f":"COUNTIF($T$19:$T$50,\"😄\")+COUNTIF($AN$19:$AN$41,\"😄\")","v":0},{"$f":"COUNTIF($U$19:$U$50,\"😄\")+COUNTIF($AO$19:$AO$41,\"😄\")","v":0},null,null,null,null,null,null,null,null,null,null,null,28]
[null,null,null,null,null,null,null,null,null,null,null,null,null,null,null,null,null,null,{"$f":"IF(ISERROR(VLOOKUP($AX$7,'1回目集計表'!$D$6:$AM$65,28,FALSE)),0,VLOOKUP($AX$7,'1回目集計表'!$D$6:$AM$65,28,FALSE))","v":0},{"$f":"IF(ISERROR(VLOOKUP($AX$7,'２回目集計表'!$D$6:$AM$65,28,FALSE)),0,VLOOKUP($AX$7,'２回目集計表'!$D$6:$AM$65,28,FALSE))","v":0},{"$f":"IF(ISERROR(VLOOKUP($AX$7,'３回目集計表'!$D$6:$AM$65,28,FALSE)),0,VLOOKUP($AX$7,'３回目集計表'!$D$6:$AM$65,28,FALSE))","v":0}]
[null,null,null,8,"友達がものを隠されたり，体を叩かれたりしたことを見たり聞いたりしたことがありますか。",null,null,null,null,null,null,null,null,null,null,null,null,null,{"$f":"IF(ISERROR(VLOOKUP($AX$7,'1回目集計表'!$D$81:$AM$140,9,FALSE)),0,VLOOKUP($AX$7,'1回目集計表'!$D$81:$AM$140,9,FALSE))","v":0},{"$f":"IF(ISERROR(VLOOKUP($AX$7,'２回目集計表'!$D$81:$AM$140,9,FALSE)),0,VLOOKUP($AX$7,'２回目集計表'!$D$81:$AM$140,9,FALSE))","v":0},{"$f":"IF(ISERROR(VLOOKUP($AX$7,'３回目集計表'!$D$81:$AM$140,9,FALSE)),0,VLOOKUP($AX$7,'３回目集計表'!$D$81:$AM$140,9,FALSE))","v":0},null,"😊",null,"＝３ 　‟どちらかというと大丈夫です”",null,null,null,null,null,null,null,null,null,null,null,null,null,{"$f":"COUNTIF($S$19:$S$50,\"😊\")+COUNTIF($AM$19:$AM$41,\"😊\")","v":0},{"$f":"COUNTIF($T$19:$T$50,\"😊\")+COUNTIF($AN$19:$AN$41,\"😊\")","v":0},{"$f":"COUNTIF($U$19:$U$50,\"😊\")+COUNTIF($AO$19:$AO$41,\"😊\")","v":0},null,null,null,null,null,null,null,null,null,null,null,29]
[null,null,null,null,null,null,null,null,null,null,null,null,null,null,null,null,null,null,{"$f":"IF(ISERROR(VLOOKUP($AX$7,'1回目集計表'!$D$6:$AM$65,9,FALSE)),0,VLOOKUP($AX$7,'1回目集計表'!$D$6:$AM$65,9,FALSE))","v":0},{"$f":"IF(ISERROR(VLOOKUP($AX$7,'２回目集計表'!$D$6:$AM$65,9,FALSE)),0,VLOOKUP($AX$7,'２回目集計表'!$D$6:$AM$65,9,FALSE))","v":0},{"$f":"IF(ISERROR(VLOOKUP($AX$7,'３回目集計表'!$D$6:$AM$65,9,FALSE)),0,VLOOKUP($AX$7,'３回目集計表'!$D$6:$AM$65,9,FALSE))","v":0}]
[null,null,null,28,"友達が悪口を言われたり，無視をされたりしたことを見たり聞いたりしたことがありますか。",null,null,null,null,null,null,null,null,null,null,null,null,null,{"$f":"IF(ISERROR(VLOOKUP($AX$7,'1回目集計表'!$D$81:$AM$140,29,FALSE)),0,VLOOKUP($AX$7,'1回目集計表'!$D$81:$AM$140,29,FALSE))","v":0},{"$f":"IF(ISERROR(VLOOKUP($AX$7,'２回目集計表'!$D$81:$AM$140,29,FALSE)),0,VLOOKUP($AX$7,'２回目集計表'!$D$81:$AM$140,29,FALSE))","v":0},{"$f":"IF(ISERROR(VLOOKUP($AX$7,'３回目集計表'!$D$81:$AM$140,29,FALSE)),0,VLOOKUP($AX$7,'３回目集計表'!$D$81:$AM$140,29,FALSE))","v":0},null,"😢",null,"＝２ 　‟どちらかというと困っています”",null,null,null,null,null,null,null,null,null,null,null,null,null,{"$f":"COUNTIF($S$19:$S$50,\"😢\")+COUNTIF($AM$19:$AM$41,\"😢\")","v":0},{"$f":"COUNTIF($T$19:$T$50,\"😢\")+COUNTIF($AN$19:$AN$41,\"😢\")","v":0},{"$f":"COUNTIF($U$19:$U$50,\"😢\")+COUNTIF($AO$19:$AO$41,\"😢\")","v":0},null,null,null,null,null,null,null,null,null,null,null,30]
[null,null,null,null,null,null,null,null,null,null,null,null,null,null,null,null,null,null,{"$f":"IF(ISERROR(VLOOKUP($AX$7,'1回目集計表'!$D$6:$AM$65,29,FALSE)),0,VLOOKUP($AX$7,'1回目集計表'!$D$6:$AM$65,29,FALSE))","v":0},{"$f":"IF(ISERROR(VLOOKUP($AX$7,'２回目集計表'!$D$6:$AM$65,29,FALSE)),0,VLOOKUP($AX$7,'２回目集計表'!$D$6:$AM$65,29,FALSE))","v":0},{"$f":"IF(ISERROR(VLOOKUP($AX$7,'３回目集計表'!$D$6:$AM$65,29,FALSE)),0,VLOOKUP($AX$7,'３回目集計表'!$D$6:$AM$65,29,FALSE))","v":0}]
[null,null,"（　いじめの項目はレーダーチャートに表示されません　）",null,null,null,null,null,null,null,null,null,null,null,null,null,null,null,null,null,null,null,"😭",null,"＝１ 　‟困っています”",null,null,null,null,null,null,null,null,null,null,null,null,null,{"$f":"COUNTIF($S$19:$S$50,\"😭\")+COUNTIF($AM$19:$AM$41,\"😭\")","v":0},{"$f":"COUNTIF($T$19:$T$50,\"😭\")+COUNTIF($AN$19:$AN$41,\"😭\")","v":0},{"$f":"COUNTIF($U$19:$U$50,\"😭\")+COUNTIF($AO$19:$AO$41,\"😭\")","v":0},null,null,null,null,null,null,null,null,null,null,null,31]
[null,null,"「心身の状態」と「いじめ」は逆転項目になります。",null,null,null,null,null,null,null,null,null,null,null,null,null,null,null,null,null,null,null,null,null,null,null,null,null,null,null,null,null,null,null,null,null,null,null,"（　合計　）",null,null,null,null,null,null,null,null,null,null,null,null,null,32]
[null,null,"（例：回答「４」⇒個票「１」，回答「２）⇒個票「３」）",null,null,null,null,null,null,null,null,null,null,null,null,null,null,null,null,null,null,null,null,null,null,null,null,null,null,null,null,null,null,null,null,null,null,null,null,null,null,null,null,null,null,null,null,null,null,null,null,null,33]
[null,null,"ココの枠内で「😢」「😭」が表示されている場合，いじめが起きていますので，すぐに学校全体で対応してください。",null,null,null,null,null,null,null,null,null,null,null,null,null,null,null,null,null,null,null,null,null,null,null,null,null,null,null,null,null,null,null,null,null,null,null,null,null,null,null,null,null,null,null,null,null,null,null,null,null,34]
[null,null,null,null,null,null,null,null,null,null,null,null,null,null,null,null,null,null,null,null,null,null,null,null,null,null,null,null,null,null,null,null,null,null,null,null,null,null,null,null,null,null,null,null,null,null,null,null,null,null,null,null,35]
[null,null,null,null,null,null,null,null,null,null,null,null,null,null,null,null,null,null,null,null,null,null,null,null,null,null,null,null,null,null,null,null,null,null,null,null,null,null,null,null,null,null,null,null,null,null,null,null,null,null,null,null,36]
[null,null,null,null,null,null,null,null,null,null,null,null,null,null,null,null,null,null,null,null,null,null,null,null,null,null,null,null,null,null,null,null,null,null,null,null,null,null,null,null,null,null,null,null,null,null,null,null,null,null,null,null,37]
[null,null,null,null,null,null,null,null,null,null,null,null,null,null,null,null,null,null,null,null,null,null,null,null,null,null,null,null,null,null,null,null,null,null,null,null,null,null,null,null,null,null,null,null,null,null,null,null,null,null,null,null,38]
[null,null,null,null,null,null,null,null,null,null,null,null,null,null,null,null,null,null,null,null,null,null,null,null,null,null,null,null,null,null,null,null,null,null,null,null,null,null,null,null,null,null,null,null,null,null,null,null,null,null,null,null,39]
[null,null,null,null,null,null,null,null,null,null,null,null,null,null,null,null,null,null,null,null,null,null,null,null,null,null,null,null,null,null,null,null,null,null,null,null,null,null,null,null,null,null,null,null,null,null,null,null,null,null,null,null,40]
[null,null,null,null,null,null,null,null,null,null,null,null,null,null,null,null,null,null,null,null,null,null,null,null,null,null,null,null,null,null,null,null,null,null,null,null,null,null,null,null,null,null,null,null,null,null,null,null,null,null,null,null,41]
[null,null,null,null,null,null,null,null,null,null,null,null,null,null,null,null,null,null,null,null,null,null,null,null,null,null,null,null,null,null,null,null,null,null,null,null,null,null,null,null,null,null,null,null,null,null,null,null,null,null,null,null,42]
[null,null,null,null,null,null,null,null,null,null,null,null,null,null,null,null,null,null,null,null,null,null,null,null,null,null,null,null,null,null,null,null,null,null,null,null,null,null,null,null,null,null,null,null,null,null,null,null,null,null,null,null,43]
[null,null,null,null,null,null,null,null,null,null,null,null,null,null,null,null,null,null,null,null,null,null,null,null,null,null,null,null,null,null,null,null,null,null,null,null,null,null,null,null,null,null,null,null,null,null,null,null,null,null,null,null,44]
[null,null,null,null,null,null,null,null,null,null,null,null,null,null,null,null,null,null,null,null,null,null,null,null,null,null,null,null,null,null,null,null,null,null,null,null,null,null,null,null,null,null,null,null,null,null,null,null,null,null,null,null,45]

{"sheet":"学級票（度数分布票）","index":2,"n_rows":106,"n_cols":33,"rows_kept":106,"cut":false,"hidden":false,"merged":[[100,16,101,16],[100,22,101,22],[100,28,101,28],[102,16,103,16],[102,22,103,22],[102,28,103,28],[96,16,97,16],[96,22,97,22],[96,28,97,28],[98,16,99,16],[98,22,99,22],[98,28,99,28],[90,22,91,22],[90,28,91,28],[78,28,79,28],[84,16,85,16],[84,22,85,22],[84,28,85,28],[86,16,87,16],[86,22,87,22],[86,28,87,28],[64,16,65,16],[64,22,65,22],[64,28,65,28],[66,16,67,16],[66,22,67,22],[66,28,67,28],[88,16,89,16],[88,22,89,22],[88,28,89,28],[60,16,61,16],[60,22,61,22],[60,28,61,28],[62,16,63,16],[62,22,63,22],[62,28,63,28],[52,16,53,16],[52,22,53,22],[52,28,53,28],[54,16,55,16],[54,22,55,22],[54,28,55,28],[48,16,49,16],[48,22,49,22],[48,28,49,28],[50,16,51,16],[50,22,51,22],[50,28,51,28],[40,16,41,16],[40,22,41,22],[40,28,41,28],[42,16,43,16],[42,22,43,22],[42,28,43,28],[45,22,46,22],[45,23,45,26],[45,28,46,28],[36,16,37,16],[36,22,37,22],[36,28,37,28],[38,16,39,16],[38,22,39,22],[38,28,39,28],[81,28,82,28],[81,29,81,32],[83,1,83,2],[83,3,83,14],[69,16,70,16],[69,17,69,20],[69,22,70,22],[69,23,69,26],[69,28,70,28],[69,29,69,32],[57,16,58,16],[57,17,57,20],[57,22,58,22],[57,23,57,26],[57,28,58,28],[57,29,57,32],[45,16,46,16],[45,17,45,20],[93,16,94,16],[93,17,93,20],[93,22,94,22],[93,23,93,26],[93,28,94,28],[93,29,93,32],[71,1,71,2],[71,3,71,14],[81,16,82,16],[81,17,81,20],[81,22,82,22],[81,23,81,26],[72,16,73,16],[72,22,73,22],[78,16,79,16],[78,22,79,22],[72,28,73,28],[74,16,75,16],[74,22,75,22],[74,28,75,28],[76,16,77,16],[76,22,77,22],[76,28,77,28],[90,16,91,16],[72,3,73,3],[72,4,73,14],[74,3,75,3],[74,4,75,14],[76,3,77,3],[76,4,77,14],[45,29,45,32],[98,3,99,3],[98,4,99,14],[88,3,89,3],[88,4,89,14],[90,3,91,3],[90,4,91,14],[96,3,97,3],[96,4,97,14],[62,3,63,3],[62,4,63,14],[64,3,65,3],[64,4,65,14],[66,3,67,3],[66,4,67,14],[52,3,53,3],[52,4,53,14],[54,3,55,3],[96,1,103,2],[95,1,95,2],[95,3,95,14],[78,3,79,3],[78,4,79,14],[84,3,85,3],[84,4,85,14],[86,3,87,3],[86,4,87,14],[100,3,101,3],[100,4,101,14],[102,3,103,3],[102,4,103,14],[24,1,25,2],[26,1,31,2],[60,3,61,3],[60,4,61,14],[59,1,59,2],[59,3,59,14],[42,3,43,3],[42,4,43,14],[48,3,49,3],[48,4,49,14],[50,3,51,3],[50,4,51,14],[47,1,47,2],[47,3,47,14],[36,3,37,3],[36,4,37,14],[38,3,39,3],[38,4,39,14],[40,3,41,3],[40,4,41,14],[36,1,37,2],[38,1,43,2],[48,1,49,2],[54,4,55,14],[33,17,33,20],[33,22,34,22],[33,23,33,26],[33,28,34,28],[33,29,33,32],[35,1,35,2],[35,3,35,14],[28,22,29,22],[30,22,31,22],[33,16,34,16],[28,28,29,28],[30,28,31,28],[28,3,29,3],[28,4,29,14],[30,3,31,3],[30,4,31,14],[28,16,29,16],[30,16,31,16],[21,23,21,26],[21,28,22,28],[21,29,21,32],[26,3,27,3],[26,4,27,14],[24,16,25,16],[26,16,27,16],[24,22,25,22],[26,22,27,22],[21,17,21,20],[21,16,22,16],[24,28,25,28],[26,28,27,28],[24,3,25,3],[24,4,25,14],[2,16,2,22],[21,22,22,22],[9,1,10,1],[11,1,12,1],[13,1,14,1],[15,1,16,1],[17,1,18,1],[7,2,8,11],[9,2,10,11],[11,2,12,11],[13,2,14,11],[15,2,16,11],[50,1,55,2],[60,1,61,2],[62,1,67,2],[72,1,73,2],[74,1,79,2],[84,1,85,2],[86,1,91,2],[0,1,0,32],[2,23,2,24],[3,16,3,22],[3,23,3,24],[1,5,1,6],[1,9,1,10],[1,11,1,14],[1,16,1,22],[1,23,1,24],[23,1,23,2],[23,3,23,14],[17,2,18,11],[5,1,6,11],[5,12,6,12],[5,13,6,13],[5,14,6,14],[7,1,8,1]]}
[null,"比較用　「学校楽しぃーと」　学級票　（度数分布表）　-　小学校低学年用　-"]
[null,null,null,null,null,null,null,null,null,null,null,null,null,null,null,null,"1回目　実施日",null,null,null,null,null,null,{"$f":"基礎データ!G5","v":"令和"},null,{"$f":"基礎データ!H5","v":0},"年",{"$f":"基礎データ!J5","v":0},"月",{"$f":"基礎データ!L5","v":0},"日"]
[null,null,null,null,null,null,null,null,null,null,null,null,null,null,null,null,"2回目　実施日",null,null,null,null,null,null,{"$f":"基礎データ!G6","v":"令和"},null,{"$f":"基礎データ!H6","v":0},"年",{"$f":"基礎データ!J6","v":0},"月",{"$f":"基礎データ!L6","v":0},"日"]
[null,null,null,null,null,null,null,null,null,null,null,null,null,null,null,null,"3回目　実施日",null,null,null,null,null,null,{"$f":"基礎データ!G7","v":"令和"},null,{"$f":"基礎データ!H7","v":0},"年",{"$f":"基礎データ!J7","v":0},"月",{"$f":"基礎データ!L7","v":0},"日"]
[]
[null,"観　点",null,null,null,null,null,null,null,null,null,null,"１回目","２回目","３回目"]
[]
[null,1,"友達との関係",null,null,null,null,null,null,null,null,null,{"$f":"IF('1回目集計表'!$AG$145=0,3.99,'1回目集計表'!$AG$148)","v":3.99},{"$f":"IF('２回目集計表'!$AG$145=0,3.99,'２回目集計表'!$AG$148)","v":3.99},{"$f":"IF('３回目集計表'!$AG$145=0,3.99,'３回目集計表'!$AG$148)","v":3.99}]
[null,null,null,null,null,null,null,null,null,null,null,null,null,{"$f":"IF(N8=3.99,\"\",N8-M8)","v":""},{"$f":"IF(N9=\"\",\"\",O8-N8)","v":""}]
[null,2,"教師との関係",null,null,null,null,null,null,null,null,null,{"$f":"IF('1回目集計表'!$AH$145=0,3.99,'1回目集計表'!$AH$148)","v":3.99},{"$f":"IF('２回目集計表'!$AH$145=0,3.99,'２回目集計表'!$AH$148)","v":3.99},{"$f":"IF('３回目集計表'!$AH$145=0,3.99,'３回目集計表'!$AH$148)","v":3.99}]
[null,null,null,null,null,null,null,null,null,null,null,null,null,{"$f":"IF(N10=3.99,\"\",N10-M10)","v":""},{"$f":"IF(N11=\"\",\"\",O10-N10)","v":""}]
[null,3,"学習意欲",null,null,null,null,null,null,null,null,null,{"$f":"IF('1回目集計表'!$AI$145=0,3.99,'1回目集計表'!$AI$148)","v":3.99},{"$f":"IF('２回目集計表'!$AI$145=0,3.99,'２回目集計表'!$AI$148)","v":3.99},{"$f":"IF('３回目集計表'!$AI$145=0,3.99,'３回目集計表'!$AI$148)","v":3.99}]
[null,null,null,null,null,null,null,null,null,null,null,null,null,{"$f":"IF(N12=3.99,\"\",N12-M12)","v":""},{"$f":"IF(N13=\"\",\"\",O12-N12)","v":""}]
[null,4,"自己肯定感",null,null,null,null,null,null,null,null,null,{"$f":"IF('1回目集計表'!$AJ$145=0,3.99,'1回目集計表'!$AJ$148)","v":3.99},{"$f":"IF('２回目集計表'!$AJ$145=0,3.99,'２回目集計表'!$AJ$148)","v":3.99},{"$f":"IF('３回目集計表'!$AJ$145=0,3.99,'３回目集計表'!$AJ$148)","v":3.99}]
[null,null,null,null,null,null,null,null,null,null,null,null,null,{"$f":"IF(N14=3.99,\"\",N14-M14)","v":""},{"$f":"IF(N15=\"\",\"\",O14-N14)","v":""}]
[null,5,"心身の状態",null,null,null,null,null,null,null,null,null,{"$f":"IF('1回目集計表'!$AK$145=0,3.99,'1回目集計表'!$AK$148)","v":3.99},{"$f":"IF('２回目集計表'!$AK$145=0,3.99,'２回目集計表'!$AK$148)","v":3.99},{"$f":"IF('３回目集計表'!$AK$145=0,3.99,'３回目集計表'!$AK$148)","v":3.99}]
[null,null,null,null,null,null,null,null,null,null,null,null,null,{"$f":"IF(N16=3.99,\"\",N16-M16)","v":""},{"$f":"IF(N17=\"\",\"\",O16-N16)","v":""}]
[null,6,"学級集団における適応感",null,null,null,null,null,null,null,null,null,{"$f":"IF('1回目集計表'!$AL$145=0,3.99,'1回目集計表'!$AL$148)","v":3.99},{"$f":"IF('２回目集計表'!$AL$145=0,3.99,'２回目集計表'!$AL$148)","v":3.99},{"$f":"IF('３回目集計表'!$AL$145=0,3.99,'３回目集計表'!$AL$148)","v":3.99}]
[null,null,null,null,null,null,null,null,null,null,null,null,null,{"$f":"IF(N18=3.99,\"\",N18-M18)","v":""},{"$f":"IF(N19=\"\",\"\",O18-N18)","v":""}]
[]
[]
[null,null,null,null,null,null,null,null,null,null,null,null,null,null,null,null,"１回目","度数分布（人）",null,null,null,null,"２回目","度数分布（人）",null,null,null,null,"３回目","度数分布（人）"]
[null,null,null,null,null,null,null,null,null,null,null,null,null,null,null,null,null,4,3,2,1,null,null,4,3,2,1,null,null,4,3,2,1]
[null,"観点",null,"質問",null,null,null,null,null,null,null,null,null,null,null,null,"平均","😄","😊","😢","😭",null,"平均","😄","😊","😢","😭",null,"平均","😄","😊","😢","😭"]
[null,"１",null,1,"学校には，お話ができる友達がいますか。",null,null,null,null,null,null,null,null,null,null,null,{"$f":"'1回目集計表'!E73","v":0},{"$f":"'1回目集計表'!$E66","v":0},{"$f":"'1回目集計表'!$E67","v":0},{"$f":"'1回目集計表'!$E68","v":0},{"$f":"'1回目集計表'!$E69","v":0},null,{"$f":"'２回目集計表'!E73","v":0},{"$f":"'２回目集計表'!$E66","v":0},{"$f":"'２回目集計表'!$E67","v":0},{"$f":"'２回目集計表'!$E68","v":0},{"$f":"'２回目集計表'!$E69","v":0},null,{"$f":"'３回目集計表'!E73","v":0},{"$f":"'３回目集計表'!$E66","v":0},{"$f":"'３回目集計表'!$E67","v":0},{"$f":"'３回目集計表'!$E68","v":0},{"$f":"'３回目集計表'!$E69","v":0}]
[null,null,null,null,null,null,null,null,null,null,null,null,null,null,null,null,null,"-","-","-","-",null,null,{"$f":"IF(X25=0,\"\",X25-R25)","v":""},{"$f":"IF(Y25=0,\"\",Y25-S25)","v":""},{"$f":"IF(Z25=0,\"\",Z25-T25)","v":""},{"$f":"IF(AA25=0,\"\",AA25-U25)","v":""},null,null,{"$f":"IF(AD25=0,\"\",AD25-X25)","v":""},{"$f":"IF(AE25=0,\"\",AE25-Y25)","v":""},{"$f":"IF(AF25=0,\"\",AF25-Z25)","v":""},{"$f":"IF(AG25=0,\"\",AG25-AA25)","v":""}]
[null,"友達との関係",null,9,"学級には，一緒にお話をしたり，遊んだりする友達がいますか。",null,null,null,null,null,null,null,null,null,null,null,{"$f":"'1回目集計表'!M73","v":0},{"$f":"'1回目集計表'!$M66","v":0},{"$f":"'1回目集計表'!$M67","v":0},{"$f":"'1回目集計表'!$M68","v":0},{"$f":"'1回目集計表'!$M69","v":0},null,{"$f":"'２回目集計表'!M73","v":0},{"$f":"'２回目集計表'!$M66","v":0},{"$f":"'２回目集計表'!$M67","v":0},{"$f":"'２回目集計表'!$M68","v":0},{"$f":"'２回目集計表'!$M69","v":0},null,{"$f":"'３回目集計表'!M73","v":0},{"$f":"'３回目集計表'!$M66","v":0},{"$f":"'３回目集計表'!$M67","v":0},{"$f":"'３回目集計表'!$M68","v":0},{"$f":"'３回目集計表'!$M69","v":0}]
[null,null,null,null,null,null,null,null,null,null,null,null,null,null,null,null,null,"-","-","-","-",null,null,{"$f":"IF(X27=0,\"\",X27-R27)","v":""},{"$f":"IF(Y27=0,\"\",Y27-S27)","v":""},{"$f":"IF(Z27=0,\"\",Z27-T27)","v":""},{"$f":"IF(AA27=0,\"\",AA27-U27)","v":""},null,null,{"$f":"IF(AD27=0,\"\",AD27-X27)","v":""},{"$f":"IF(AE27=0,\"\",AE27-Y27)","v":""},{"$f":"IF(AF27=0,\"\",AF27-Z27)","v":""},{"$f":"IF(AG27=0,\"\",AG27-AA27)","v":""}]
[null,null,null,15,"学校には，自分の気持ちを話せる友達がいますか。",null,null,null,null,null,null,null,null,null,null,null,{"$f":"'1回目集計表'!S73","v":0},{"$f":"'1回目集計表'!$S66","v":0},{"$f":"'1回目集計表'!$S67","v":0},{"$f":"'1回目集計表'!$S68","v":0},{"$f":"'1回目集計表'!$S69","v":0},null,{"$f":"'２回目集計表'!S73","v":0},{"$f":"'２回目集計表'!$S66","v":0},{"$f":"'２回目集計表'!$S67","v":0},{"$f":"'２回目集計表'!$S68","v":0},{"$f":"'２回目集計表'!$S69","v":0},null,{"$f":"'３回目集計表'!S73","v":0},{"$f":"'３回目集計表'!$S66","v":0},{"$f":"'３回目集計表'!$S67","v":0},{"$f":"'３回目集計表'!$S68","v":0},{"$f":"'３回目集計表'!$S69","v":0}]
[null,null,null,null,null,null,null,null,null,null,null,null,null,null,null,null,null,"-","-","-","-",null,null,{"$f":"IF(X29=0,\"\",X29-R29)","v":""},{"$f":"IF(Y29=0,\"\",Y29-S29)","v":""},{"$f":"IF(Z29=0,\"\",Z29-T29)","v":""},{"$f":"IF(AA29=0,\"\",AA29-U29)","v":""},null,null,{"$f":"IF(AD29=0,\"\",AD29-X29)","v":""},{"$f":"IF(AE29=0,\"\",AE29-Y29)","v":""},{"$f":"IF(AF29=0,\"\",AF29-Z29)","v":""},{"$f":"IF(AG29=0,\"\",AG29-AA29)","v":""}]
[null,null,null,21,"自分が困っているときに，お手伝いをしてくれる友達がいますか。",null,null,null,null,null,null,null,null,null,null,null,{"$f":"'1回目集計表'!Y73","v":0},{"$f":"'1回目集計表'!$Y66","v":0},{"$f":"'1回目集計表'!$Y67","v":0},{"$f":"'1回目集計表'!$Y68","v":0},{"$f":"'1回目集計表'!$Y69","v":0},null,{"$f":"'２回目集計表'!Y73","v":0},{"$f":"'２回目集計表'!$Y66","v":0},{"$f":"'２回目集計表'!$Y67","v":0},{"$f":"'２回目集計表'!$Y68","v":0},{"$f":"'２回目集計表'!$Y69","v":0},null,{"$f":"'３回目集計表'!Y73","v":0},{"$f":"'３回目集計表'!$Y66","v":0},{"$f":"'３回目集計表'!$Y67","v":0},{"$f":"'３回目集計表'!$Y68","v":0},{"$f":"'３回目集計表'!$Y69","v":0}]
[null,null,null,null,null,null,null,null,null,null,null,null,null,null,null,null,null,"-","-","-","-",null,null,{"$f":"IF(X31=0,\"\",X31-R31)","v":""},{"$f":"IF(Y31=0,\"\",Y31-S31)","v":""},{"$f":"IF(Z31=0,\"\",Z31-T31)","v":""},{"$f":"IF(AA31=0,\"\",AA31-U31)","v":""},null,null,{"$f":"IF(AD31=0,\"\",AD31-X31)","v":""},{"$f":"IF(AE31=0,\"\",AE31-Y31)","v":""},{"$f":"IF(AF31=0,\"\",AF31-Z31)","v":""},{"$f":"IF(AG31=0,\"\",AG31-AA31)","v":""}]
[]
[null,null,null,null,null,null,null,null,null,null,null,null,null,null,null,null,"１回目","度数分布（人）",null,null,null,null,"２回目","度数分布（人）",null,null,null,null,"３回目","度数分布（人）"]
[null,null,null,null,null,null,null,null,null,null,null,null,null,null,null,null,null,4,3,2,1,null,null,4,3,2,1,null,null,4,3,2,1]
[null,"観点",null,"質問",null,null,null,null,null,null,null,null,null,null,null,null,"平均","😄","😊","😢","😭",null,"平均","😄","😊","😢","😭",null,"平均","😄","😊","😢","😭"]
[null,"２",null,2,"学校には，自分の心配なことを話せる先生がいますか。",null,null,null,null,null,null,null,null,null,null,null,{"$f":"'1回目集計表'!F73","v":0},{"$f":"'1回目集計表'!$F66","v":0},{"$f":"'1回目集計表'!$F67","v":0},{"$f":"'1回目集計表'!$F68","v":0},{"$f":"'1回目集計表'!$F69","v":0},null,{"$f":"'２回目集計表'!F73","v":0},{"$f":"'２回目集計表'!$F66","v":0},{"$f":"'２回目集計表'!$F67","v":0},{"$f":"'２回目集計表'!$F68","v":0},{"$f":"'２回目集計表'!$F69","v":0},null,{"$f":"'３回目集計表'!F73","v":0},{"$f":"'３回目集計表'!$F66","v":0},{"$f":"'３回目集計表'!$F67","v":0},{"$f":"'３回目集計表'!$F68","v":0},{"$f":"'３回目集計表'!$F69","v":0}]
[null,null,null,null,null,null,null,null,null,null,null,null,null,null,null,null,null,"-","-","-","-",null,null,{"$f":"IF(X37=0,\"\",X37-R37)","v":""},{"$f":"IF(Y37=0,\"\",Y37-S37)","v":""},{"$f":"IF(Z37=0,\"\",Z37-T37)","v":""},{"$f":"IF(AA37=0,\"\",AA37-U37)","v":""},null,null,{"$f":"IF(AD37=0,\"\",AD37-X37)","v":""},{"$f":"IF(AE37=0,\"\",AE37-Y37)","v":""},{"$f":"IF(AF37=0,\"\",AF37-Z37)","v":""},{"$f":"IF(AG37=0,\"\",AG37-AA37)","v":""}]
[null,"教師との関係",null,10,"学校には，自分の気持ちを分かってくれる先生がいますか。",null,null,null,null,null,null,null,null,null,null,null,{"$f":"'1回目集計表'!N73","v":0},{"$f":"'1回目集計表'!$N66","v":0},{"$f":"'1回目集計表'!$N67","v":0},{"$f":"'1回目集計表'!$N68","v":0},{"$f":"'1回目集計表'!$N69","v":0},null,{"$f":"'２回目集計表'!N73","v":0},{"$f":"'２回目集計表'!$N66","v":0},{"$f":"'２回目集計表'!$N67","v":0},{"$f":"'２回目集計表'!$N68","v":0},{"$f":"'２回目集計表'!$N69","v":0},null,{"$f":"'３回目集計表'!N73","v":0},{"$f":"'３回目集計表'!$N66","v":0},{"$f":"'３回目集計表'!$N67","v":0},{"$f":"'３回目集計表'!$N68","v":0},{"$f":"'３回目集計表'!$N69","v":0}]
[null,null,null,null,null,null,null,null,null,null,null,null,null,null,null,null,null,"-","-","-","-",null,null,{"$f":"IF(X39=0,\"\",X39-R39)","v":""},{"$f":"IF(Y39=0,\"\",Y39-S39)","v":""},{"$f":"IF(Z39=0,\"\",Z39-T39)","v":""},{"$f":"IF(AA39=0,\"\",AA39-U39)","v":""},null,null,{"$f":"IF(AD39=0,\"\",AD39-X39)","v":""},{"$f":"IF(AE39=0,\"\",AE39-Y39)","v":""},{"$f":"IF(AF39=0,\"\",AF39-Z39)","v":""},{"$f":"IF(AG39=0,\"\",AG39-AA39)","v":""}]
[null,null,null,16,"学校には，間違いや失敗をしても，きちんと理由を聞いてくれる先生がいますか。",null,null,null,null,null,null,null,null,null,null,null,{"$f":"'1回目集計表'!T73","v":0},{"$f":"'1回目集計表'!$T66","v":0},{"$f":"'1回目集計表'!$T67","v":0},{"$f":"'1回目集計表'!$T68","v":0},{"$f":"'1回目集計表'!$T69","v":0},null,{"$f":"'２回目集計表'!T73","v":0},{"$f":"'２回目集計表'!$T66","v":0},{"$f":"'２回目集計表'!$T67","v":0},{"$f":"'２回目集計表'!$T68","v":0},{"$f":"'２回目集計表'!$T69","v":0},null,{"$f":"'３回目集計表'!T73","v":0},{"$f":"'３回目集計表'!$T66","v":0},{"$f":"'３回目集計表'!$T67","v":0},{"$f":"'３回目集計表'!$T68","v":0},{"$f":"'３回目集計表'!$T69","v":0}]
[null,null,null,null,null,null,null,null,null,null,null,null,null,null,null,null,null,"-","-","-","-",null,null,{"$f":"IF(X41=0,\"\",X41-R41)","v":""},{"$f":"IF(Y41=0,\"\",Y41-S41)","v":""},{"$f":"IF(Z41=0,\"\",Z41-T41)","v":""},{"$f":"IF(AA41=0,\"\",AA41-U41)","v":""},null,null,{"$f":"IF(AD41=0,\"\",AD41-X41)","v":""},{"$f":"IF(AE41=0,\"\",AE41-Y41)","v":""},{"$f":"IF(AF41=0,\"\",AF41-Z41)","v":""},{"$f":"IF(AG41=0,\"\",AG41-AA41)","v":""}]
[null,null,null,22,"学校の先生は，ひいきをせずにみんなと同じようにあなたにお話をしてくれますか。",null,null,null,null,null,null,null,null,null,null,null,{"$f":"'1回目集計表'!Z73","v":0},{"$f":"'1回目集計表'!$Z66","v":0},{"$f":"'1回目集計表'!$Z67","v":0},{"$f":"'1回目集計表'!$Z68","v":0},{"$f":"'1回目集計表'!$Z69","v":0},null,{"$f":"'２回目集計表'!Z73","v":0},{"$f":"'２回目集計表'!$Z66","v":0},{"$f":"'２回目集計表'!$Z67","v":0},{"$f":"'２回目集計表'!$Z68","v":0},{"$f":"'２回目集計表'!$Z69","v":0},null,{"$f":"'３回目集計表'!Z73","v":0},{"$f":"'３回目集計表'!$Z66","v":0},{"$f":"'３回目集計表'!$Z67","v":0},{"$f":"'３回目集計表'!$Z68","v":0},{"$f":"'３回目集計表'!$Z69","v":0}]
[null,null,null,null,null,null,null,null,null,null,null,null,null,null,null,null,null,"-","-","-","-",null,null,{"$f":"IF(X43=0,\"\",X43-R43)","v":""},{"$f":"IF(Y43=0,\"\",Y43-S43)","v":""},{"$f":"IF(Z43=0,\"\",Z43-T43)","v":""},{"$f":"IF(AA43=0,\"\",AA43-U43)","v":""},null,null,{"$f":"IF(AD43=0,\"\",AD43-X43)","v":""},{"$f":"IF(AE43=0,\"\",AE43-Y43)","v":""},{"$f":"IF(AF43=0,\"\",AF43-Z43)","v":""},{"$f":"IF(AG43=0,\"\",AG43-AA43)","v":""}]
[]
[null,null,null,null,null,null,null,null,null,null,null,null,null,null,null,null,"１回目","度数分布（人）",null,null,null,null,"２回目","度数分布（人）",null,null,null,null,"３回目","度数分布（人）"]
[null,null,null,null,null,null,null,null,null,null,null,null,null,null,null,null,null,4,3,2,1,null,null,4,3,2,1,null,null,4,3,2,1]
[null,"観点",null,"質問",null,null,null,null,null,null,null,null,null,null,null,null,"平均","😄","😊","😢","😭",null,"平均","😄","😊","😢","😭",null,"平均","😄","😊","😢","😭"]
[null,"３",null,5,"授業の時，「できた」，「わかった」と思うことがありますか。",null,null,null,null,null,null,null,null,null,null,null,{"$f":"'1回目集計表'!I73","v":0},{"$f":"'1回目集計表'!$I66","v":0},{"$f":"'1回目集計表'!$I67","v":0},{"$f":"'1回目集計表'!$I68","v":0},{"$f":"'1回目集計表'!$I69","v":0},null,{"$f":"'２回目集計表'!I73","v":0},{"$f":"'２回目集計表'!$I66","v":0},{"$f":"'２回目集計表'!$I67","v":0},{"$f":"'２回目集計表'!$I68","v":0},{"$f":"'２回目集計表'!$I69","v":0},null,{"$f":"'３回目集計表'!I73","v":0},{"$f":"'３回目集計表'!$I66","v":0},{"$f":"'３回目集計表'!$I67","v":0},{"$f":"'３回目集計表'!$I68","v":0},{"$f":"'３回目集計表'!$I69","v":0}]
[null,null,null,null,null,null,null,null,null,null,null,null,null,null,null,null,null,"-","-","-","-",null,null,{"$f":"IF(X49=0,\"\",X49-R49)","v":""},{"$f":"IF(Y49=0,\"\",Y49-S49)","v":""},{"$f":"IF(Z49=0,\"\",Z49-T49)","v":""},{"$f":"IF(AA49=0,\"\",AA49-U49)","v":""},null,null,{"$f":"IF(AD49=0,\"\",AD49-X49)","v":""},{"$f":"IF(AE49=0,\"\",AE49-Y49)","v":""},{"$f":"IF(AF49=0,\"\",AF49-Z49)","v":""},{"$f":"IF(AG49=0,\"\",AG49-AA49)","v":""}]
[null,"学習意欲",null,13,"授業の時，先生のお話をよく聞いていますか。",null,null,null,null,null,null,null,null,null,null,null,{"$f":"'1回目集計表'!Q73","v":0},{"$f":"'1回目集計表'!$Q66","v":0},{"$f":"'1回目集計表'!$Q67","v":0},{"$f":"'1回目集計表'!$Q68","v":0},{"$f":"'1回目集計表'!$Q69","v":0},null,{"$f":"'２回目集計表'!Q73","v":0},{"$f":"'２回目集計表'!$Q66","v":0},{"$f":"'２回目集計表'!$Q67","v":0},{"$f":"'２回目集計表'!$Q68","v":0},{"$f":"'２回目集計表'!$Q69","v":0},null,{"$f":"'３回目集計表'!Q73","v":0},{"$f":"'３回目集計表'!$Q66","v":0},{"$f":"'３回目集計表'!$Q67","v":0},{"$f":"'３回目集計表'!$Q68","v":0},{"$f":"'３回目集計表'!$Q69","v":0}]
[null,null,null,null,null,null,null,null,null,null,null,null,null,null,null,null,null,"-","-","-","-",null,null,{"$f":"IF(X51=0,\"\",X51-R51)","v":""},{"$f":"IF(Y51=0,\"\",Y51-S51)","v":""},{"$f":"IF(Z51=0,\"\",Z51-T51)","v":""},{"$f":"IF(AA51=0,\"\",AA51-U51)","v":""},null,null,{"$f":"IF(AD51=0,\"\",AD51-X51)","v":""},{"$f":"IF(AE51=0,\"\",AE51-Y51)","v":""},{"$f":"IF(AF51=0,\"\",AF51-Z51)","v":""},{"$f":"IF(AG51=0,\"\",AG51-AA51)","v":""}]
[null,null,null,19,"授業の時，よく発表していますか。",null,null,null,null,null,null,null,null,null,null,null,{"$f":"'1回目集計表'!W73","v":0},{"$f":"'1回目集計表'!$W66","v":0},{"$f":"'1回目集計表'!$W67","v":0},{"$f":"'1回目集計表'!$W68","v":0},{"$f":"'1回目集計表'!$W69","v":0},null,{"$f":"'２回目集計表'!W73","v":0},{"$f":"'２回目集計表'!$W66","v":0},{"$f":"'２回目集計表'!$W67","v":0},{"$f":"'２回目集計表'!$W68","v":0},{"$f":"'２回目集計表'!$W69","v":0},null,{"$f":"'３回目集計表'!W73","v":0},{"$f":"'３回目集計表'!$W66","v":0},{"$f":"'３回目集計表'!$W67","v":0},{"$f":"'３回目集計表'!$W68","v":0},{"$f":"'３回目集計表'!$W69","v":0}]
[null,null,null,null,null,null,null,null,null,null,null,null,null,null,null,null,null,"-","-","-","-",null,null,{"$f":"IF(X53=0,\"\",X53-R53)","v":""},{"$f":"IF(Y53=0,\"\",Y53-S53)","v":""},{"$f":"IF(Z53=0,\"\",Z53-T53)","v":""},{"$f":"IF(AA53=0,\"\",AA53-U53)","v":""},null,null,{"$f":"IF(AD53=0,\"\",AD53-X53)","v":""},{"$f":"IF(AE53=0,\"\",AE53-Y53)","v":""},{"$f":"IF(AF53=0,\"\",AF53-Z53)","v":""},{"$f":"IF(AG53=0,\"\",AG53-AA53)","v":""}]
[null,null,null,25,"授業で習ったことができるようになろうと頑張っていますか。",null,null,null,null,null,null,null,null,null,null,null,{"$f":"'1回目集計表'!AC73","v":0},{"$f":"'1回目集計表'!$AC66","v":0},{"$f":"'1回目集計表'!$AC67","v":0},{"$f":"'1回目集計表'!$AC68","v":0},{"$f":"'1回目集計表'!$AC69","v":0},null,{"$f":"'２回目集計表'!AC73","v":0},{"$f":"'２回目集計表'!$AC66","v":0},{"$f":"'２回目集計表'!$AC67","v":0},{"$f":"'２回目集計表'!$AC68","v":0},{"$f":"'２回目集計表'!$AC69","v":0},null,{"$f":"'３回目集計表'!AC73","v":0},{"$f":"'３回目集計表'!$AC66","v":0},{"$f":"'３回目集計表'!$AC67","v":0},{"$f":"'３回目集計表'!$AC68","v":0},{"$f":"'３回目集計表'!$AC69","v":0}]
[null,null,null,null,null,null,null,null,null,null,null,null,null,null,null,null,null,"-","-","-","-",null,null,{"$f":"IF(X55=0,\"\",X55-R55)","v":""},{"$f":"IF(Y55=0,\"\",Y55-S55)","v":""},{"$f":"IF(Z55=0,\"\",Z55-T55)","v":""},{"$f":"IF(AA55=0,\"\",AA55-U55)","v":""},null,null,{"$f":"IF(AD55=0,\"\",AD55-X55)","v":""},{"$f":"IF(AE55=0,\"\",AE55-Y55)","v":""},{"$f":"IF(AF55=0,\"\",AF55-Z55)","v":""},{"$f":"IF(AG55=0,\"\",AG55-AA55)","v":""}]
[]
[null,null,null,null,null,null,null,null,null,null,null,null,null,null,null,null,"１回目","度数分布（人）",null,null,null,null,"２回目","度数分布（人）",null,null,null,null,"３回目","度数分布（人）"]
[null,null,null,null,null,null,null,null,null,null,null,null,null,null,null,null,null,4,3,2,1,null,null,4,3,2,1,null,null,4,3,2,1]
[null,"観点",null,"質問",null,null,null,null,null,null,null,null,null,null,null,null,"平均","😄","😊","😢","😭",null,"平均","😄","😊","😢","😭",null,"平均","😄","😊","😢","😭"]
[null,"４",null,4,"自分の係の仕事は，みんなの役に立っていると思いますか。",null,null,null,null,null,null,null,null,null,null,null,{"$f":"'1回目集計表'!H73","v":0},{"$f":"'1回目集計表'!$H66","v":0},{"$f":"'1回目集計表'!$H67","v":0},{"$f":"'1回目集計表'!$H68","v":0},{"$f":"'1回目集計表'!$H69","v":0},null,{"$f":"'２回目集計表'!H73","v":0},{"$f":"'２回目集計表'!$H66","v":0},{"$f":"'２回目集計表'!$H67","v":0},{"$f":"'２回目集計表'!$H68","v":0},{"$f":"'２回目集計表'!$H69","v":0},null,{"$f":"'３回目集計表'!H73","v":0},{"$f":"'３回目集計表'!$H66","v":0},{"$f":"'３回目集計表'!$H67","v":0},{"$f":"'３回目集計表'!$H68","v":0},{"$f":"'３回目集計表'!$H69","v":0}]
[null,null,null,null,null,null,null,null,null,null,null,null,null,null,null,null,null,"-","-","-","-",null,null,{"$f":"IF(X61=0,\"\",X61-R61)","v":""},{"$f":"IF(Y61=0,\"\",Y61-S61)","v":""},{"$f":"IF(Z61=0,\"\",Z61-T61)","v":""},{"$f":"IF(AA61=0,\"\",AA61-U61)","v":""},null,null,{"$f":"IF(AD61=0,\"\",AD61-X61)","v":""},{"$f":"IF(AE61=0,\"\",AE61-Y61)","v":""},{"$f":"IF(AF61=0,\"\",AF61-Z61)","v":""},{"$f":"IF(AG61=0,\"\",AG61-AA61)","v":""}]
[null,"自己肯定感",null,12,"授業や給食登板で「自分は，よく頑張ったなあ」と思うことがありますか。",null,null,null,null,null,null,null,null,null,null,null,{"$f":"'1回目集計表'!P73","v":0},{"$f":"'1回目集計表'!$P66","v":0},{"$f":"'1回目集計表'!$P67","v":0},{"$f":"'1回目集計表'!$P68","v":0},{"$f":"'1回目集計表'!$P69","v":0},null,{"$f":"'２回目集計表'!P73","v":0},{"$f":"'２回目集計表'!$P66","v":0},{"$f":"'２回目集計表'!$P67","v":0},{"$f":"'２回目集計表'!$P68","v":0},{"$f":"'２回目集計表'!$P69","v":0},null,{"$f":"'３回目集計表'!P73","v":0},{"$f":"'３回目集計表'!$P66","v":0},{"$f":"'３回目集計表'!$P67","v":0},{"$f":"'３回目集計表'!$P68","v":0},{"$f":"'３回目集計表'!$P69","v":0}]
[null,null,null,null,null,null,null,null,null,null,null,null,null,null,null,null,null,"-","-","-","-",null,null,{"$f":"IF(X63=0,\"\",X63-R63)","v":""},{"$f":"IF(Y63=0,\"\",Y63-S63)","v":""},{"$f":"IF(Z63=0,\"\",Z63-T63)","v":""},{"$f":"IF(AA63=0,\"\",AA63-U63)","v":""},null,null,{"$f":"IF(AD63=0,\"\",AD63-X63)","v":""},{"$f":"IF(AE63=0,\"\",AE63-Y63)","v":""},{"$f":"IF(AF63=0,\"\",AF63-Z63)","v":""},{"$f":"IF(AG63=0,\"\",AG63-AA63)","v":""}]
[null,null,null,18,"自分には，自分のいいところがあると思いますか。",null,null,null,null,null,null,null,null,null,null,null,{"$f":"'1回目集計表'!V73","v":0},{"$f":"'1回目集計表'!$V66","v":0},{"$f":"'1回目集計表'!$V67","v":0},{"$f":"'1回目集計表'!$V68","v":0},{"$f":"'1回目集計表'!$V69","v":0},null,{"$f":"'２回目集計表'!V73","v":0},{"$f":"'２回目集計表'!$V66","v":0},{"$f":"'２回目集計表'!$V67","v":0},{"$f":"'２回目集計表'!$V68","v":0},{"$f":"'２回目集計表'!$V69","v":0},null,{"$f":"'３回目集計表'!V73","v":0},{"$f":"'３回目集計表'!$V66","v":0},{"$f":"'３回目集計表'!$V67","v":0},{"$f":"'３回目集計表'!$V68","v":0},{"$f":"'３回目集計表'!$V69","v":0}]
[null,null,null,null,null,null,null,null,null,null,null,null,null,null,null,null,null,"-","-","-","-",null,null,{"$f":"IF(X65=0,\"\",X65-R65)","v":""},{"$f":"IF(Y65=0,\"\",Y65-S65)","v":""},{"$f":"IF(Z65=0,\"\",Z65-T65)","v":""},{"$f":"IF(AA65=0,\"\",AA65-U65)","v":""},null,null,{"$f":"IF(AD65=0,\"\",AD65-X65)","v":""},{"$f":"IF(AE65=0,\"\",AE65-Y65)","v":""},{"$f":"IF(AF65=0,\"\",AF65-Z65)","v":""},{"$f":"IF(AG65=0,\"\",AG65-AA65)","v":""}]
[null,null,null,24,"他の人から好かれていると思いますか。",null,null,null,null,null,null,null,null,null,null,null,{"$f":"'1回目集計表'!AB73","v":0},{"$f":"'1回目集計表'!$AB66","v":0},{"$f":"'1回目集計表'!$AB67","v":0},{"$f":"'1回目集計表'!$AB68","v":0},{"$f":"'1回目集計表'!$AB69","v":0},null,{"$f":"'２回目集計表'!AB73","v":0},{"$f":"'２回目集計表'!$AB66","v":0},{"$f":"'２回目集計表'!$AB67","v":0},{"$f":"'２回目集計表'!$AB68","v":0},{"$f":"'２回目集計表'!$AB69","v":0},null,{"$f":"'３回目集計表'!AB73","v":0},{"$f":"'３回目集計表'!$AB66","v":0},{"$f":"'３回目集計表'!$AB67","v":0},{"$f":"'３回目集計表'!$AB68","v":0},{"$f":"'３回目集計表'!$AB69","v":0}]
[null,null,null,null,null,null,null,null,null,null,null,null,null,null,null,null,null,"-","-","-","-",null,null,{"$f":"IF(X67=0,\"\",X67-R67)","v":""},{"$f":"IF(Y67=0,\"\",Y67-S67)","v":""},{"$f":"IF(Z67=0,\"\",Z67-T67)","v":""},{"$f":"IF(AA67=0,\"\",AA67-U67)","v":""},null,null,{"$f":"IF(AD67=0,\"\",AD67-X67)","v":""},{"$f":"IF(AE67=0,\"\",AE67-Y67)","v":""},{"$f":"IF(AF67=0,\"\",AF67-Z67)","v":""},{"$f":"IF(AG67=0,\"\",AG67-AA67)","v":""}]
[]
[null,null,null,null,null,null,null,null,null,null,null,null,null,null,null,null,"１回目","度数分布（人）",null,null,null,null,"２回目","度数分布（人）",null,null,null,null,"３回目","度数分布（人）"]
[null,null,null,null,null,null,null,null,null,null,null,null,null,null,null,null,null,4,3,2,1,null,null,4,3,2,1,null,null,4,3,2,1]
[null,"観点",null,"質問",null,null,null,null,null,null,null,null,null,null,null,null,"平均","😄","😊","😢","😭",null,"平均","😄","😊","😢","😭",null,"平均","😄","😊","😢","😭"]
[null,"５",null,6,"悲しい気持ちになることがありますか。",null,null,null,null,null,null,null,null,null,null,null,{"$f":"'1回目集計表'!J73","v":0},{"$f":"'1回目集計表'!$J66","v":0},{"$f":"'1回目集計表'!$J67","v":0},{"$f":"'1回目集計表'!$J68","v":0},{"$f":"'1回目集計表'!$J69","v":0},null,{"$f":"'２回目集計表'!J73","v":0},{"$f":"'２回目集計表'!$J66","v":0},{"$f":"'２回目集計表'!$J67","v":0},{"$f":"'２回目集計表'!$J68","v":0},{"$f":"'２回目集計表'!$J69","v":0},null,{"$f":"'３回目集計表'!J73","v":0},{"$f":"'３回目集計表'!$J66","v":0},{"$f":"'３回目集計表'!$J67","v":0},{"$f":"'３回目集計表'!$J68","v":0},{"$f":"'３回目集計表'!$J69","v":0}]
[null,null,null,null,null,null,null,null,null,null,null,null,null,null,null,null,null,"-","-","-","-",null,null,{"$f":"IF(X73=0,\"\",X73-R73)","v":""},{"$f":"IF(Y73=0,\"\",Y73-S73)","v":""},{"$f":"IF(Z73=0,\"\",Z73-T73)","v":""},{"$f":"IF(AA73=0,\"\",AA73-U73)","v":""},null,null,{"$f":"IF(AD73=0,\"\",AD73-X73)","v":""},{"$f":"IF(AE73=0,\"\",AE73-Y73)","v":""},{"$f":"IF(AF73=0,\"\",AF73-Z73)","v":""},{"$f":"IF(AG73=0,\"\",AG73-AA73)","v":""}]
[null,"心身の状態",null,14,"お腹が痛くなるときがありますか。",null,null,null,null,null,null,null,null,null,null,null,{"$f":"'1回目集計表'!R73","v":0},{"$f":"'1回目集計表'!$R66","v":0},{"$f":"'1回目集計表'!$R67","v":0},{"$f":"'1回目集計表'!$R68","v":0},{"$f":"'1回目集計表'!$R69","v":0},null,{"$f":"'２回目集計表'!R73","v":0},{"$f":"'２回目集計表'!$R66","v":0},{"$f":"'２回目集計表'!$R67","v":0},{"$f":"'２回目集計表'!$R68","v":0},{"$f":"'２回目集計表'!$R69","v":0},null,{"$f":"'３回目集計表'!R73","v":0},{"$f":"'３回目集計表'!$R66","v":0},{"$f":"'３回目集計表'!$R67","v":0},{"$f":"'３回目集計表'!$R68","v":0},{"$f":"'３回目集計表'!$R69","v":0}]
[null,null,null,null,null,null,null,null,null,null,null,null,null,null,null,null,null,"-","-","-","-",null,null,{"$f":"IF(X75=0,\"\",X75-R75)","v":""},{"$f":"IF(Y75=0,\"\",Y75-S75)","v":""},{"$f":"IF(Z75=0,\"\",Z75-T75)","v":""},{"$f":"IF(AA75=0,\"\",AA75-U75)","v":""},null,null,{"$f":"IF(AD75=0,\"\",AD75-X75)","v":""},{"$f":"IF(AE75=0,\"\",AE75-Y75)","v":""},{"$f":"IF(AF75=0,\"\",AF75-Z75)","v":""},{"$f":"IF(AG75=0,\"\",AG75-AA75)","v":""}]
[null,null,null,20,"頭が痛くなるときがありますか。",null,null,null,null,null,null,null,null,null,null,null,{"$f":"'1回目集計表'!X73","v":0},{"$f":"'1回目集計表'!$X66","v":0},{"$f":"'1回目集計表'!$X67","v":0},{"$f":"'1回目集計表'!$X68","v":0},{"$f":"'1回目集計表'!$X69","v":0},null,{"$f":"'２回目集計表'!X73","v":0},{"$f":"'２回目集計表'!$X66","v":0},{"$f":"'２回目集計表'!$X67","v":0},{"$f":"'２回目集計表'!$X68","v":0},{"$f":"'２回目集計表'!$X69","v":0},null,{"$f":"'３回目集計表'!X73","v":0},{"$f":"'３回目集計表'!$X66","v":0},{"$f":"'３回目集計表'!$X67","v":0},{"$f":"'３回目集計表'!$X68","v":0},{"$f":"'３回目集計表'!$X69","v":0}]
[null,null,null,null,null,null,null,null,null,null,null,null,null,null,null,null,null,"-","-","-","-",null,null,{"$f":"IF(X77=0,\"\",X77-R77)","v":""},{"$f":"IF(Y77=0,\"\",Y77-S77)","v":""},{"$f":"IF(Z77=0,\"\",Z77-T77)","v":""},{"$f":"IF(AA77=0,\"\",AA77-U77)","v":""},null,null,{"$f":"IF(AD77=0,\"\",AD77-X77)","v":""},{"$f":"IF(AE77=0,\"\",AE77-Y77)","v":""},{"$f":"IF(AF77=0,\"\",AF77-Z77)","v":""},{"$f":"IF(AG77=0,\"\",AG77-AA77)","v":""}]
[null,null,null,26,"気分が悪くなることがありますか。",null,null,null,null,null,null,null,null,null,null,null,{"$f":"'1回目集計表'!AD73","v":0},{"$f":"'1回目集計表'!$AD66","v":0},{"$f":"'1回目集計表'!$AD67","v":0},{"$f":"'1回目集計表'!$AD68","v":0},{"$f":"'1回目集計表'!$AD69","v":0},null,{"$f":"'２回目集計表'!AD73","v":0},{"$f":"'２回目集計表'!$AD66","v":0},{"$f":"'２回目集計表'!$AD67","v":0},{"$f":"'２回目集計表'!$AD68","v":0},{"$f":"'２回目集計表'!$AD69","v":0},null,{"$f":"'３回目集計表'!AD73","v":0},{"$f":"'３回目集計表'!$AD66","v":0},{"$f":"'３回目集計表'!$AD67","v":0},{"$f":"'３回目集計表'!$AD68","v":0},{"$f":"'３回目集計表'!$AD69","v":0}]
[null,null,null,null,null,null,null,null,null,null,null,null,null,null,null,null,null,"-","-","-","-",null,null,{"$f":"IF(X79=0,\"\",X79-R79)","v":""},{"$f":"IF(Y79=0,\"\",Y79-S79)","v":""},{"$f":"IF(Z79=0,\"\",Z79-T79)","v":""},{"$f":"IF(AA79=0,\"\",AA79-U79)","v":""},null,null,{"$f":"IF(AD79=0,\"\",AD79-X79)","v":""},{"$f":"IF(AE79=0,\"\",AE79-Y79)","v":""},{"$f":"IF(AF79=0,\"\",AF79-Z79)","v":""},{"$f":"IF(AG79=0,\"\",AG79-AA79)","v":""}]
[]
[null,null,null,null,null,null,null,null,null,null,null,null,null,null,null,null,"１回目","度数分布（人）",null,null,null,null,"２回目","度数分布（人）",null,null,null,null,"３回目","度数分布（人）"]
[null,null,null,null,null,null,null,null,null,null,null,null,null,null,null,null,null,4,3,2,1,null,null,4,3,2,1,null,null,4,3,2,1]
[null,"観点",null,"質問",null,null,null,null,null,null,null,null,null,null,null,null,"平均","😄","😊","😢","😭",null,"平均","😄","😊","😢","😭",null,"平均","😄","😊","😢","😭"]
[null,"６",null,3,"学級の中にいると，楽しい気持ちになりますか。",null,null,null,null,null,null,null,null,null,null,null,{"$f":"'1回目集計表'!G73","v":0},{"$f":"'1回目集計表'!$G66","v":0},{"$f":"'1回目集計表'!$G67","v":0},{"$f":"'1回目集計表'!$G68","v":0},{"$f":"'1回目集計表'!$G69","v":0},null,{"$f":"'２回目集計表'!G73","v":0},{"$f":"'２回目集計表'!$G66","v":0},{"$f":"'２回目集計表'!$G67","v":0},{"$f":"'２回目集計表'!$G68","v":0},{"$f":"'２回目集計表'!$G69","v":0},null,{"$f":"'３回目集計表'!G73","v":0},{"$f":"'３回目集計表'!$G66","v":0},{"$f":"'３回目集計表'!$G67","v":0},{"$f":"'３回目集計表'!$G68","v":0},{"$f":"'３回目集計表'!$G69","v":0}]
[null,null,null,null,null,null,null,null,null,null,null,null,null,null,null,null,null,"-","-","-","-",null,null,{"$f":"IF(X85=0,\"\",X85-R85)","v":""},{"$f":"IF(Y85=0,\"\",Y85-S85)","v":""},{"$f":"IF(Z85=0,\"\",Z85-T85)","v":""},{"$f":"IF(AA85=0,\"\",AA85-U85)","v":""},null,null,{"$f":"IF(AD85=0,\"\",AD85-X85)","v":""},{"$f":"IF(AE85=0,\"\",AE85-Y85)","v":""},{"$f":"IF(AF85=0,\"\",AF85-Z85)","v":""},{"$f":"IF(AG85=0,\"\",AG85-AA85)","v":""}]
[null,"学級集団に\nおける適応感",null,11,"学級のみんなと一緒にいるのは，楽しいですか。",null,null,null,null,null,null,null,null,null,null,null,{"$f":"'1回目集計表'!O73","v":0},{"$f":"'1回目集計表'!$O66","v":0},{"$f":"'1回目集計表'!$O67","v":0},{"$f":"'1回目集計表'!$O68","v":0},{"$f":"'1回目集計表'!$O69","v":0},null,{"$f":"'２回目集計表'!O73","v":0},{"$f":"'２回目集計表'!$O66","v":0},{"$f":"'２回目集計表'!$O67","v":0},{"$f":"'２回目集計表'!$O68","v":0},{"$f":"'２回目集計表'!$O69","v":0},null,{"$f":"'３回目集計表'!O73","v":0},{"$f":"'３回目集計表'!$O66","v":0},{"$f":"'３回目集計表'!$O67","v":0},{"$f":"'３回目集計表'!$O68","v":0},{"$f":"'３回目集計表'!$O69","v":0}]
[null,null,null,null,null,null,null,null,null,null,null,null,null,null,null,null,null,"-","-","-","-",null,null,{"$f":"IF(X87=0,\"\",X87-R87)","v":""},{"$f":"IF(Y87=0,\"\",Y87-S87)","v":""},{"$f":"IF(Z87=0,\"\",Z87-T87)","v":""},{"$f":"IF(AA87=0,\"\",AA87-U87)","v":""},null,null,{"$f":"IF(AD87=0,\"\",AD87-X87)","v":""},{"$f":"IF(AE87=0,\"\",AE87-Y87)","v":""},{"$f":"IF(AF87=0,\"\",AF87-Z87)","v":""},{"$f":"IF(AG87=0,\"\",AG87-AA87)","v":""}]
[null,null,null,17,"自分は，この学級でよかったと思いますか。",null,null,null,null,null,null,null,null,null,null,null,{"$f":"'1回目集計表'!U73","v":0},{"$f":"'1回目集計表'!$U66","v":0},{"$f":"'1回目集計表'!$U67","v":0},{"$f":"'1回目集計表'!$U68","v":0},{"$f":"'1回目集計表'!$U69","v":0},null,{"$f":"'２回目集計表'!U73","v":0},{"$f":"'２回目集計表'!$U66","v":0},{"$f":"'２回目集計表'!$U67","v":0},{"$f":"'２回目集計表'!$U68","v":0},{"$f":"'２回目集計表'!$U69","v":0},null,{"$f":"'３回目集計表'!U73","v":0},{"$f":"'３回目集計表'!$U66","v":0},{"$f":"'３回目集計表'!$U67","v":0},{"$f":"'３回目集計表'!$U68","v":0},{"$f":"'３回目集計表'!$U69","v":0}]
[null,null,null,null,null,null,null,null,null,null,null,null,null,null,null,null,null,"-","-","-","-",null,null,{"$f":"IF(X89=0,\"\",X89-R89)","v":""},{"$f":"IF(Y89=0,\"\",Y89-S89)","v":""},{"$f":"IF(Z89=0,\"\",Z89-T89)","v":""},{"$f":"IF(AA89=0,\"\",AA89-U89)","v":""},null,null,{"$f":"IF(AD89=0,\"\",AD89-X89)","v":""},{"$f":"IF(AE89=0,\"\",AE89-Y89)","v":""},{"$f":"IF(AF89=0,\"\",AF89-Z89)","v":""},{"$f":"IF(AG89=0,\"\",AG89-AA89)","v":""}]
[null,null,null,23,"学級では，安心して過ごすことができますか。",null,null,null,null,null,null,null,null,null,null,null,{"$f":"'1回目集計表'!AA73","v":0},{"$f":"'1回目集計表'!$AA66","v":0},{"$f":"'1回目集計表'!$AA67","v":0},{"$f":"'1回目集計表'!$AA68","v":0},{"$f":"'1回目集計表'!$AA69","v":0},null,{"$f":"'２回目集計表'!AA73","v":0},{"$f":"'２回目集計表'!$AA66","v":0},{"$f":"'２回目集計表'!$AA67","v":0},{"$f":"'２回目集計表'!$AA68","v":0},{"$f":"'２回目集計表'!$AA69","v":0},null,{"$f":"'３回目集計表'!AA73","v":0},{"$f":"'３回目集計表'!$AA66","v":0},{"$f":"'３回目集計表'!$AA67","v":0},{"$f":"'３回目集計表'!$AA68","v":0},{"$f":"'３回目集計表'!$AA69","v":0}]
[null,null,null,null,null,null,null,null,null,null,null,null,null,null,null,null,null,"-","-","-","-",null,null,{"$f":"IF(X91=0,\"\",X91-R91)","v":""},{"$f":"IF(Y91=0,\"\",Y91-S91)","v":""},{"$f":"IF(Z91=0,\"\",Z91-T91)","v":""},{"$f":"IF(AA91=0,\"\",AA91-U91)","v":""},null,null,{"$f":"IF(AD91=0,\"\",AD91-X91)","v":""},{"$f":"IF(AE91=0,\"\",AE91-Y91)","v":""},{"$f":"IF(AF91=0,\"\",AF91-Z91)","v":""},{"$f":"IF(AG91=0,\"\",AG91-AA91)","v":""}]
[]
[null,null,null,null,null,null,null,null,null,null,null,null,null,null,null,null,"１回目","度数分布（人）",null,null,null,null,"２回目","度数分布（人）",null,null,null,null,"３回目","度数分布（人）"]
[null,null,null,null,null,null,null,null,null,null,null,null,null,null,null,null,null,4,3,2,1,null,null,4,3,2,1,null,null,4,3,2,1]
[null,"観点",null,"質問",null,null,null,null,null,null,null,null,null,null,null,null,"平均","😄","😊","😢","😭",null,"平均","😄","😊","😢","😭",null,"平均","😄","😊","😢","😭"]
[null,"いじめ",null,7,"友達からものを隠されたり，体を叩かれたりして嫌な気持ちになることがありますか。",null,null,null,null,null,null,null,null,null,null,null,{"$f":"'1回目集計表'!K73","v":0},{"$f":"'1回目集計表'!$K66","v":0},{"$f":"'1回目集計表'!$K67","v":0},{"$f":"'1回目集計表'!$K68","v":0},{"$f":"'1回目集計表'!$K69","v":0},null,{"$f":"'２回目集計表'!K73","v":0},{"$f":"'２回目集計表'!$K66","v":0},{"$f":"'２回目集計表'!$K67","v":0},{"$f":"'２回目集計表'!$K68","v":0},{"$f":"'２回目集計表'!$K69","v":0},null,{"$f":"'３回目集計表'!K73","v":0},{"$f":"'３回目集計表'!$K66","v":0},{"$f":"'３回目集計表'!$K67","v":0},{"$f":"'３回目集計表'!$K68","v":0},{"$f":"'３回目集計表'!$K69","v":0}]
[null,null,null,null,null,null,null,null,null,null,null,null,null,null,null,null,null,"-","-","-","-",null,null,{"$f":"IF(X97=0,\"\",X97-R97)","v":""},{"$f":"IF(Y97=0,\"\",Y97-S97)","v":""},{"$f":"IF(Z97=0,\"\",Z97-T97)","v":""},{"$f":"IF(AA97=0,\"\",AA97-U97)","v":""},null,null,{"$f":"IF(AD97=0,\"\",AD97-X97)","v":""},{"$f":"IF(AE97=0,\"\",AE97-Y97)","v":""},{"$f":"IF(AF97=0,\"\",AF97-Z97)","v":""},{"$f":"IF(AG97=0,\"\",AG97-AA97)","v":""}]
[null,null,null,27,"友達から悪口を言われたり，無視をされたりして嫌な気持ちになることがありますか。",null,null,null,null,null,null,null,null,null,null,null,{"$f":"'1回目集計表'!AE73","v":0},{"$f":"'1回目集計表'!$AE66","v":0},{"$f":"'1回目集計表'!$AE67","v":0},{"$f":"'1回目集計表'!$AE68","v":0},{"$f":"'1回目集計表'!$AE69","v":0},null,{"$f":"'２回目集計表'!AE73","v":0},{"$f":"'２回目集計表'!$AE66","v":0},{"$f":"'２回目集計表'!$AE67","v":0},{"$f":"'２回目集計表'!$AE68","v":0},{"$f":"'２回目集計表'!$AE69","v":0},null,{"$f":"'３回目集計表'!AE73","v":0},{"$f":"'３回目集計表'!$AE66","v":0},{"$f":"'３回目集計表'!$AE67","v":0},{"$f":"'３回目集計表'!$AE68","v":0},{"$f":"'３回目集計表'!$AE69","v":0}]
[null,null,null,null,null,null,null,null,null,null,null,null,null,null,null,null,null,"-","-","-","-",null,null,{"$f":"IF(X99=0,\"\",X99-R99)","v":""},{"$f":"IF(Y99=0,\"\",Y99-S99)","v":""},{"$f":"IF(Z99=0,\"\",Z99-T99)","v":""},{"$f":"IF(AA99=0,\"\",AA99-U99)","v":""},null,null,{"$f":"IF(AD99=0,\"\",AD99-X99)","v":""},{"$f":"IF(AE99=0,\"\",AE99-Y99)","v":""},{"$f":"IF(AF99=0,\"\",AF99-Z99)","v":""},{"$f":"IF(AG99=0,\"\",AG99-AA99)","v":""}]
[null,null,null,8,"友達がものを隠されたり，体を叩かれたりしたことを　見たり聞いたりしたことがありますか。",null,null,null,null,null,null,null,null,null,null,null,{"$f":"'1回目集計表'!L73","v":0},{"$f":"'1回目集計表'!$L66","v":0},{"$f":"'1回目集計表'!$L67","v":0},{"$f":"'1回目集計表'!$L68","v":0},{"$f":"'1回目集計表'!$L69","v":0},null,{"$f":"'２回目集計表'!L73","v":0},{"$f":"'２回目集計表'!$L66","v":0},{"$f":"'２回目集計表'!$L67","v":0},{"$f":"'２回目集計表'!$L68","v":0},{"$f":"'２回目集計表'!$L69","v":0},null,{"$f":"'３回目集計表'!L73","v":0},{"$f":"'３回目集計表'!$L66","v":0},{"$f":"'３回目集計表'!$L67","v":0},{"$f":"'３回目集計表'!$L68","v":0},{"$f":"'３回目集計表'!$L69","v":0}]
[null,null,null,null,null,null,null,null,null,null,null,null,null,null,null,null,null,"-","-","-","-",null,null,{"$f":"IF(X101=0,\"\",X101-R101)","v":""},{"$f":"IF(Y101=0,\"\",Y101-S101)","v":""},{"$f":"IF(Z101=0,\"\",Z101-T101)","v":""},{"$f":"IF(AA101=0,\"\",AA101-U101)","v":""},null,null,{"$f":"IF(AD101=0,\"\",AD101-X101)","v":""},{"$f":"IF(AE101=0,\"\",AE101-Y101)","v":""},{"$f":"IF(AF101=0,\"\",AF101-Z101)","v":""},{"$f":"IF(AG101=0,\"\",AG101-AA101)","v":""}]
[null,null,null,28,"友達が悪口を言われたり，無視をされたりしたことを　見たり聞いたりしたことがありますか。",null,null,null,null,null,null,null,null,null,null,null,{"$f":"'1回目集計表'!AF73","v":0},{"$f":"'1回目集計表'!$AF66","v":0},{"$f":"'1回目集計表'!$AF67","v":0},{"$f":"'1回目集計表'!$AF68","v":0},{"$f":"'1回目集計表'!$AF69","v":0},null,{"$f":"'２回目集計表'!AF73","v":0},{"$f":"'２回目集計表'!$AF66","v":0},{"$f":"'２回目集計表'!$AF67","v":0},{"$f":"'２回目集計表'!$AF68","v":0},{"$f":"'２回目集計表'!$AF69","v":0},null,{"$f":"'３回目集計表'!AF73","v":0},{"$f":"'３回目集計表'!$AF66","v":0},{"$f":"'３回目集計表'!$AF67","v":0},{"$f":"'３回目集計表'!$AF68","v":0},{"$f":"'３回目集計表'!$AF69","v":0}]
[null,null,null,null,null,null,null,null,null,null,null,null,null,null,null,null,null,"-","-","-","-",null,null,{"$f":"IF(X103=0,\"\",X103-R103)","v":""},{"$f":"IF(Y103=0,\"\",Y103-S103)","v":""},{"$f":"IF(Z103=0,\"\",Z103-T103)","v":""},{"$f":"IF(AA103=0,\"\",AA103-U103)","v":""},null,null,{"$f":"IF(AD103=0,\"\",AD103-X103)","v":""},{"$f":"IF(AE103=0,\"\",AE103-Y103)","v":""},{"$f":"IF(AF103=0,\"\",AF103-Z103)","v":""},{"$f":"IF(AG103=0,\"\",AG103-AA103)","v":""}]
[]
[null,"MEMO"]

{"sheet":"学級票（下位項目評価表）","index":3,"n_rows":69,"n_cols":29,"rows_kept":69,"cut":false,"hidden":false,"merged":[[7,16,7,17],[6,4,6,7],[7,1,8,1],[7,2,8,2],[7,10,7,11],[8,10,8,11],[6,8,8,8],[8,20,8,21],[8,22,8,23],[8,24,8,25],[8,26,8,27],[8,14,8,15],[0,0,0,27],[2,12,2,16],[3,12,3,16],[2,5,2,6],[2,10,2,11],[6,28,8,28],[4,12,4,16],[2,17,2,19],[3,17,3,19],[4,17,4,19],[8,16,8,17],[6,10,6,17],[7,20,7,21],[7,22,7,23],[7,12,7,13],[8,12,8,13],[7,14,7,15],[6,18,8,18],[7,24,7,25],[7,26,7,27],[6,20,6,27]]}
["比較用　「学校楽しぃーと」　学級票　（評価個数表 😄 😊 😢 😭 ）"]
[]
[null,null,null,null,null,null,null,null,null,null,null,null,"1回目　実施日",null,null,null,null,{"$f":"基礎データ!G5","v":"令和"},null,null,{"$f":"IF(基礎データ!H5=\"\",\"\",基礎データ!H5)","v":""},"年",{"$f":"IF(基礎データ!J5=\"\",\"\",基礎データ!J5)","v":""},"月",{"$f":"IF(基礎データ!L5=\"\",\"\",基礎データ!L5)","v":""},"日"]
[null,null,null,null,null,null,null,null,null,null,null,null,"2回目　実施日",null,null,null,null,{"$f":"基礎データ!G6","v":"令和"},null,null,{"$f":"IF(基礎データ!H6=\"\",\"\",基礎データ!H6)","v":""},"年",{"$f":"IF(基礎データ!J6=\"\",\"\",基礎データ!J6)","v":""},"月",{"$f":"IF(基礎データ!L6=\"\",\"\",基礎データ!L6)","v":""},"日"]
[null,null,null,null,null,null,null,null,null,null,null,null,"3回目　実施日",null,null,null,null,{"$f":"基礎データ!G7","v":"令和"},null,null,{"$f":"IF(基礎データ!H7=\"\",\"\",基礎データ!H7)","v":""},"年",{"$f":"IF(基礎データ!J7=\"\",\"\",基礎データ!J7)","v":""},"月",{"$f":"IF(基礎データ!L7=\"\",\"\",基礎データ!L7)","v":""},"日"]
[]
[null,null,null,null,"１回目　下位項目評価",null,null,null,"チェック用✓",null,"２回目　下位項目評価",null,null,null,null,null,null,null,"チェック用✓",null,"３回目　下位項目評価",null,null,null,null,null,null,null,"チェック用✓"]
[null,"出席\n番号","氏名",null,4,3,2,1,null,null,4,null,3,null,2,null,1,null,null,null,4,null,3,null,2,null,1]
[null,null,null,null,"😄","😊","😢","😭",null,null,"😄",null,"😊",null,"😢",null,"😭",null,null,null,"😄",null,"😊",null,"😢",null,"😭"]
[null,1,{"$f":"IF(基礎データ!C5=0,\"\",基礎データ!C5)","v":" "},null,{"$f":"IF($C10=\"\",\"\",IF(ISERROR(VLOOKUP($B10,'1回目集計表'!$D$6:$AS$65,39,FALSE)),\"\",VLOOKUP($B10,'1回目集計表'!$D$6:$AS$65,39,FALSE)))","v":""},{"$f":"IF($C10=\"\",\"\",IF(ISERROR(VLOOKUP($B10,'1回目集計表'!$D$6:$AS$65,40,FALSE)),\"\",VLOOKUP($B10,'1回目集計表'!$D$6:$AS$65,40,FALSE)))","v":""},{"$f":"IF($C10=\"\",\"\",IF(ISERROR(VLOOKUP($B10,'1回目集計表'!$D$6:$AS$65,41,FALSE)),\"\",VLOOKUP($B10,'1回目集計表'!$D$6:$AS$65,41,FALSE)))","v":""},{"$f":"IF($C10=\"\",\"\",IF(ISERROR(VLOOKUP($B10,'1回目集計表'!$D$6:$AS$65,42,FALSE)),\"\",VLOOKUP($B10,'1回目集計表'!$D$6:$AS$65,42,FALSE)))","v":""},"☐","⇒",{"$f":"IF($C10=\"\",\"\",IF(ISERROR(VLOOKUP($B10,'２回目集計表'!$D$6:$AS$65,39,FALSE)),\"\",VLOOKUP($B10,'２回目集計表'!$D$6:$AS$65,39,FALSE)))","v":""},{"$f":"IF(K10=\"\",\"\",IF(K10>E10,\"↑\",IF(K10<E10,\"↓\",\"\")))","v":""},{"$f":"IF($C10=\"\",\"\",IF(ISERROR(VLOOKUP($B10,'２回目集計表'!$D$6:$AS$65,40,FALSE)),\"\",VLOOKUP($B10,'２回目集計表'!$D$6:$AS$65,40,FALSE)))","v":""},{"$f":"IF(M10=\"\",\"\",IF(M10>F10,\"↑\",IF(M10<F10,\"↓\",\"\")))","v":""},{"$f":"IF($C10=\"\",\"\",IF(ISERROR(VLOOKUP($B10,'２回目集計表'!$D$6:$AS$65,41,FALSE)),\"\",VLOOKUP($B10,'２回目集計表'!$D$6:$AS$65,41,FALSE)))","v":""},{"$f":"IF(O10=\"\",\"\",IF(O10>G10,\"↑\",IF(O10<G10,\"↓\",\"\")))","v":""},{"$f":"IF($C10=\"\",\"\",IF(ISERROR(VLOOKUP($B10,'２回目集計表'!$D$6:$AS$65,42,FALSE)),\"\",VLOOKUP($B10,'２回目集計表'!$D$6:$AS$65,42,FALSE)))","v":""},{"$f":"IF(Q10=\"\",\"\",IF(Q10>H10,\"↑\",IF(Q10<H10,\"↓\",\"\")))","v":""},"☐","⇒",{"$f":"IF($C10=\"\",\"\",IF(ISERROR(VLOOKUP($B10,'３回目集計表'!$D$6:$AS$65,39,FALSE)),\"\",VLOOKUP($B10,'３回目集計表'!$D$6:$AS$65,39,FALSE)))","v":""},{"$f":"IF(U10=\"\",\"\",IF(U10>K10,\"↑\",IF(U10<K10,\"↓\",\"\")))","v":""},{"$f":"IF($C10=\"\",\"\",IF(ISERROR(VLOOKUP($B10,'３回目集計表'!$D$6:$AS$65,40,FALSE)),\"\",VLOOKUP($B10,'３回目集計表'!$D$6:$AS$65,40,FALSE)))","v":""},{"$f":"IF(W10=\"\",\"\",IF(W10>M10,\"↑\",IF(W10<M10,\"↓\",\"\")))","v":""},{"$f":"IF($C10=\"\",\"\",IF(ISERROR(VLOOKUP($B10,'３回目集計表'!$D$6:$AS$65,41,FALSE)),\"\",VLOOKUP($B10,'３回目集計表'!$D$6:$AS$65,41,FALSE)))","v":""},{"$f":"IF(Y10=\"\",\"\",IF(Y10>O10,\"↑\",IF(Y10<O10,\"↓\",\"\")))","v":""},{"$f":"IF($C10=\"\",\"\",IF(ISERROR(VLOOKUP($B10,'３回目集計表'!$D$6:$AS$65,42,FALSE)),\"\",VLOOKUP($B10,'３回目集計表'!$D$6:$AS$65,42,FALSE)))","v":""},{"$f":"IF(AA10=\"\",\"\",IF(AA10>Q10,\"↑\",IF(AA10<Q10,\"↓\",\"\")))","v":""},"☐"]
[null,2,{"$f":"IF(基礎データ!C6=0,\"\",基礎データ!C6)","v":""},null,{"$f":"IF($C11=\"\",\"\",IF(ISERROR(VLOOKUP($B11,'1回目集計表'!$D$6:$AS$65,39,FALSE)),\"\",VLOOKUP($B11,'1回目集計表'!$D$6:$AS$65,39,FALSE)))","v":""},{"$f":"IF($C11=\"\",\"\",IF(ISERROR(VLOOKUP($B11,'1回目集計表'!$D$6:$AS$65,40,FALSE)),\"\",VLOOKUP($B11,'1回目集計表'!$D$6:$AS$65,40,FALSE)))","v":""},{"$f":"IF($C11=\"\",\"\",IF(ISERROR(VLOOKUP($B11,'1回目集計表'!$D$6:$AS$65,41,FALSE)),\"\",VLOOKUP($B11,'1回目集計表'!$D$6:$AS$65,41,FALSE)))","v":""},{"$f":"IF($C11=\"\",\"\",IF(ISERROR(VLOOKUP($B11,'1回目集計表'!$D$6:$AS$65,42,FALSE)),\"\",VLOOKUP($B11,'1回目集計表'!$D$6:$AS$65,42,FALSE)))","v":""},"☐","⇒",{"$f":"IF($C11=\"\",\"\",IF(ISERROR(VLOOKUP($B11,'２回目集計表'!$D$6:$AS$65,39,FALSE)),\"\",VLOOKUP($B11,'２回目集計表'!$D$6:$AS$65,39,FALSE)))","v":""},"",{"$f":"IF($C11=\"\",\"\",IF(ISERROR(VLOOKUP($B11,'２回目集計表'!$D$6:$AS$65,40,FALSE)),\"\",VLOOKUP($B11,'２回目集計表'!$D$6:$AS$65,40,FALSE)))","v":""},"",{"$f":"IF($C11=\"\",\"\",IF(ISERROR(VLOOKUP($B11,'２回目集計表'!$D$6:$AS$65,41,FALSE)),\"\",VLOOKUP($B11,'２回目集計表'!$D$6:$AS$65,41,FALSE)))","v":""},"",{"$f":"IF($C11=\"\",\"\",IF(ISERROR(VLOOKUP($B11,'２回目集計表'!$D$6:$AS$65,42,FALSE)),\"\",VLOOKUP($B11,'２回目集計表'!$D$6:$AS$65,42,FALSE)))","v":""},"","☐","⇒",{"$f":"IF($C11=\"\",\"\",IF(ISERROR(VLOOKUP($B11,'３回目集計表'!$D$6:$AS$65,39,FALSE)),\"\",VLOOKUP($B11,'３回目集計表'!$D$6:$AS$65,39,FALSE)))","v":""},"",{"$f":"IF($C11=\"\",\"\",IF(ISERROR(VLOOKUP($B11,'３回目集計表'!$D$6:$AS$65,40,FALSE)),\"\",VLOOKUP($B11,'３回目集計表'!$D$6:$AS$65,40,FALSE)))","v":""},"",{"$f":"IF($C11=\"\",\"\",IF(ISERROR(VLOOKUP($B11,'３回目集計表'!$D$6:$AS$65,41,FALSE)),\"\",VLOOKUP($B11,'３回目集計表'!$D$6:$AS$65,41,FALSE)))","v":""},"",{"$f":"IF($C11=\"\",\"\",IF(ISERROR(VLOOKUP($B11,'３回目集計表'!$D$6:$AS$65,42,FALSE)),\"\",VLOOKUP($B11,'３回目集計表'!$D$6:$AS$65,42,FALSE)))","v":""},"","☐"]
[null,3,{"$f":"IF(基礎データ!C7=0,\"\",基礎データ!C7)","v":""},null,{"$f":"IF($C12=\"\",\"\",IF(ISERROR(VLOOKUP($B12,'1回目集計表'!$D$6:$AS$65,39,FALSE)),\"\",VLOOKUP($B12,'1回目集計表'!$D$6:$AS$65,39,FALSE)))","v":""},{"$f":"IF($C12=\"\",\"\",IF(ISERROR(VLOOKUP($B12,'1回目集計表'!$D$6:$AS$65,40,FALSE)),\"\",VLOOKUP($B12,'1回目集計表'!$D$6:$AS$65,40,FALSE)))","v":""},{"$f":"IF($C12=\"\",\"\",IF(ISERROR(VLOOKUP($B12,'1回目集計表'!$D$6:$AS$65,41,FALSE)),\"\",VLOOKUP($B12,'1回目集計表'!$D$6:$AS$65,41,FALSE)))","v":""},{"$f":"IF($C12=\"\",\"\",IF(ISERROR(VLOOKUP($B12,'1回目集計表'!$D$6:$AS$65,42,FALSE)),\"\",VLOOKUP($B12,'1回目集計表'!$D$6:$AS$65,42,FALSE)))","v":""},"☐","⇒",{"$f":"IF($C12=\"\",\"\",IF(ISERROR(VLOOKUP($B12,'２回目集計表'!$D$6:$AS$65,39,FALSE)),\"\",VLOOKUP($B12,'２回目集計表'!$D$6:$AS$65,39,FALSE)))","v":""},"",{"$f":"IF($C12=\"\",\"\",IF(ISERROR(VLOOKUP($B12,'２回目集計表'!$D$6:$AS$65,40,FALSE)),\"\",VLOOKUP($B12,'２回目集計表'!$D$6:$AS$65,40,FALSE)))","v":""},"",{"$f":"IF($C12=\"\",\"\",IF(ISERROR(VLOOKUP($B12,'２回目集計表'!$D$6:$AS$65,41,FALSE)),\"\",VLOOKUP($B12,'２回目集計表'!$D$6:$AS$65,41,FALSE)))","v":""},"",{"$f":"IF($C12=\"\",\"\",IF(ISERROR(VLOOKUP($B12,'２回目集計表'!$D$6:$AS$65,42,FALSE)),\"\",VLOOKUP($B12,'２回目集計表'!$D$6:$AS$65,42,FALSE)))","v":""},"","☐","⇒",{"$f":"IF($C12=\"\",\"\",IF(ISERROR(VLOOKUP($B12,'３回目集計表'!$D$6:$AS$65,39,FALSE)),\"\",VLOOKUP($B12,'３回目集計表'!$D$6:$AS$65,39,FALSE)))","v":""},"",{"$f":"IF($C12=\"\",\"\",IF(ISERROR(VLOOKUP($B12,'３回目集計表'!$D$6:$AS$65,40,FALSE)),\"\",VLOOKUP($B12,'３回目集計表'!$D$6:$AS$65,40,FALSE)))","v":""},"",{"$f":"IF($C12=\"\",\"\",IF(ISERROR(VLOOKUP($B12,'３回目集計表'!$D$6:$AS$65,41,FALSE)),\"\",VLOOKUP($B12,'３回目集計表'!$D$6:$AS$65,41,FALSE)))","v":""},"",{"$f":"IF($C12=\"\",\"\",IF(ISERROR(VLOOKUP($B12,'３回目集計表'!$D$6:$AS$65,42,FALSE)),\"\",VLOOKUP($B12,'３回目集計表'!$D$6:$AS$65,42,FALSE)))","v":""},"","☐"]
[null,4,{"$f":"IF(基礎データ!C8=0,\"\",基礎データ!C8)","v":""},null,{"$f":"IF($C13=\"\",\"\",IF(ISERROR(VLOOKUP($B13,'1回目集計表'!$D$6:$AS$65,39,FALSE)),\"\",VLOOKUP($B13,'1回目集計表'!$D$6:$AS$65,39,FALSE)))","v":""},{"$f":"IF($C13=\"\",\"\",IF(ISERROR(VLOOKUP($B13,'1回目集計表'!$D$6:$AS$65,40,FALSE)),\"\",VLOOKUP($B13,'1回目集計表'!$D$6:$AS$65,40,FALSE)))","v":""},{"$f":"IF($C13=\"\",\"\",IF(ISERROR(VLOOKUP($B13,'1回目集計表'!$D$6:$AS$65,41,FALSE)),\"\",VLOOKUP($B13,'1回目集計表'!$D$6:$AS$65,41,FALSE)))","v":""},{"$f":"IF($C13=\"\",\"\",IF(ISERROR(VLOOKUP($B13,'1回目集計表'!$D$6:$AS$65,42,FALSE)),\"\",VLOOKUP($B13,'1回目集計表'!$D$6:$AS$65,42,FALSE)))","v":""},"☐","⇒",{"$f":"IF($C13=\"\",\"\",IF(ISERROR(VLOOKUP($B13,'２回目集計表'!$D$6:$AS$65,39,FALSE)),\"\",VLOOKUP($B13,'２回目集計表'!$D$6:$AS$65,39,FALSE)))","v":""},"",{"$f":"IF($C13=\"\",\"\",IF(ISERROR(VLOOKUP($B13,'２回目集計表'!$D$6:$AS$65,40,FALSE)),\"\",VLOOKUP($B13,'２回目集計表'!$D$6:$AS$65,40,FALSE)))","v":""},"",{"$f":"IF($C13=\"\",\"\",IF(ISERROR(VLOOKUP($B13,'２回目集計表'!$D$6:$AS$65,41,FALSE)),\"\",VLOOKUP($B13,'２回目集計表'!$D$6:$AS$65,41,FALSE)))","v":""},"",{"$f":"IF($C13=\"\",\"\",IF(ISERROR(VLOOKUP($B13,'２回目集計表'!$D$6:$AS$65,42,FALSE)),\"\",VLOOKUP($B13,'２回目集計表'!$D$6:$AS$65,42,FALSE)))","v":""},"","☐","⇒",{"$f":"IF($C13=\"\",\"\",IF(ISERROR(VLOOKUP($B13,'３回目集計表'!$D$6:$AS$65,39,FALSE)),\"\",VLOOKUP($B13,'３回目集計表'!$D$6:$AS$65,39,FALSE)))","v":""},"",{"$f":"IF($C13=\"\",\"\",IF(ISERROR(VLOOKUP($B13,'３回目集計表'!$D$6:$AS$65,40,FALSE)),\"\",VLOOKUP($B13,'３回目集計表'!$D$6:$AS$65,40,FALSE)))","v":""},"",{"$f":"IF($C13=\"\",\"\",IF(ISERROR(VLOOKUP($B13,'３回目集計表'!$D$6:$AS$65,41,FALSE)),\"\",VLOOKUP($B13,'３回目集計表'!$D$6:$AS$65,41,FALSE)))","v":""},"",{"$f":"IF($C13=\"\",\"\",IF(ISERROR(VLOOKUP($B13,'３回目集計表'!$D$6:$AS$65,42,FALSE)),\"\",VLOOKUP($B13,'３回目集計表'!$D$6:$AS$65,42,FALSE)))","v":""},"","☐"]
[null,5,{"$f":"IF(基礎データ!C9=0,\"\",基礎データ!C9)","v":""},null,{"$f":"IF($C14=\"\",\"\",IF(ISERROR(VLOOKUP($B14,'1回目集計表'!$D$6:$AS$65,39,FALSE)),\"\",VLOOKUP($B14,'1回目集計表'!$D$6:$AS$65,39,FALSE)))","v":""},{"$f":"IF($C14=\"\",\"\",IF(ISERROR(VLOOKUP($B14,'1回目集計表'!$D$6:$AS$65,40,FALSE)),\"\",VLOOKUP($B14,'1回目集計表'!$D$6:$AS$65,40,FALSE)))","v":""},{"$f":"IF($C14=\"\",\"\",IF(ISERROR(VLOOKUP($B14,'1回目集計表'!$D$6:$AS$65,41,FALSE)),\"\",VLOOKUP($B14,'1回目集計表'!$D$6:$AS$65,41,FALSE)))","v":""},{"$f":"IF($C14=\"\",\"\",IF(ISERROR(VLOOKUP($B14,'1回目集計表'!$D$6:$AS$65,42,FALSE)),\"\",VLOOKUP($B14,'1回目集計表'!$D$6:$AS$65,42,FALSE)))","v":""},"☐","⇒",{"$f":"IF($C14=\"\",\"\",IF(ISERROR(VLOOKUP($B14,'２回目集計表'!$D$6:$AS$65,39,FALSE)),\"\",VLOOKUP($B14,'２回目集計表'!$D$6:$AS$65,39,FALSE)))","v":""},"",{"$f":"IF($C14=\"\",\"\",IF(ISERROR(VLOOKUP($B14,'２回目集計表'!$D$6:$AS$65,40,FALSE)),\"\",VLOOKUP($B14,'２回目集計表'!$D$6:$AS$65,40,FALSE)))","v":""},"",{"$f":"IF($C14=\"\",\"\",IF(ISERROR(VLOOKUP($B14,'２回目集計表'!$D$6:$AS$65,41,FALSE)),\"\",VLOOKUP($B14,'２回目集計表'!$D$6:$AS$65,41,FALSE)))","v":""},"",{"$f":"IF($C14=\"\",\"\",IF(ISERROR(VLOOKUP($B14,'２回目集計表'!$D$6:$AS$65,42,FALSE)),\"\",VLOOKUP($B14,'２回目集計表'!$D$6:$AS$65,42,FALSE)))","v":""},"","☐","⇒",{"$f":"IF($C14=\"\",\"\",IF(ISERROR(VLOOKUP($B14,'３回目集計表'!$D$6:$AS$65,39,FALSE)),\"\",VLOOKUP($B14,'３回目集計表'!$D$6:$AS$65,39,FALSE)))","v":""},"",{"$f":"IF($C14=\"\",\"\",IF(ISERROR(VLOOKUP($B14,'３回目集計表'!$D$6:$AS$65,40,FALSE)),\"\",VLOOKUP($B14,'３回目集計表'!$D$6:$AS$65,40,FALSE)))","v":""},"",{"$f":"IF($C14=\"\",\"\",IF(ISERROR(VLOOKUP($B14,'３回目集計表'!$D$6:$AS$65,41,FALSE)),\"\",VLOOKUP($B14,'３回目集計表'!$D$6:$AS$65,41,FALSE)))","v":""},"",{"$f":"IF($C14=\"\",\"\",IF(ISERROR(VLOOKUP($B14,'３回目集計表'!$D$6:$AS$65,42,FALSE)),\"\",VLOOKUP($B14,'３回目集計表'!$D$6:$AS$65,42,FALSE)))","v":""},"","☐"]
[null,6,{"$f":"IF(基礎データ!C10=0,\"\",基礎データ!C10)","v":""},null,{"$f":"IF($C15=\"\",\"\",IF(ISERROR(VLOOKUP($B15,'1回目集計表'!$D$6:$AS$65,39,FALSE)),\"\",VLOOKUP($B15,'1回目集計表'!$D$6:$AS$65,39,FALSE)))","v":""},{"$f":"IF($C15=\"\",\"\",IF(ISERROR(VLOOKUP($B15,'1回目集計表'!$D$6:$AS$65,40,FALSE)),\"\",VLOOKUP($B15,'1回目集計表'!$D$6:$AS$65,40,FALSE)))","v":""},{"$f":"IF($C15=\"\",\"\",IF(ISERROR(VLOOKUP($B15,'1回目集計表'!$D$6:$AS$65,41,FALSE)),\"\",VLOOKUP($B15,'1回目集計表'!$D$6:$AS$65,41,FALSE)))","v":""},{"$f":"IF($C15=\"\",\"\",IF(ISERROR(VLOOKUP($B15,'1回目集計表'!$D$6:$AS$65,42,FALSE)),\"\",VLOOKUP($B15,'1回目集計表'!$D$6:$AS$65,42,FALSE)))","v":""},"☐","⇒",{"$f":"IF($C15=\"\",\"\",IF(ISERROR(VLOOKUP($B15,'２回目集計表'!$D$6:$AS$65,39,FALSE)),\"\",VLOOKUP($B15,'２回目集計表'!$D$6:$AS$65,39,FALSE)))","v":""},"",{"$f":"IF($C15=\"\",\"\",IF(ISERROR(VLOOKUP($B15,'２回目集計表'!$D$6:$AS$65,40,FALSE)),\"\",VLOOKUP($B15,'２回目集計表'!$D$6:$AS$65,40,FALSE)))","v":""},"",{"$f":"IF($C15=\"\",\"\",IF(ISERROR(VLOOKUP($B15,'２回目集計表'!$D$6:$AS$65,41,FALSE)),\"\",VLOOKUP($B15,'２回目集計表'!$D$6:$AS$65,41,FALSE)))","v":""},"",{"$f":"IF($C15=\"\",\"\",IF(ISERROR(VLOOKUP($B15,'２回目集計表'!$D$6:$AS$65,42,FALSE)),\"\",VLOOKUP($B15,'２回目集計表'!$D$6:$AS$65,42,FALSE)))","v":""},"","☐","⇒",{"$f":"IF($C15=\"\",\"\",IF(ISERROR(VLOOKUP($B15,'３回目集計表'!$D$6:$AS$65,39,FALSE)),\"\",VLOOKUP($B15,'３回目集計表'!$D$6:$AS$65,39,FALSE)))","v":""},"",{"$f":"IF($C15=\"\",\"\",IF(ISERROR(VLOOKUP($B15,'３回目集計表'!$D$6:$AS$65,40,FALSE)),\"\",VLOOKUP($B15,'３回目集計表'!$D$6:$AS$65,40,FALSE)))","v":""},"",{"$f":"IF($C15=\"\",\"\",IF(ISERROR(VLOOKUP($B15,'３回目集計表'!$D$6:$AS$65,41,FALSE)),\"\",VLOOKUP($B15,'３回目集計表'!$D$6:$AS$65,41,FALSE)))","v":""},"",{"$f":"IF($C15=\"\",\"\",IF(ISERROR(VLOOKUP($B15,'３回目集計表'!$D$6:$AS$65,42,FALSE)),\"\",VLOOKUP($B15,'３回目集計表'!$D$6:$AS$65,42,FALSE)))","v":""},"","☐"]
[null,7,{"$f":"IF(基礎データ!C11=0,\"\",基礎データ!C11)","v":""},null,{"$f":"IF($C16=\"\",\"\",IF(ISERROR(VLOOKUP($B16,'1回目集計表'!$D$6:$AS$65,39,FALSE)),\"\",VLOOKUP($B16,'1回目集計表'!$D$6:$AS$65,39,FALSE)))","v":""},{"$f":"IF($C16=\"\",\"\",IF(ISERROR(VLOOKUP($B16,'1回目集計表'!$D$6:$AS$65,40,FALSE)),\"\",VLOOKUP($B16,'1回目集計表'!$D$6:$AS$65,40,FALSE)))","v":""},{"$f":"IF($C16=\"\",\"\",IF(ISERROR(VLOOKUP($B16,'1回目集計表'!$D$6:$AS$65,41,FALSE)),\"\",VLOOKUP($B16,'1回目集計表'!$D$6:$AS$65,41,FALSE)))","v":""},{"$f":"IF($C16=\"\",\"\",IF(ISERROR(VLOOKUP($B16,'1回目集計表'!$D$6:$AS$65,42,FALSE)),\"\",VLOOKUP($B16,'1回目集計表'!$D$6:$AS$65,42,FALSE)))","v":""},"☐","⇒",{"$f":"IF($C16=\"\",\"\",IF(ISERROR(VLOOKUP($B16,'２回目集計表'!$D$6:$AS$65,39,FALSE)),\"\",VLOOKUP($B16,'２回目集計表'!$D$6:$AS$65,39,FALSE)))","v":""},"",{"$f":"IF($C16=\"\",\"\",IF(ISERROR(VLOOKUP($B16,'２回目集計表'!$D$6:$AS$65,40,FALSE)),\"\",VLOOKUP($B16,'２回目集計表'!$D$6:$AS$65,40,FALSE)))","v":""},"",{"$f":"IF($C16=\"\",\"\",IF(ISERROR(VLOOKUP($B16,'２回目集計表'!$D$6:$AS$65,41,FALSE)),\"\",VLOOKUP($B16,'２回目集計表'!$D$6:$AS$65,41,FALSE)))","v":""},"",{"$f":"IF($C16=\"\",\"\",IF(ISERROR(VLOOKUP($B16,'２回目集計表'!$D$6:$AS$65,42,FALSE)),\"\",VLOOKUP($B16,'２回目集計表'!$D$6:$AS$65,42,FALSE)))","v":""},"","☐","⇒",{"$f":"IF($C16=\"\",\"\",IF(ISERROR(VLOOKUP($B16,'３回目集計表'!$D$6:$AS$65,39,FALSE)),\"\",VLOOKUP($B16,'３回目集計表'!$D$6:$AS$65,39,FALSE)))","v":""},"",{"$f":"IF($C16=\"\",\"\",IF(ISERROR(VLOOKUP($B16,'３回目集計表'!$D$6:$AS$65,40,FALSE)),\"\",VLOOKUP($B16,'３回目集計表'!$D$6:$AS$65,40,FALSE)))","v":""},"",{"$f":"IF($C16=\"\",\"\",IF(ISERROR(VLOOKUP($B16,'３回目集計表'!$D$6:$AS$65,41,FALSE)),\"\",VLOOKUP($B16,'３回目集計表'!$D$6:$AS$65,41,FALSE)))","v":""},"",{"$f":"IF($C16=\"\",\"\",IF(ISERROR(VLOOKUP($B16,'３回目集計表'!$D$6:$AS$65,42,FALSE)),\"\",VLOOKUP($B16,'３回目集計表'!$D$6:$AS$65,42,FALSE)))","v":""},"","☐"]
[null,8,{"$f":"IF(基礎データ!C12=0,\"\",基礎データ!C12)","v":""},null,{"$f":"IF($C17=\"\",\"\",IF(ISERROR(VLOOKUP($B17,'1回目集計表'!$D$6:$AS$65,39,FALSE)),\"\",VLOOKUP($B17,'1回目集計表'!$D$6:$AS$65,39,FALSE)))","v":""},{"$f":"IF($C17=\"\",\"\",IF(ISERROR(VLOOKUP($B17,'1回目集計表'!$D$6:$AS$65,40,FALSE)),\"\",VLOOKUP($B17,'1回目集計表'!$D$6:$AS$65,40,FALSE)))","v":""},{"$f":"IF($C17=\"\",\"\",IF(ISERROR(VLOOKUP($B17,'1回目集計表'!$D$6:$AS$65,41,FALSE)),\"\",VLOOKUP($B17,'1回目集計表'!$D$6:$AS$65,41,FALSE)))","v":""},{"$f":"IF($C17=\"\",\"\",IF(ISERROR(VLOOKUP($B17,'1回目集計表'!$D$6:$AS$65,42,FALSE)),\"\",VLOOKUP($B17,'1回目集計表'!$D$6:$AS$65,42,FALSE)))","v":""},"☐","⇒",{"$f":"IF($C17=\"\",\"\",IF(ISERROR(VLOOKUP($B17,'２回目集計表'!$D$6:$AS$65,39,FALSE)),\"\",VLOOKUP($B17,'２回目集計表'!$D$6:$AS$65,39,FALSE)))","v":""},"",{"$f":"IF($C17=\"\",\"\",IF(ISERROR(VLOOKUP($B17,'２回目集計表'!$D$6:$AS$65,40,FALSE)),\"\",VLOOKUP($B17,'２回目集計表'!$D$6:$AS$65,40,FALSE)))","v":""},"",{"$f":"IF($C17=\"\",\"\",IF(ISERROR(VLOOKUP($B17,'２回目集計表'!$D$6:$AS$65,41,FALSE)),\"\",VLOOKUP($B17,'２回目集計表'!$D$6:$AS$65,41,FALSE)))","v":""},"",{"$f":"IF($C17=\"\",\"\",IF(ISERROR(VLOOKUP($B17,'２回目集計表'!$D$6:$AS$65,42,FALSE)),\"\",VLOOKUP($B17,'２回目集計表'!$D$6:$AS$65,42,FALSE)))","v":""},"","☐","⇒",{"$f":"IF($C17=\"\",\"\",IF(ISERROR(VLOOKUP($B17,'３回目集計表'!$D$6:$AS$65,39,FALSE)),\"\",VLOOKUP($B17,'３回目集計表'!$D$6:$AS$65,39,FALSE)))","v":""},"",{"$f":"IF($C17=\"\",\"\",IF(ISERROR(VLOOKUP($B17,'３回目集計表'!$D$6:$AS$65,40,FALSE)),\"\",VLOOKUP($B17,'３回目集計表'!$D$6:$AS$65,40,FALSE)))","v":""},"",{"$f":"IF($C17=\"\",\"\",IF(ISERROR(VLOOKUP($B17,'３回目集計表'!$D$6:$AS$65,41,FALSE)),\"\",VLOOKUP($B17,'３回目集計表'!$D$6:$AS$65,41,FALSE)))","v":""},"",{"$f":"IF($C17=\"\",\"\",IF(ISERROR(VLOOKUP($B17,'３回目集計表'!$D$6:$AS$65,42,FALSE)),\"\",VLOOKUP($B17,'３回目集計表'!$D$6:$AS$65,42,FALSE)))","v":""},"","☐"]
[null,9,{"$f":"IF(基礎データ!C13=0,\"\",基礎データ!C13)","v":""},null,{"$f":"IF($C18=\"\",\"\",IF(ISERROR(VLOOKUP($B18,'1回目集計表'!$D$6:$AS$65,39,FALSE)),\"\",VLOOKUP($B18,'1回目集計表'!$D$6:$AS$65,39,FALSE)))","v":""},{"$f":"IF($C18=\"\",\"\",IF(ISERROR(VLOOKUP($B18,'1回目集計表'!$D$6:$AS$65,40,FALSE)),\"\",VLOOKUP($B18,'1回目集計表'!$D$6:$AS$65,40,FALSE)))","v":""},{"$f":"IF($C18=\"\",\"\",IF(ISERROR(VLOOKUP($B18,'1回目集計表'!$D$6:$AS$65,41,FALSE)),\"\",VLOOKUP($B18,'1回目集計表'!$D$6:$AS$65,41,FALSE)))","v":""},{"$f":"IF($C18=\"\",\"\",IF(ISERROR(VLOOKUP($B18,'1回目集計表'!$D$6:$AS$65,42,FALSE)),\"\",VLOOKUP($B18,'1回目集計表'!$D$6:$AS$65,42,FALSE)))","v":""},"☐","⇒",{"$f":"IF($C18=\"\",\"\",IF(ISERROR(VLOOKUP($B18,'２回目集計表'!$D$6:$AS$65,39,FALSE)),\"\",VLOOKUP($B18,'２回目集計表'!$D$6:$AS$65,39,FALSE)))","v":""},"",{"$f":"IF($C18=\"\",\"\",IF(ISERROR(VLOOKUP($B18,'２回目集計表'!$D$6:$AS$65,40,FALSE)),\"\",VLOOKUP($B18,'２回目集計表'!$D$6:$AS$65,40,FALSE)))","v":""},"",{"$f":"IF($C18=\"\",\"\",IF(ISERROR(VLOOKUP($B18,'２回目集計表'!$D$6:$AS$65,41,FALSE)),\"\",VLOOKUP($B18,'２回目集計表'!$D$6:$AS$65,41,FALSE)))","v":""},"",{"$f":"IF($C18=\"\",\"\",IF(ISERROR(VLOOKUP($B18,'２回目集計表'!$D$6:$AS$65,42,FALSE)),\"\",VLOOKUP($B18,'２回目集計表'!$D$6:$AS$65,42,FALSE)))","v":""},"","☐","⇒",{"$f":"IF($C18=\"\",\"\",IF(ISERROR(VLOOKUP($B18,'３回目集計表'!$D$6:$AS$65,39,FALSE)),\"\",VLOOKUP($B18,'３回目集計表'!$D$6:$AS$65,39,FALSE)))","v":""},"",{"$f":"IF($C18=\"\",\"\",IF(ISERROR(VLOOKUP($B18,'３回目集計表'!$D$6:$AS$65,40,FALSE)),\"\",VLOOKUP($B18,'３回目集計表'!$D$6:$AS$65,40,FALSE)))","v":""},"",{"$f":"IF($C18=\"\",\"\",IF(ISERROR(VLOOKUP($B18,'３回目集計表'!$D$6:$AS$65,41,FALSE)),\"\",VLOOKUP($B18,'３回目集計表'!$D$6:$AS$65,41,FALSE)))","v":""},"",{"$f":"IF($C18=\"\",\"\",IF(ISERROR(VLOOKUP($B18,'３回目集計表'!$D$6:$AS$65,42,FALSE)),\"\",VLOOKUP($B18,'３回目集計表'!$D$6:$AS$65,42,FALSE)))","v":""},"","☐"]
[null,10,{"$f":"IF(基礎データ!C14=0,\"\",基礎データ!C14)","v":""},null,{"$f":"IF($C19=\"\",\"\",IF(ISERROR(VLOOKUP($B19,'1回目集計表'!$D$6:$AS$65,39,FALSE)),\"\",VLOOKUP($B19,'1回目集計表'!$D$6:$AS$65,39,FALSE)))","v":""},{"$f":"IF($C19=\"\",\"\",IF(ISERROR(VLOOKUP($B19,'1回目集計表'!$D$6:$AS$65,40,FALSE)),\"\",VLOOKUP($B19,'1回目集計表'!$D$6:$AS$65,40,FALSE)))","v":""},{"$f":"IF($C19=\"\",\"\",IF(ISERROR(VLOOKUP($B19,'1回目集計表'!$D$6:$AS$65,41,FALSE)),\"\",VLOOKUP($B19,'1回目集計表'!$D$6:$AS$65,41,FALSE)))","v":""},{"$f":"IF($C19=\"\",\"\",IF(ISERROR(VLOOKUP($B19,'1回目集計表'!$D$6:$AS$65,42,FALSE)),\"\",VLOOKUP($B19,'1回目集計表'!$D$6:$AS$65,42,FALSE)))","v":""},"☐","⇒",{"$f":"IF($C19=\"\",\"\",IF(ISERROR(VLOOKUP($B19,'２回目集計表'!$D$6:$AS$65,39,FALSE)),\"\",VLOOKUP($B19,'２回目集計表'!$D$6:$AS$65,39,FALSE)))","v":""},"",{"$f":"IF($C19=\"\",\"\",IF(ISERROR(VLOOKUP($B19,'２回目集計表'!$D$6:$AS$65,40,FALSE)),\"\",VLOOKUP($B19,'２回目集計表'!$D$6:$AS$65,40,FALSE)))","v":""},"",{"$f":"IF($C19=\"\",\"\",IF(ISERROR(VLOOKUP($B19,'２回目集計表'!$D$6:$AS$65,41,FALSE)),\"\",VLOOKUP($B19,'２回目集計表'!$D$6:$AS$65,41,FALSE)))","v":""},"",{"$f":"IF($C19=\"\",\"\",IF(ISERROR(VLOOKUP($B19,'２回目集計表'!$D$6:$AS$65,42,FALSE)),\"\",VLOOKUP($B19,'２回目集計表'!$D$6:$AS$65,42,FALSE)))","v":""},"","☐","⇒",{"$f":"IF($C19=\"\",\"\",IF(ISERROR(VLOOKUP($B19,'３回目集計表'!$D$6:$AS$65,39,FALSE)),\"\",VLOOKUP($B19,'３回目集計表'!$D$6:$AS$65,39,FALSE)))","v":""},"",{"$f":"IF($C19=\"\",\"\",IF(ISERROR(VLOOKUP($B19,'３回目集計表'!$D$6:$AS$65,40,FALSE)),\"\",VLOOKUP($B19,'３回目集計表'!$D$6:$AS$65,40,FALSE)))","v":""},"",{"$f":"IF($C19=\"\",\"\",IF(ISERROR(VLOOKUP($B19,'３回目集計表'!$D$6:$AS$65,41,FALSE)),\"\",VLOOKUP($B19,'３回目集計表'!$D$6:$AS$65,41,FALSE)))","v":""},"",{"$f":"IF($C19=\"\",\"\",IF(ISERROR(VLOOKUP($B19,'３回目集計表'!$D$6:$AS$65,42,FALSE)),\"\",VLOOKUP($B19,'３回目集計表'!$D$6:$AS$65,42,FALSE)))","v":""},"","☐"]
[null,11,{"$f":"IF(基礎データ!C15=0,\"\",基礎データ!C15)","v":""},null,{"$f":"IF($C20=\"\",\"\",IF(ISERROR(VLOOKUP($B20,'1回目集計表'!$D$6:$AS$65,39,FALSE)),\"\",VLOOKUP($B20,'1回目集計表'!$D$6:$AS$65,39,FALSE)))","v":""},{"$f":"IF($C20=\"\",\"\",IF(ISERROR(VLOOKUP($B20,'1回目集計表'!$D$6:$AS$65,40,FALSE)),\"\",VLOOKUP($B20,'1回目集計表'!$D$6:$AS$65,40,FALSE)))","v":""},{"$f":"IF($C20=\"\",\"\",IF(ISERROR(VLOOKUP($B20,'1回目集計表'!$D$6:$AS$65,41,FALSE)),\"\",VLOOKUP($B20,'1回目集計表'!$D$6:$AS$65,41,FALSE)))","v":""},{"$f":"IF($C20=\"\",\"\",IF(ISERROR(VLOOKUP($B20,'1回目集計表'!$D$6:$AS$65,42,FALSE)),\"\",VLOOKUP($B20,'1回目集計表'!$D$6:$AS$65,42,FALSE)))","v":""},"☐","⇒",{"$f":"IF($C20=\"\",\"\",IF(ISERROR(VLOOKUP($B20,'２回目集計表'!$D$6:$AS$65,39,FALSE)),\"\",VLOOKUP($B20,'２回目集計表'!$D$6:$AS$65,39,FALSE)))","v":""},"",{"$f":"IF($C20=\"\",\"\",IF(ISERROR(VLOOKUP($B20,'２回目集計表'!$D$6:$AS$65,40,FALSE)),\"\",VLOOKUP($B20,'２回目集計表'!$D$6:$AS$65,40,FALSE)))","v":""},"",{"$f":"IF($C20=\"\",\"\",IF(ISERROR(VLOOKUP($B20,'２回目集計表'!$D$6:$AS$65,41,FALSE)),\"\",VLOOKUP($B20,'２回目集計表'!$D$6:$AS$65,41,FALSE)))","v":""},"",{"$f":"IF($C20=\"\",\"\",IF(ISERROR(VLOOKUP($B20,'２回目集計表'!$D$6:$AS$65,42,FALSE)),\"\",VLOOKUP($B20,'２回目集計表'!$D$6:$AS$65,42,FALSE)))","v":""},"","☐","⇒",{"$f":"IF($C20=\"\",\"\",IF(ISERROR(VLOOKUP($B20,'３回目集計表'!$D$6:$AS$65,39,FALSE)),\"\",VLOOKUP($B20,'３回目集計表'!$D$6:$AS$65,39,FALSE)))","v":""},"",{"$f":"IF($C20=\"\",\"\",IF(ISERROR(VLOOKUP($B20,'３回目集計表'!$D$6:$AS$65,40,FALSE)),\"\",VLOOKUP($B20,'３回目集計表'!$D$6:$AS$65,40,FALSE)))","v":""},"",{"$f":"IF($C20=\"\",\"\",IF(ISERROR(VLOOKUP($B20,'３回目集計表'!$D$6:$AS$65,41,FALSE)),\"\",VLOOKUP($B20,'３回目集計表'!$D$6:$AS$65,41,FALSE)))","v":""},"",{"$f":"IF($C20=\"\",\"\",IF(ISERROR(VLOOKUP($B20,'３回目集計表'!$D$6:$AS$65,42,FALSE)),\"\",VLOOKUP($B20,'３回目集計表'!$D$6:$AS$65,42,FALSE)))","v":""},"","☐"]
[null,12,{"$f":"IF(基礎データ!C16=0,\"\",基礎データ!C16)","v":""},null,{"$f":"IF($C21=\"\",\"\",IF(ISERROR(VLOOKUP($B21,'1回目集計表'!$D$6:$AS$65,39,FALSE)),\"\",VLOOKUP($B21,'1回目集計表'!$D$6:$AS$65,39,FALSE)))","v":""},{"$f":"IF($C21=\"\",\"\",IF(ISERROR(VLOOKUP($B21,'1回目集計表'!$D$6:$AS$65,40,FALSE)),\"\",VLOOKUP($B21,'1回目集計表'!$D$6:$AS$65,40,FALSE)))","v":""},{"$f":"IF($C21=\"\",\"\",IF(ISERROR(VLOOKUP($B21,'1回目集計表'!$D$6:$AS$65,41,FALSE)),\"\",VLOOKUP($B21,'1回目集計表'!$D$6:$AS$65,41,FALSE)))","v":""},{"$f":"IF($C21=\"\",\"\",IF(ISERROR(VLOOKUP($B21,'1回目集計表'!$D$6:$AS$65,42,FALSE)),\"\",VLOOKUP($B21,'1回目集計表'!$D$6:$AS$65,42,FALSE)))","v":""},"☐","⇒",{"$f":"IF($C21=\"\",\"\",IF(ISERROR(VLOOKUP($B21,'２回目集計表'!$D$6:$AS$65,39,FALSE)),\"\",VLOOKUP($B21,'２回目集計表'!$D$6:$AS$65,39,FALSE)))","v":""},"",{"$f":"IF($C21=\"\",\"\",IF(ISERROR(VLOOKUP($B21,'２回目集計表'!$D$6:$AS$65,40,FALSE)),\"\",VLOOKUP($B21,'２回目集計表'!$D$6:$AS$65,40,FALSE)))","v":""},"",{"$f":"IF($C21=\"\",\"\",IF(ISERROR(VLOOKUP($B21,'２回目集計表'!$D$6:$AS$65,41,FALSE)),\"\",VLOOKUP($B21,'２回目集計表'!$D$6:$AS$65,41,FALSE)))","v":""},"",{"$f":"IF($C21=\"\",\"\",IF(ISERROR(VLOOKUP($B21,'２回目集計表'!$D$6:$AS$65,42,FALSE)),\"\",VLOOKUP($B21,'２回目集計表'!$D$6:$AS$65,42,FALSE)))","v":""},"","☐","⇒",{"$f":"IF($C21=\"\",\"\",IF(ISERROR(VLOOKUP($B21,'３回目集計表'!$D$6:$AS$65,39,FALSE)),\"\",VLOOKUP($B21,'３回目集計表'!$D$6:$AS$65,39,FALSE)))","v":""},"",{"$f":"IF($C21=\"\",\"\",IF(ISERROR(VLOOKUP($B21,'３回目集計表'!$D$6:$AS$65,40,FALSE)),\"\",VLOOKUP($B21,'３回目集計表'!$D$6:$AS$65,40,FALSE)))","v":""},"",{"$f":"IF($C21=\"\",\"\",IF(ISERROR(VLOOKUP($B21,'３回目集計表'!$D$6:$AS$65,41,FALSE)),\"\",VLOOKUP($B21,'３回目集計表'!$D$6:$AS$65,41,FALSE)))","v":""},"",{"$f":"IF($C21=\"\",\"\",IF(ISERROR(VLOOKUP($B21,'３回目集計表'!$D$6:$AS$65,42,FALSE)),\"\",VLOOKUP($B21,'３回目集計表'!$D$6:$AS$65,42,FALSE)))","v":""},"","☐"]
[null,13,{"$f":"IF(基礎データ!C17=0,\"\",基礎データ!C17)","v":""},null,{"$f":"IF($C22=\"\",\"\",IF(ISERROR(VLOOKUP($B22,'1回目集計表'!$D$6:$AS$65,39,FALSE)),\"\",VLOOKUP($B22,'1回目集計表'!$D$6:$AS$65,39,FALSE)))","v":""},{"$f":"IF($C22=\"\",\"\",IF(ISERROR(VLOOKUP($B22,'1回目集計表'!$D$6:$AS$65,40,FALSE)),\"\",VLOOKUP($B22,'1回目集計表'!$D$6:$AS$65,40,FALSE)))","v":""},{"$f":"IF($C22=\"\",\"\",IF(ISERROR(VLOOKUP($B22,'1回目集計表'!$D$6:$AS$65,41,FALSE)),\"\",VLOOKUP($B22,'1回目集計表'!$D$6:$AS$65,41,FALSE)))","v":""},{"$f":"IF($C22=\"\",\"\",IF(ISERROR(VLOOKUP($B22,'1回目集計表'!$D$6:$AS$65,42,FALSE)),\"\",VLOOKUP($B22,'1回目集計表'!$D$6:$AS$65,42,FALSE)))","v":""},"☐","⇒",{"$f":"IF($C22=\"\",\"\",IF(ISERROR(VLOOKUP($B22,'２回目集計表'!$D$6:$AS$65,39,FALSE)),\"\",VLOOKUP($B22,'２回目集計表'!$D$6:$AS$65,39,FALSE)))","v":""},"",{"$f":"IF($C22=\"\",\"\",IF(ISERROR(VLOOKUP($B22,'２回目集計表'!$D$6:$AS$65,40,FALSE)),\"\",VLOOKUP($B22,'２回目集計表'!$D$6:$AS$65,40,FALSE)))","v":""},"",{"$f":"IF($C22=\"\",\"\",IF(ISERROR(VLOOKUP($B22,'２回目集計表'!$D$6:$AS$65,41,FALSE)),\"\",VLOOKUP($B22,'２回目集計表'!$D$6:$AS$65,41,FALSE)))","v":""},"",{"$f":"IF($C22=\"\",\"\",IF(ISERROR(VLOOKUP($B22,'２回目集計表'!$D$6:$AS$65,42,FALSE)),\"\",VLOOKUP($B22,'２回目集計表'!$D$6:$AS$65,42,FALSE)))","v":""},"","☐","⇒",{"$f":"IF($C22=\"\",\"\",IF(ISERROR(VLOOKUP($B22,'３回目集計表'!$D$6:$AS$65,39,FALSE)),\"\",VLOOKUP($B22,'３回目集計表'!$D$6:$AS$65,39,FALSE)))","v":""},"",{"$f":"IF($C22=\"\",\"\",IF(ISERROR(VLOOKUP($B22,'３回目集計表'!$D$6:$AS$65,40,FALSE)),\"\",VLOOKUP($B22,'３回目集計表'!$D$6:$AS$65,40,FALSE)))","v":""},"",{"$f":"IF($C22=\"\",\"\",IF(ISERROR(VLOOKUP($B22,'３回目集計表'!$D$6:$AS$65,41,FALSE)),\"\",VLOOKUP($B22,'３回目集計表'!$D$6:$AS$65,41,FALSE)))","v":""},"",{"$f":"IF($C22=\"\",\"\",IF(ISERROR(VLOOKUP($B22,'３回目集計表'!$D$6:$AS$65,42,FALSE)),\"\",VLOOKUP($B22,'３回目集計表'!$D$6:$AS$65,42,FALSE)))","v":""},"","☐"]
[null,14,{"$f":"IF(基礎データ!C18=0,\"\",基礎データ!C18)","v":""},null,{"$f":"IF($C23=\"\",\"\",IF(ISERROR(VLOOKUP($B23,'1回目集計表'!$D$6:$AS$65,39,FALSE)),\"\",VLOOKUP($B23,'1回目集計表'!$D$6:$AS$65,39,FALSE)))","v":""},{"$f":"IF($C23=\"\",\"\",IF(ISERROR(VLOOKUP($B23,'1回目集計表'!$D$6:$AS$65,40,FALSE)),\"\",VLOOKUP($B23,'1回目集計表'!$D$6:$AS$65,40,FALSE)))","v":""},{"$f":"IF($C23=\"\",\"\",IF(ISERROR(VLOOKUP($B23,'1回目集計表'!$D$6:$AS$65,41,FALSE)),\"\",VLOOKUP($B23,'1回目集計表'!$D$6:$AS$65,41,FALSE)))","v":""},{"$f":"IF($C23=\"\",\"\",IF(ISERROR(VLOOKUP($B23,'1回目集計表'!$D$6:$AS$65,42,FALSE)),\"\",VLOOKUP($B23,'1回目集計表'!$D$6:$AS$65,42,FALSE)))","v":""},"☐","⇒",{"$f":"IF($C23=\"\",\"\",IF(ISERROR(VLOOKUP($B23,'２回目集計表'!$D$6:$AS$65,39,FALSE)),\"\",VLOOKUP($B23,'２回目集計表'!$D$6:$AS$65,39,FALSE)))","v":""},"",{"$f":"IF($C23=\"\",\"\",IF(ISERROR(VLOOKUP($B23,'２回目集計表'!$D$6:$AS$65,40,FALSE)),\"\",VLOOKUP($B23,'２回目集計表'!$D$6:$AS$65,40,FALSE)))","v":""},"",{"$f":"IF($C23=\"\",\"\",IF(ISERROR(VLOOKUP($B23,'２回目集計表'!$D$6:$AS$65,41,FALSE)),\"\",VLOOKUP($B23,'２回目集計表'!$D$6:$AS$65,41,FALSE)))","v":""},"",{"$f":"IF($C23=\"\",\"\",IF(ISERROR(VLOOKUP($B23,'２回目集計表'!$D$6:$AS$65,42,FALSE)),\"\",VLOOKUP($B23,'２回目集計表'!$D$6:$AS$65,42,FALSE)))","v":""},"","☐","⇒",{"$f":"IF($C23=\"\",\"\",IF(ISERROR(VLOOKUP($B23,'３回目集計表'!$D$6:$AS$65,39,FALSE)),\"\",VLOOKUP($B23,'３回目集計表'!$D$6:$AS$65,39,FALSE)))","v":""},"",{"$f":"IF($C23=\"\",\"\",IF(ISERROR(VLOOKUP($B23,'３回目集計表'!$D$6:$AS$65,40,FALSE)),\"\",VLOOKUP($B23,'３回目集計表'!$D$6:$AS$65,40,FALSE)))","v":""},"",{"$f":"IF($C23=\"\",\"\",IF(ISERROR(VLOOKUP($B23,'３回目集計表'!$D$6:$AS$65,41,FALSE)),\"\",VLOOKUP($B23,'３回目集計表'!$D$6:$AS$65,41,FALSE)))","v":""},"",{"$f":"IF($C23=\"\",\"\",IF(ISERROR(VLOOKUP($B23,'３回目集計表'!$D$6:$AS$65,42,FALSE)),\"\",VLOOKUP($B23,'３回目集計表'!$D$6:$AS$65,42,FALSE)))","v":""},"","☐"]
[null,15,{"$f":"IF(基礎データ!C19=0,\"\",基礎データ!C19)","v":""},null,{"$f":"IF($C24=\"\",\"\",IF(ISERROR(VLOOKUP($B24,'1回目集計表'!$D$6:$AS$65,39,FALSE)),\"\",VLOOKUP($B24,'1回目集計表'!$D$6:$AS$65,39,FALSE)))","v":""},{"$f":"IF($C24=\"\",\"\",IF(ISERROR(VLOOKUP($B24,'1回目集計表'!$D$6:$AS$65,40,FALSE)),\"\",VLOOKUP($B24,'1回目集計表'!$D$6:$AS$65,40,FALSE)))","v":""},{"$f":"IF($C24=\"\",\"\",IF(ISERROR(VLOOKUP($B24,'1回目集計表'!$D$6:$AS$65,41,FALSE)),\"\",VLOOKUP($B24,'1回目集計表'!$D$6:$AS$65,41,FALSE)))","v":""},{"$f":"IF($C24=\"\",\"\",IF(ISERROR(VLOOKUP($B24,'1回目集計表'!$D$6:$AS$65,42,FALSE)),\"\",VLOOKUP($B24,'1回目集計表'!$D$6:$AS$65,42,FALSE)))","v":""},"☐","⇒",{"$f":"IF($C24=\"\",\"\",IF(ISERROR(VLOOKUP($B24,'２回目集計表'!$D$6:$AS$65,39,FALSE)),\"\",VLOOKUP($B24,'２回目集計表'!$D$6:$AS$65,39,FALSE)))","v":""},"",{"$f":"IF($C24=\"\",\"\",IF(ISERROR(VLOOKUP($B24,'２回目集計表'!$D$6:$AS$65,40,FALSE)),\"\",VLOOKUP($B24,'２回目集計表'!$D$6:$AS$65,40,FALSE)))","v":""},"",{"$f":"IF($C24=\"\",\"\",IF(ISERROR(VLOOKUP($B24,'２回目集計表'!$D$6:$AS$65,41,FALSE)),\"\",VLOOKUP($B24,'２回目集計表'!$D$6:$AS$65,41,FALSE)))","v":""},"",{"$f":"IF($C24=\"\",\"\",IF(ISERROR(VLOOKUP($B24,'２回目集計表'!$D$6:$AS$65,42,FALSE)),\"\",VLOOKUP($B24,'２回目集計表'!$D$6:$AS$65,42,FALSE)))","v":""},"","☐","⇒",{"$f":"IF($C24=\"\",\"\",IF(ISERROR(VLOOKUP($B24,'３回目集計表'!$D$6:$AS$65,39,FALSE)),\"\",VLOOKUP($B24,'３回目集計表'!$D$6:$AS$65,39,FALSE)))","v":""},"",{"$f":"IF($C24=\"\",\"\",IF(ISERROR(VLOOKUP($B24,'３回目集計表'!$D$6:$AS$65,40,FALSE)),\"\",VLOOKUP($B24,'３回目集計表'!$D$6:$AS$65,40,FALSE)))","v":""},"",{"$f":"IF($C24=\"\",\"\",IF(ISERROR(VLOOKUP($B24,'３回目集計表'!$D$6:$AS$65,41,FALSE)),\"\",VLOOKUP($B24,'３回目集計表'!$D$6:$AS$65,41,FALSE)))","v":""},"",{"$f":"IF($C24=\"\",\"\",IF(ISERROR(VLOOKUP($B24,'３回目集計表'!$D$6:$AS$65,42,FALSE)),\"\",VLOOKUP($B24,'３回目集計表'!$D$6:$AS$65,42,FALSE)))","v":""},"","☐"]
[null,16,{"$f":"IF(基礎データ!C20=0,\"\",基礎データ!C20)","v":""},null,{"$f":"IF($C25=\"\",\"\",IF(ISERROR(VLOOKUP($B25,'1回目集計表'!$D$6:$AS$65,39,FALSE)),\"\",VLOOKUP($B25,'1回目集計表'!$D$6:$AS$65,39,FALSE)))","v":""},{"$f":"IF($C25=\"\",\"\",IF(ISERROR(VLOOKUP($B25,'1回目集計表'!$D$6:$AS$65,40,FALSE)),\"\",VLOOKUP($B25,'1回目集計表'!$D$6:$AS$65,40,FALSE)))","v":""},{"$f":"IF($C25=\"\",\"\",IF(ISERROR(VLOOKUP($B25,'1回目集計表'!$D$6:$AS$65,41,FALSE)),\"\",VLOOKUP($B25,'1回目集計表'!$D$6:$AS$65,41,FALSE)))","v":""},{"$f":"IF($C25=\"\",\"\",IF(ISERROR(VLOOKUP($B25,'1回目集計表'!$D$6:$AS$65,42,FALSE)),\"\",VLOOKUP($B25,'1回目集計表'!$D$6:$AS$65,42,FALSE)))","v":""},"☐","⇒",{"$f":"IF($C25=\"\",\"\",IF(ISERROR(VLOOKUP($B25,'２回目集計表'!$D$6:$AS$65,39,FALSE)),\"\",VLOOKUP($B25,'２回目集計表'!$D$6:$AS$65,39,FALSE)))","v":""},"",{"$f":"IF($C25=\"\",\"\",IF(ISERROR(VLOOKUP($B25,'２回目集計表'!$D$6:$AS$65,40,FALSE)),\"\",VLOOKUP($B25,'２回目集計表'!$D$6:$AS$65,40,FALSE)))","v":""},"",{"$f":"IF($C25=\"\",\"\",IF(ISERROR(VLOOKUP($B25,'２回目集計表'!$D$6:$AS$65,41,FALSE)),\"\",VLOOKUP($B25,'２回目集計表'!$D$6:$AS$65,41,FALSE)))","v":""},"",{"$f":"IF($C25=\"\",\"\",IF(ISERROR(VLOOKUP($B25,'２回目集計表'!$D$6:$AS$65,42,FALSE)),\"\",VLOOKUP($B25,'２回目集計表'!$D$6:$AS$65,42,FALSE)))","v":""},"","☐","⇒",{"$f":"IF($C25=\"\",\"\",IF(ISERROR(VLOOKUP($B25,'３回目集計表'!$D$6:$AS$65,39,FALSE)),\"\",VLOOKUP($B25,'３回目集計表'!$D$6:$AS$65,39,FALSE)))","v":""},"",{"$f":"IF($C25=\"\",\"\",IF(ISERROR(VLOOKUP($B25,'３回目集計表'!$D$6:$AS$65,40,FALSE)),\"\",VLOOKUP($B25,'３回目集計表'!$D$6:$AS$65,40,FALSE)))","v":""},"",{"$f":"IF($C25=\"\",\"\",IF(ISERROR(VLOOKUP($B25,'３回目集計表'!$D$6:$AS$65,41,FALSE)),\"\",VLOOKUP($B25,'３回目集計表'!$D$6:$AS$65,41,FALSE)))","v":""},"",{"$f":"IF($C25=\"\",\"\",IF(ISERROR(VLOOKUP($B25,'３回目集計表'!$D$6:$AS$65,42,FALSE)),\"\",VLOOKUP($B25,'３回目集計表'!$D$6:$AS$65,42,FALSE)))","v":""},"","☐"]
[null,17,{"$f":"IF(基礎データ!C21=0,\"\",基礎データ!C21)","v":""},null,{"$f":"IF($C26=\"\",\"\",IF(ISERROR(VLOOKUP($B26,'1回目集計表'!$D$6:$AS$65,39,FALSE)),\"\",VLOOKUP($B26,'1回目集計表'!$D$6:$AS$65,39,FALSE)))","v":""},{"$f":"IF($C26=\"\",\"\",IF(ISERROR(VLOOKUP($B26,'1回目集計表'!$D$6:$AS$65,40,FALSE)),\"\",VLOOKUP($B26,'1回目集計表'!$D$6:$AS$65,40,FALSE)))","v":""},{"$f":"IF($C26=\"\",\"\",IF(ISERROR(VLOOKUP($B26,'1回目集計表'!$D$6:$AS$65,41,FALSE)),\"\",VLOOKUP($B26,'1回目集計表'!$D$6:$AS$65,41,FALSE)))","v":""},{"$f":"IF($C26=\"\",\"\",IF(ISERROR(VLOOKUP($B26,'1回目集計表'!$D$6:$AS$65,42,FALSE)),\"\",VLOOKUP($B26,'1回目集計表'!$D$6:$AS$65,42,FALSE)))","v":""},"☐","⇒",{"$f":"IF($C26=\"\",\"\",IF(ISERROR(VLOOKUP($B26,'２回目集計表'!$D$6:$AS$65,39,FALSE)),\"\",VLOOKUP($B26,'２回目集計表'!$D$6:$AS$65,39,FALSE)))","v":""},"",{"$f":"IF($C26=\"\",\"\",IF(ISERROR(VLOOKUP($B26,'２回目集計表'!$D$6:$AS$65,40,FALSE)),\"\",VLOOKUP($B26,'２回目集計表'!$D$6:$AS$65,40,FALSE)))","v":""},"",{"$f":"IF($C26=\"\",\"\",IF(ISERROR(VLOOKUP($B26,'２回目集計表'!$D$6:$AS$65,41,FALSE)),\"\",VLOOKUP($B26,'２回目集計表'!$D$6:$AS$65,41,FALSE)))","v":""},"",{"$f":"IF($C26=\"\",\"\",IF(ISERROR(VLOOKUP($B26,'２回目集計表'!$D$6:$AS$65,42,FALSE)),\"\",VLOOKUP($B26,'２回目集計表'!$D$6:$AS$65,42,FALSE)))","v":""},"","☐","⇒",{"$f":"IF($C26=\"\",\"\",IF(ISERROR(VLOOKUP($B26,'３回目集計表'!$D$6:$AS$65,39,FALSE)),\"\",VLOOKUP($B26,'３回目集計表'!$D$6:$AS$65,39,FALSE)))","v":""},"",{"$f":"IF($C26=\"\",\"\",IF(ISERROR(VLOOKUP($B26,'３回目集計表'!$D$6:$AS$65,40,FALSE)),\"\",VLOOKUP($B26,'３回目集計表'!$D$6:$AS$65,40,FALSE)))","v":""},"",{"$f":"IF($C26=\"\",\"\",IF(ISERROR(VLOOKUP($B26,'３回目集計表'!$D$6:$AS$65,41,FALSE)),\"\",VLOOKUP($B26,'３回目集計表'!$D$6:$AS$65,41,FALSE)))","v":""},"",{"$f":"IF($C26=\"\",\"\",IF(ISERROR(VLOOKUP($B26,'３回目集計表'!$D$6:$AS$65,42,FALSE)),\"\",VLOOKUP($B26,'３回目集計表'!$D$6:$AS$65,42,FALSE)))","v":""},"","☐"]
[null,18,{"$f":"IF(基礎データ!C22=0,\"\",基礎データ!C22)","v":""},null,{"$f":"IF($C27=\"\",\"\",IF(ISERROR(VLOOKUP($B27,'1回目集計表'!$D$6:$AS$65,39,FALSE)),\"\",VLOOKUP($B27,'1回目集計表'!$D$6:$AS$65,39,FALSE)))","v":""},{"$f":"IF($C27=\"\",\"\",IF(ISERROR(VLOOKUP($B27,'1回目集計表'!$D$6:$AS$65,40,FALSE)),\"\",VLOOKUP($B27,'1回目集計表'!$D$6:$AS$65,40,FALSE)))","v":""},{"$f":"IF($C27=\"\",\"\",IF(ISERROR(VLOOKUP($B27,'1回目集計表'!$D$6:$AS$65,41,FALSE)),\"\",VLOOKUP($B27,'1回目集計表'!$D$6:$AS$65,41,FALSE)))","v":""},{"$f":"IF($C27=\"\",\"\",IF(ISERROR(VLOOKUP($B27,'1回目集計表'!$D$6:$AS$65,42,FALSE)),\"\",VLOOKUP($B27,'1回目集計表'!$D$6:$AS$65,42,FALSE)))","v":""},"☐","⇒",{"$f":"IF($C27=\"\",\"\",IF(ISERROR(VLOOKUP($B27,'２回目集計表'!$D$6:$AS$65,39,FALSE)),\"\",VLOOKUP($B27,'２回目集計表'!$D$6:$AS$65,39,FALSE)))","v":""},"",{"$f":"IF($C27=\"\",\"\",IF(ISERROR(VLOOKUP($B27,'２回目集計表'!$D$6:$AS$65,40,FALSE)),\"\",VLOOKUP($B27,'２回目集計表'!$D$6:$AS$65,40,FALSE)))","v":""},"",{"$f":"IF($C27=\"\",\"\",IF(ISERROR(VLOOKUP($B27,'２回目集計表'!$D$6:$AS$65,41,FALSE)),\"\",VLOOKUP($B27,'２回目集計表'!$D$6:$AS$65,41,FALSE)))","v":""},"",{"$f":"IF($C27=\"\",\"\",IF(ISERROR(VLOOKUP($B27,'２回目集計表'!$D$6:$AS$65,42,FALSE)),\"\",VLOOKUP($B27,'２回目集計表'!$D$6:$AS$65,42,FALSE)))","v":""},"","☐","⇒",{"$f":"IF($C27=\"\",\"\",IF(ISERROR(VLOOKUP($B27,'３回目集計表'!$D$6:$AS$65,39,FALSE)),\"\",VLOOKUP($B27,'３回目集計表'!$D$6:$AS$65,39,FALSE)))","v":""},"",{"$f":"IF($C27=\"\",\"\",IF(ISERROR(VLOOKUP($B27,'３回目集計表'!$D$6:$AS$65,40,FALSE)),\"\",VLOOKUP($B27,'３回目集計表'!$D$6:$AS$65,40,FALSE)))","v":""},"",{"$f":"IF($C27=\"\",\"\",IF(ISERROR(VLOOKUP($B27,'３回目集計表'!$D$6:$AS$65,41,FALSE)),\"\",VLOOKUP($B27,'３回目集計表'!$D$6:$AS$65,41,FALSE)))","v":""},"",{"$f":"IF($C27=\"\",\"\",IF(ISERROR(VLOOKUP($B27,'３回目集計表'!$D$6:$AS$65,42,FALSE)),\"\",VLOOKUP($B27,'３回目集計表'!$D$6:$AS$65,42,FALSE)))","v":""},"","☐"]
[null,19,{"$f":"IF(基礎データ!C23=0,\"\",基礎データ!C23)","v":""},null,{"$f":"IF($C28=\"\",\"\",IF(ISERROR(VLOOKUP($B28,'1回目集計表'!$D$6:$AS$65,39,FALSE)),\"\",VLOOKUP($B28,'1回目集計表'!$D$6:$AS$65,39,FALSE)))","v":""},{"$f":"IF($C28=\"\",\"\",IF(ISERROR(VLOOKUP($B28,'1回目集計表'!$D$6:$AS$65,40,FALSE)),\"\",VLOOKUP($B28,'1回目集計表'!$D$6:$AS$65,40,FALSE)))","v":""},{"$f":"IF($C28=\"\",\"\",IF(ISERROR(VLOOKUP($B28,'1回目集計表'!$D$6:$AS$65,41,FALSE)),\"\",VLOOKUP($B28,'1回目集計表'!$D$6:$AS$65,41,FALSE)))","v":""},{"$f":"IF($C28=\"\",\"\",IF(ISERROR(VLOOKUP($B28,'1回目集計表'!$D$6:$AS$65,42,FALSE)),\"\",VLOOKUP($B28,'1回目集計表'!$D$6:$AS$65,42,FALSE)))","v":""},"☐","⇒",{"$f":"IF($C28=\"\",\"\",IF(ISERROR(VLOOKUP($B28,'２回目集計表'!$D$6:$AS$65,39,FALSE)),\"\",VLOOKUP($B28,'２回目集計表'!$D$6:$AS$65,39,FALSE)))","v":""},"",{"$f":"IF($C28=\"\",\"\",IF(ISERROR(VLOOKUP($B28,'２回目集計表'!$D$6:$AS$65,40,FALSE)),\"\",VLOOKUP($B28,'２回目集計表'!$D$6:$AS$65,40,FALSE)))","v":""},"",{"$f":"IF($C28=\"\",\"\",IF(ISERROR(VLOOKUP($B28,'２回目集計表'!$D$6:$AS$65,41,FALSE)),\"\",VLOOKUP($B28,'２回目集計表'!$D$6:$AS$65,41,FALSE)))","v":""},"",{"$f":"IF($C28=\"\",\"\",IF(ISERROR(VLOOKUP($B28,'２回目集計表'!$D$6:$AS$65,42,FALSE)),\"\",VLOOKUP($B28,'２回目集計表'!$D$6:$AS$65,42,FALSE)))","v":""},"","☐","⇒",{"$f":"IF($C28=\"\",\"\",IF(ISERROR(VLOOKUP($B28,'３回目集計表'!$D$6:$AS$65,39,FALSE)),\"\",VLOOKUP($B28,'３回目集計表'!$D$6:$AS$65,39,FALSE)))","v":""},"",{"$f":"IF($C28=\"\",\"\",IF(ISERROR(VLOOKUP($B28,'３回目集計表'!$D$6:$AS$65,40,FALSE)),\"\",VLOOKUP($B28,'３回目集計表'!$D$6:$AS$65,40,FALSE)))","v":""},"",{"$f":"IF($C28=\"\",\"\",IF(ISERROR(VLOOKUP($B28,'３回目集計表'!$D$6:$AS$65,41,FALSE)),\"\",VLOOKUP($B28,'３回目集計表'!$D$6:$AS$65,41,FALSE)))","v":""},"",{"$f":"IF($C28=\"\",\"\",IF(ISERROR(VLOOKUP($B28,'３回目集計表'!$D$6:$AS$65,42,FALSE)),\"\",VLOOKUP($B28,'３回目集計表'!$D$6:$AS$65,42,FALSE)))","v":""},"","☐"]
[null,20,{"$f":"IF(基礎データ!C24=0,\"\",基礎データ!C24)","v":""},null,{"$f":"IF($C29=\"\",\"\",IF(ISERROR(VLOOKUP($B29,'1回目集計表'!$D$6:$AS$65,39,FALSE)),\"\",VLOOKUP($B29,'1回目集計表'!$D$6:$AS$65,39,FALSE)))","v":""},{"$f":"IF($C29=\"\",\"\",IF(ISERROR(VLOOKUP($B29,'1回目集計表'!$D$6:$AS$65,40,FALSE)),\"\",VLOOKUP($B29,'1回目集計表'!$D$6:$AS$65,40,FALSE)))","v":""},{"$f":"IF($C29=\"\",\"\",IF(ISERROR(VLOOKUP($B29,'1回目集計表'!$D$6:$AS$65,41,FALSE)),\"\",VLOOKUP($B29,'1回目集計表'!$D$6:$AS$65,41,FALSE)))","v":""},{"$f":"IF($C29=\"\",\"\",IF(ISERROR(VLOOKUP($B29,'1回目集計表'!$D$6:$AS$65,42,FALSE)),\"\",VLOOKUP($B29,'1回目集計表'!$D$6:$AS$65,42,FALSE)))","v":""},"☐","⇒",{"$f":"IF($C29=\"\",\"\",IF(ISERROR(VLOOKUP($B29,'２回目集計表'!$D$6:$AS$65,39,FALSE)),\"\",VLOOKUP($B29,'２回目集計表'!$D$6:$AS$65,39,FALSE)))","v":""},"",{"$f":"IF($C29=\"\",\"\",IF(ISERROR(VLOOKUP($B29,'２回目集計表'!$D$6:$AS$65,40,FALSE)),\"\",VLOOKUP($B29,'２回目集計表'!$D$6:$AS$65,40,FALSE)))","v":""},"",{"$f":"IF($C29=\"\",\"\",IF(ISERROR(VLOOKUP($B29,'２回目集計表'!$D$6:$AS$65,41,FALSE)),\"\",VLOOKUP($B29,'２回目集計表'!$D$6:$AS$65,41,FALSE)))","v":""},"",{"$f":"IF($C29=\"\",\"\",IF(ISERROR(VLOOKUP($B29,'２回目集計表'!$D$6:$AS$65,42,FALSE)),\"\",VLOOKUP($B29,'２回目集計表'!$D$6:$AS$65,42,FALSE)))","v":""},"","☐","⇒",{"$f":"IF($C29=\"\",\"\",IF(ISERROR(VLOOKUP($B29,'３回目集計表'!$D$6:$AS$65,39,FALSE)),\"\",VLOOKUP($B29,'３回目集計表'!$D$6:$AS$65,39,FALSE)))","v":""},"",{"$f":"IF($C29=\"\",\"\",IF(ISERROR(VLOOKUP($B29,'３回目集計表'!$D$6:$AS$65,40,FALSE)),\"\",VLOOKUP($B29,'３回目集計表'!$D$6:$AS$65,40,FALSE)))","v":""},"",{"$f":"IF($C29=\"\",\"\",IF(ISERROR(VLOOKUP($B29,'３回目集計表'!$D$6:$AS$65,41,FALSE)),\"\",VLOOKUP($B29,'３回目集計表'!$D$6:$AS$65,41,FALSE)))","v":""},"",{"$f":"IF($C29=\"\",\"\",IF(ISERROR(VLOOKUP($B29,'３回目集計表'!$D$6:$AS$65,42,FALSE)),\"\",VLOOKUP($B29,'３回目集計表'!$D$6:$AS$65,42,FALSE)))","v":""},"","☐"]
[null,21,{"$f":"IF(基礎データ!C25=0,\"\",基礎データ!C25)","v":""},null,{"$f":"IF($C30=\"\",\"\",IF(ISERROR(VLOOKUP($B30,'1回目集計表'!$D$6:$AS$65,39,FALSE)),\"\",VLOOKUP($B30,'1回目集計表'!$D$6:$AS$65,39,FALSE)))","v":""},{"$f":"IF($C30=\"\",\"\",IF(ISERROR(VLOOKUP($B30,'1回目集計表'!$D$6:$AS$65,40,FALSE)),\"\",VLOOKUP($B30,'1回目集計表'!$D$6:$AS$65,40,FALSE)))","v":""},{"$f":"IF($C30=\"\",\"\",IF(ISERROR(VLOOKUP($B30,'1回目集計表'!$D$6:$AS$65,41,FALSE)),\"\",VLOOKUP($B30,'1回目集計表'!$D$6:$AS$65,41,FALSE)))","v":""},{"$f":"IF($C30=\"\",\"\",IF(ISERROR(VLOOKUP($B30,'1回目集計表'!$D$6:$AS$65,42,FALSE)),\"\",VLOOKUP($B30,'1回目集計表'!$D$6:$AS$65,42,FALSE)))","v":""},"☐","⇒",{"$f":"IF($C30=\"\",\"\",IF(ISERROR(VLOOKUP($B30,'２回目集計表'!$D$6:$AS$65,39,FALSE)),\"\",VLOOKUP($B30,'２回目集計表'!$D$6:$AS$65,39,FALSE)))","v":""},"",{"$f":"IF($C30=\"\",\"\",IF(ISERROR(VLOOKUP($B30,'２回目集計表'!$D$6:$AS$65,40,FALSE)),\"\",VLOOKUP($B30,'２回目集計表'!$D$6:$AS$65,40,FALSE)))","v":""},"",{"$f":"IF($C30=\"\",\"\",IF(ISERROR(VLOOKUP($B30,'２回目集計表'!$D$6:$AS$65,41,FALSE)),\"\",VLOOKUP($B30,'２回目集計表'!$D$6:$AS$65,41,FALSE)))","v":""},"",{"$f":"IF($C30=\"\",\"\",IF(ISERROR(VLOOKUP($B30,'２回目集計表'!$D$6:$AS$65,42,FALSE)),\"\",VLOOKUP($B30,'２回目集計表'!$D$6:$AS$65,42,FALSE)))","v":""},"","☐","⇒",{"$f":"IF($C30=\"\",\"\",IF(ISERROR(VLOOKUP($B30,'３回目集計表'!$D$6:$AS$65,39,FALSE)),\"\",VLOOKUP($B30,'３回目集計表'!$D$6:$AS$65,39,FALSE)))","v":""},"",{"$f":"IF($C30=\"\",\"\",IF(ISERROR(VLOOKUP($B30,'３回目集計表'!$D$6:$AS$65,40,FALSE)),\"\",VLOOKUP($B30,'３回目集計表'!$D$6:$AS$65,40,FALSE)))","v":""},"",{"$f":"IF($C30=\"\",\"\",IF(ISERROR(VLOOKUP($B30,'３回目集計表'!$D$6:$AS$65,41,FALSE)),\"\",VLOOKUP($B30,'３回目集計表'!$D$6:$AS$65,41,FALSE)))","v":""},"",{"$f":"IF($C30=\"\",\"\",IF(ISERROR(VLOOKUP($B30,'３回目集計表'!$D$6:$AS$65,42,FALSE)),\"\",VLOOKUP($B30,'３回目集計表'!$D$6:$AS$65,42,FALSE)))","v":""},"","☐"]
[null,22,{"$f":"IF(基礎データ!C26=0,\"\",基礎データ!C26)","v":""},null,{"$f":"IF($C31=\"\",\"\",IF(ISERROR(VLOOKUP($B31,'1回目集計表'!$D$6:$AS$65,39,FALSE)),\"\",VLOOKUP($B31,'1回目集計表'!$D$6:$AS$65,39,FALSE)))","v":""},{"$f":"IF($C31=\"\",\"\",IF(ISERROR(VLOOKUP($B31,'1回目集計表'!$D$6:$AS$65,40,FALSE)),\"\",VLOOKUP($B31,'1回目集計表'!$D$6:$AS$65,40,FALSE)))","v":""},{"$f":"IF($C31=\"\",\"\",IF(ISERROR(VLOOKUP($B31,'1回目集計表'!$D$6:$AS$65,41,FALSE)),\"\",VLOOKUP($B31,'1回目集計表'!$D$6:$AS$65,41,FALSE)))","v":""},{"$f":"IF($C31=\"\",\"\",IF(ISERROR(VLOOKUP($B31,'1回目集計表'!$D$6:$AS$65,42,FALSE)),\"\",VLOOKUP($B31,'1回目集計表'!$D$6:$AS$65,42,FALSE)))","v":""},"☐","⇒",{"$f":"IF($C31=\"\",\"\",IF(ISERROR(VLOOKUP($B31,'２回目集計表'!$D$6:$AS$65,39,FALSE)),\"\",VLOOKUP($B31,'２回目集計表'!$D$6:$AS$65,39,FALSE)))","v":""},"",{"$f":"IF($C31=\"\",\"\",IF(ISERROR(VLOOKUP($B31,'２回目集計表'!$D$6:$AS$65,40,FALSE)),\"\",VLOOKUP($B31,'２回目集計表'!$D$6:$AS$65,40,FALSE)))","v":""},"",{"$f":"IF($C31=\"\",\"\",IF(ISERROR(VLOOKUP($B31,'２回目集計表'!$D$6:$AS$65,41,FALSE)),\"\",VLOOKUP($B31,'２回目集計表'!$D$6:$AS$65,41,FALSE)))","v":""},"",{"$f":"IF($C31=\"\",\"\",IF(ISERROR(VLOOKUP($B31,'２回目集計表'!$D$6:$AS$65,42,FALSE)),\"\",VLOOKUP($B31,'２回目集計表'!$D$6:$AS$65,42,FALSE)))","v":""},"","☐","⇒",{"$f":"IF($C31=\"\",\"\",IF(ISERROR(VLOOKUP($B31,'３回目集計表'!$D$6:$AS$65,39,FALSE)),\"\",VLOOKUP($B31,'３回目集計表'!$D$6:$AS$65,39,FALSE)))","v":""},"",{"$f":"IF($C31=\"\",\"\",IF(ISERROR(VLOOKUP($B31,'３回目集計表'!$D$6:$AS$65,40,FALSE)),\"\",VLOOKUP($B31,'３回目集計表'!$D$6:$AS$65,40,FALSE)))","v":""},"",{"$f":"IF($C31=\"\",\"\",IF(ISERROR(VLOOKUP($B31,'３回目集計表'!$D$6:$AS$65,41,FALSE)),\"\",VLOOKUP($B31,'３回目集計表'!$D$6:$AS$65,41,FALSE)))","v":""},"",{"$f":"IF($C31=\"\",\"\",IF(ISERROR(VLOOKUP($B31,'３回目集計表'!$D$6:$AS$65,42,FALSE)),\"\",VLOOKUP($B31,'３回目集計表'!$D$6:$AS$65,42,FALSE)))","v":""},"","☐"]
[null,23,{"$f":"IF(基礎データ!C27=0,\"\",基礎データ!C27)","v":""},null,{"$f":"IF($C32=\"\",\"\",IF(ISERROR(VLOOKUP($B32,'1回目集計表'!$D$6:$AS$65,39,FALSE)),\"\",VLOOKUP($B32,'1回目集計表'!$D$6:$AS$65,39,FALSE)))","v":""},{"$f":"IF($C32=\"\",\"\",IF(ISERROR(VLOOKUP($B32,'1回目集計表'!$D$6:$AS$65,40,FALSE)),\"\",VLOOKUP($B32,'1回目集計表'!$D$6:$AS$65,40,FALSE)))","v":""},{"$f":"IF($C32=\"\",\"\",IF(ISERROR(VLOOKUP($B32,'1回目集計表'!$D$6:$AS$65,41,FALSE)),\"\",VLOOKUP($B32,'1回目集計表'!$D$6:$AS$65,41,FALSE)))","v":""},{"$f":"IF($C32=\"\",\"\",IF(ISERROR(VLOOKUP($B32,'1回目集計表'!$D$6:$AS$65,42,FALSE)),\"\",VLOOKUP($B32,'1回目集計表'!$D$6:$AS$65,42,FALSE)))","v":""},"☐","⇒",{"$f":"IF($C32=\"\",\"\",IF(ISERROR(VLOOKUP($B32,'２回目集計表'!$D$6:$AS$65,39,FALSE)),\"\",VLOOKUP($B32,'２回目集計表'!$D$6:$AS$65,39,FALSE)))","v":""},"",{"$f":"IF($C32=\"\",\"\",IF(ISERROR(VLOOKUP($B32,'２回目集計表'!$D$6:$AS$65,40,FALSE)),\"\",VLOOKUP($B32,'２回目集計表'!$D$6:$AS$65,40,FALSE)))","v":""},"",{"$f":"IF($C32=\"\",\"\",IF(ISERROR(VLOOKUP($B32,'２回目集計表'!$D$6:$AS$65,41,FALSE)),\"\",VLOOKUP($B32,'２回目集計表'!$D$6:$AS$65,41,FALSE)))","v":""},"",{"$f":"IF($C32=\"\",\"\",IF(ISERROR(VLOOKUP($B32,'２回目集計表'!$D$6:$AS$65,42,FALSE)),\"\",VLOOKUP($B32,'２回目集計表'!$D$6:$AS$65,42,FALSE)))","v":""},"","☐","⇒",{"$f":"IF($C32=\"\",\"\",IF(ISERROR(VLOOKUP($B32,'３回目集計表'!$D$6:$AS$65,39,FALSE)),\"\",VLOOKUP($B32,'３回目集計表'!$D$6:$AS$65,39,FALSE)))","v":""},"",{"$f":"IF($C32=\"\",\"\",IF(ISERROR(VLOOKUP($B32,'３回目集計表'!$D$6:$AS$65,40,FALSE)),\"\",VLOOKUP($B32,'３回目集計表'!$D$6:$AS$65,40,FALSE)))","v":""},"",{"$f":"IF($C32=\"\",\"\",IF(ISERROR(VLOOKUP($B32,'３回目集計表'!$D$6:$AS$65,41,FALSE)),\"\",VLOOKUP($B32,'３回目集計表'!$D$6:$AS$65,41,FALSE)))","v":""},"",{"$f":"IF($C32=\"\",\"\",IF(ISERROR(VLOOKUP($B32,'３回目集計表'!$D$6:$AS$65,42,FALSE)),\"\",VLOOKUP($B32,'３回目集計表'!$D$6:$AS$65,42,FALSE)))","v":""},"","☐"]
[null,24,{"$f":"IF(基礎データ!C28=0,\"\",基礎データ!C28)","v":""},null,{"$f":"IF($C33=\"\",\"\",IF(ISERROR(VLOOKUP($B33,'1回目集計表'!$D$6:$AS$65,39,FALSE)),\"\",VLOOKUP($B33,'1回目集計表'!$D$6:$AS$65,39,FALSE)))","v":""},{"$f":"IF($C33=\"\",\"\",IF(ISERROR(VLOOKUP($B33,'1回目集計表'!$D$6:$AS$65,40,FALSE)),\"\",VLOOKUP($B33,'1回目集計表'!$D$6:$AS$65,40,FALSE)))","v":""},{"$f":"IF($C33=\"\",\"\",IF(ISERROR(VLOOKUP($B33,'1回目集計表'!$D$6:$AS$65,41,FALSE)),\"\",VLOOKUP($B33,'1回目集計表'!$D$6:$AS$65,41,FALSE)))","v":""},{"$f":"IF($C33=\"\",\"\",IF(ISERROR(VLOOKUP($B33,'1回目集計表'!$D$6:$AS$65,42,FALSE)),\"\",VLOOKUP($B33,'1回目集計表'!$D$6:$AS$65,42,FALSE)))","v":""},"☐","⇒",{"$f":"IF($C33=\"\",\"\",IF(ISERROR(VLOOKUP($B33,'２回目集計表'!$D$6:$AS$65,39,FALSE)),\"\",VLOOKUP($B33,'２回目集計表'!$D$6:$AS$65,39,FALSE)))","v":""},"",{"$f":"IF($C33=\"\",\"\",IF(ISERROR(VLOOKUP($B33,'２回目集計表'!$D$6:$AS$65,40,FALSE)),\"\",VLOOKUP($B33,'２回目集計表'!$D$6:$AS$65,40,FALSE)))","v":""},"",{"$f":"IF($C33=\"\",\"\",IF(ISERROR(VLOOKUP($B33,'２回目集計表'!$D$6:$AS$65,41,FALSE)),\"\",VLOOKUP($B33,'２回目集計表'!$D$6:$AS$65,41,FALSE)))","v":""},"",{"$f":"IF($C33=\"\",\"\",IF(ISERROR(VLOOKUP($B33,'２回目集計表'!$D$6:$AS$65,42,FALSE)),\"\",VLOOKUP($B33,'２回目集計表'!$D$6:$AS$65,42,FALSE)))","v":""},"","☐","⇒",{"$f":"IF($C33=\"\",\"\",IF(ISERROR(VLOOKUP($B33,'３回目集計表'!$D$6:$AS$65,39,FALSE)),\"\",VLOOKUP($B33,'３回目集計表'!$D$6:$AS$65,39,FALSE)))","v":""},"",{"$f":"IF($C33=\"\",\"\",IF(ISERROR(VLOOKUP($B33,'３回目集計表'!$D$6:$AS$65,40,FALSE)),\"\",VLOOKUP($B33,'３回目集計表'!$D$6:$AS$65,40,FALSE)))","v":""},"",{"$f":"IF($C33=\"\",\"\",IF(ISERROR(VLOOKUP($B33,'３回目集計表'!$D$6:$AS$65,41,FALSE)),\"\",VLOOKUP($B33,'３回目集計表'!$D$6:$AS$65,41,FALSE)))","v":""},"",{"$f":"IF($C33=\"\",\"\",IF(ISERROR(VLOOKUP($B33,'３回目集計表'!$D$6:$AS$65,42,FALSE)),\"\",VLOOKUP($B33,'３回目集計表'!$D$6:$AS$65,42,FALSE)))","v":""},"","☐"]
[null,25,{"$f":"IF(基礎データ!C29=0,\"\",基礎データ!C29)","v":""},null,{"$f":"IF($C34=\"\",\"\",IF(ISERROR(VLOOKUP($B34,'1回目集計表'!$D$6:$AS$65,39,FALSE)),\"\",VLOOKUP($B34,'1回目集計表'!$D$6:$AS$65,39,FALSE)))","v":""},{"$f":"IF($C34=\"\",\"\",IF(ISERROR(VLOOKUP($B34,'1回目集計表'!$D$6:$AS$65,40,FALSE)),\"\",VLOOKUP($B34,'1回目集計表'!$D$6:$AS$65,40,FALSE)))","v":""},{"$f":"IF($C34=\"\",\"\",IF(ISERROR(VLOOKUP($B34,'1回目集計表'!$D$6:$AS$65,41,FALSE)),\"\",VLOOKUP($B34,'1回目集計表'!$D$6:$AS$65,41,FALSE)))","v":""},{"$f":"IF($C34=\"\",\"\",IF(ISERROR(VLOOKUP($B34,'1回目集計表'!$D$6:$AS$65,42,FALSE)),\"\",VLOOKUP($B34,'1回目集計表'!$D$6:$AS$65,42,FALSE)))","v":""},"☐","⇒",{"$f":"IF($C34=\"\",\"\",IF(ISERROR(VLOOKUP($B34,'２回目集計表'!$D$6:$AS$65,39,FALSE)),\"\",VLOOKUP($B34,'２回目集計表'!$D$6:$AS$65,39,FALSE)))","v":""},"",{"$f":"IF($C34=\"\",\"\",IF(ISERROR(VLOOKUP($B34,'２回目集計表'!$D$6:$AS$65,40,FALSE)),\"\",VLOOKUP($B34,'２回目集計表'!$D$6:$AS$65,40,FALSE)))","v":""},"",{"$f":"IF($C34=\"\",\"\",IF(ISERROR(VLOOKUP($B34,'２回目集計表'!$D$6:$AS$65,41,FALSE)),\"\",VLOOKUP($B34,'２回目集計表'!$D$6:$AS$65,41,FALSE)))","v":""},"",{"$f":"IF($C34=\"\",\"\",IF(ISERROR(VLOOKUP($B34,'２回目集計表'!$D$6:$AS$65,42,FALSE)),\"\",VLOOKUP($B34,'２回目集計表'!$D$6:$AS$65,42,FALSE)))","v":""},"","☐","⇒",{"$f":"IF($C34=\"\",\"\",IF(ISERROR(VLOOKUP($B34,'３回目集計表'!$D$6:$AS$65,39,FALSE)),\"\",VLOOKUP($B34,'３回目集計表'!$D$6:$AS$65,39,FALSE)))","v":""},"",{"$f":"IF($C34=\"\",\"\",IF(ISERROR(VLOOKUP($B34,'３回目集計表'!$D$6:$AS$65,40,FALSE)),\"\",VLOOKUP($B34,'３回目集計表'!$D$6:$AS$65,40,FALSE)))","v":""},"",{"$f":"IF($C34=\"\",\"\",IF(ISERROR(VLOOKUP($B34,'３回目集計表'!$D$6:$AS$65,41,FALSE)),\"\",VLOOKUP($B34,'３回目集計表'!$D$6:$AS$65,41,FALSE)))","v":""},"",{"$f":"IF($C34=\"\",\"\",IF(ISERROR(VLOOKUP($B34,'３回目集計表'!$D$6:$AS$65,42,FALSE)),\"\",VLOOKUP($B34,'３回目集計表'!$D$6:$AS$65,42,FALSE)))","v":""},"","☐"]
[null,26,{"$f":"IF(基礎データ!C30=0,\"\",基礎データ!C30)","v":""},null,{"$f":"IF($C35=\"\",\"\",IF(ISERROR(VLOOKUP($B35,'1回目集計表'!$D$6:$AS$65,39,FALSE)),\"\",VLOOKUP($B35,'1回目集計表'!$D$6:$AS$65,39,FALSE)))","v":""},{"$f":"IF($C35=\"\",\"\",IF(ISERROR(VLOOKUP($B35,'1回目集計表'!$D$6:$AS$65,40,FALSE)),\"\",VLOOKUP($B35,'1回目集計表'!$D$6:$AS$65,40,FALSE)))","v":""},{"$f":"IF($C35=\"\",\"\",IF(ISERROR(VLOOKUP($B35,'1回目集計表'!$D$6:$AS$65,41,FALSE)),\"\",VLOOKUP($B35,'1回目集計表'!$D$6:$AS$65,41,FALSE)))","v":""},{"$f":"IF($C35=\"\",\"\",IF(ISERROR(VLOOKUP($B35,'1回目集計表'!$D$6:$AS$65,42,FALSE)),\"\",VLOOKUP($B35,'1回目集計表'!$D$6:$AS$65,42,FALSE)))","v":""},"☐","⇒",{"$f":"IF($C35=\"\",\"\",IF(ISERROR(VLOOKUP($B35,'２回目集計表'!$D$6:$AS$65,39,FALSE)),\"\",VLOOKUP($B35,'２回目集計表'!$D$6:$AS$65,39,FALSE)))","v":""},"",{"$f":"IF($C35=\"\",\"\",IF(ISERROR(VLOOKUP($B35,'２回目集計表'!$D$6:$AS$65,40,FALSE)),\"\",VLOOKUP($B35,'２回目集計表'!$D$6:$AS$65,40,FALSE)))","v":""},"",{"$f":"IF($C35=\"\",\"\",IF(ISERROR(VLOOKUP($B35,'２回目集計表'!$D$6:$AS$65,41,FALSE)),\"\",VLOOKUP($B35,'２回目集計表'!$D$6:$AS$65,41,FALSE)))","v":""},"",{"$f":"IF($C35=\"\",\"\",IF(ISERROR(VLOOKUP($B35,'２回目集計表'!$D$6:$AS$65,42,FALSE)),\"\",VLOOKUP($B35,'２回目集計表'!$D$6:$AS$65,42,FALSE)))","v":""},"","☐","⇒",{"$f":"IF($C35=\"\",\"\",IF(ISERROR(VLOOKUP($B35,'３回目集計表'!$D$6:$AS$65,39,FALSE)),\"\",VLOOKUP($B35,'３回目集計表'!$D$6:$AS$65,39,FALSE)))","v":""},"",{"$f":"IF($C35=\"\",\"\",IF(ISERROR(VLOOKUP($B35,'３回目集計表'!$D$6:$AS$65,40,FALSE)),\"\",VLOOKUP($B35,'３回目集計表'!$D$6:$AS$65,40,FALSE)))","v":""},"",{"$f":"IF($C35=\"\",\"\",IF(ISERROR(VLOOKUP($B35,'３回目集計表'!$D$6:$AS$65,41,FALSE)),\"\",VLOOKUP($B35,'３回目集計表'!$D$6:$AS$65,41,FALSE)))","v":""},"",{"$f":"IF($C35=\"\",\"\",IF(ISERROR(VLOOKUP($B35,'３回目集計表'!$D$6:$AS$65,42,FALSE)),\"\",VLOOKUP($B35,'３回目集計表'!$D$6:$AS$65,42,FALSE)))","v":""},"","☐"]
[null,27,{"$f":"IF(基礎データ!C31=0,\"\",基礎データ!C31)","v":""},null,{"$f":"IF($C36=\"\",\"\",IF(ISERROR(VLOOKUP($B36,'1回目集計表'!$D$6:$AS$65,39,FALSE)),\"\",VLOOKUP($B36,'1回目集計表'!$D$6:$AS$65,39,FALSE)))","v":""},{"$f":"IF($C36=\"\",\"\",IF(ISERROR(VLOOKUP($B36,'1回目集計表'!$D$6:$AS$65,40,FALSE)),\"\",VLOOKUP($B36,'1回目集計表'!$D$6:$AS$65,40,FALSE)))","v":""},{"$f":"IF($C36=\"\",\"\",IF(ISERROR(VLOOKUP($B36,'1回目集計表'!$D$6:$AS$65,41,FALSE)),\"\",VLOOKUP($B36,'1回目集計表'!$D$6:$AS$65,41,FALSE)))","v":""},{"$f":"IF($C36=\"\",\"\",IF(ISERROR(VLOOKUP($B36,'1回目集計表'!$D$6:$AS$65,42,FALSE)),\"\",VLOOKUP($B36,'1回目集計表'!$D$6:$AS$65,42,FALSE)))","v":""},"☐","⇒",{"$f":"IF($C36=\"\",\"\",IF(ISERROR(VLOOKUP($B36,'２回目集計表'!$D$6:$AS$65,39,FALSE)),\"\",VLOOKUP($B36,'２回目集計表'!$D$6:$AS$65,39,FALSE)))","v":""},"",{"$f":"IF($C36=\"\",\"\",IF(ISERROR(VLOOKUP($B36,'２回目集計表'!$D$6:$AS$65,40,FALSE)),\"\",VLOOKUP($B36,'２回目集計表'!$D$6:$AS$65,40,FALSE)))","v":""},"",{"$f":"IF($C36=\"\",\"\",IF(ISERROR(VLOOKUP($B36,'２回目集計表'!$D$6:$AS$65,41,FALSE)),\"\",VLOOKUP($B36,'２回目集計表'!$D$6:$AS$65,41,FALSE)))","v":""},"",{"$f":"IF($C36=\"\",\"\",IF(ISERROR(VLOOKUP($B36,'２回目集計表'!$D$6:$AS$65,42,FALSE)),\"\",VLOOKUP($B36,'２回目集計表'!$D$6:$AS$65,42,FALSE)))","v":""},"","☐","⇒",{"$f":"IF($C36=\"\",\"\",IF(ISERROR(VLOOKUP($B36,'３回目集計表'!$D$6:$AS$65,39,FALSE)),\"\",VLOOKUP($B36,'３回目集計表'!$D$6:$AS$65,39,FALSE)))","v":""},"",{"$f":"IF($C36=\"\",\"\",IF(ISERROR(VLOOKUP($B36,'３回目集計表'!$D$6:$AS$65,40,FALSE)),\"\",VLOOKUP($B36,'３回目集計表'!$D$6:$AS$65,40,FALSE)))","v":""},"",{"$f":"IF($C36=\"\",\"\",IF(ISERROR(VLOOKUP($B36,'３回目集計表'!$D$6:$AS$65,41,FALSE)),\"\",VLOOKUP($B36,'３回目集計表'!$D$6:$AS$65,41,FALSE)))","v":""},"",{"$f":"IF($C36=\"\",\"\",IF(ISERROR(VLOOKUP($B36,'３回目集計表'!$D$6:$AS$65,42,FALSE)),\"\",VLOOKUP($B36,'３回目集計表'!$D$6:$AS$65,42,FALSE)))","v":""},"","☐"]
[null,28,{"$f":"IF(基礎データ!C32=0,\"\",基礎データ!C32)","v":""},null,{"$f":"IF($C37=\"\",\"\",IF(ISERROR(VLOOKUP($B37,'1回目集計表'!$D$6:$AS$65,39,FALSE)),\"\",VLOOKUP($B37,'1回目集計表'!$D$6:$AS$65,39,FALSE)))","v":""},{"$f":"IF($C37=\"\",\"\",IF(ISERROR(VLOOKUP($B37,'1回目集計表'!$D$6:$AS$65,40,FALSE)),\"\",VLOOKUP($B37,'1回目集計表'!$D$6:$AS$65,40,FALSE)))","v":""},{"$f":"IF($C37=\"\",\"\",IF(ISERROR(VLOOKUP($B37,'1回目集計表'!$D$6:$AS$65,41,FALSE)),\"\",VLOOKUP($B37,'1回目集計表'!$D$6:$AS$65,41,FALSE)))","v":""},{"$f":"IF($C37=\"\",\"\",IF(ISERROR(VLOOKUP($B37,'1回目集計表'!$D$6:$AS$65,42,FALSE)),\"\",VLOOKUP($B37,'1回目集計表'!$D$6:$AS$65,42,FALSE)))","v":""},"☐","⇒",{"$f":"IF($C37=\"\",\"\",IF(ISERROR(VLOOKUP($B37,'２回目集計表'!$D$6:$AS$65,39,FALSE)),\"\",VLOOKUP($B37,'２回目集計表'!$D$6:$AS$65,39,FALSE)))","v":""},"",{"$f":"IF($C37=\"\",\"\",IF(ISERROR(VLOOKUP($B37,'２回目集計表'!$D$6:$AS$65,40,FALSE)),\"\",VLOOKUP($B37,'２回目集計表'!$D$6:$AS$65,40,FALSE)))","v":""},"",{"$f":"IF($C37=\"\",\"\",IF(ISERROR(VLOOKUP($B37,'２回目集計表'!$D$6:$AS$65,41,FALSE)),\"\",VLOOKUP($B37,'２回目集計表'!$D$6:$AS$65,41,FALSE)))","v":""},"",{"$f":"IF($C37=\"\",\"\",IF(ISERROR(VLOOKUP($B37,'２回目集計表'!$D$6:$AS$65,42,FALSE)),\"\",VLOOKUP($B37,'２回目集計表'!$D$6:$AS$65,42,FALSE)))","v":""},"","☐","⇒",{"$f":"IF($C37=\"\",\"\",IF(ISERROR(VLOOKUP($B37,'３回目集計表'!$D$6:$AS$65,39,FALSE)),\"\",VLOOKUP($B37,'３回目集計表'!$D$6:$AS$65,39,FALSE)))","v":""},"",{"$f":"IF($C37=\"\",\"\",IF(ISERROR(VLOOKUP($B37,'３回目集計表'!$D$6:$AS$65,40,FALSE)),\"\",VLOOKUP($B37,'３回目集計表'!$D$6:$AS$65,40,FALSE)))","v":""},"",{"$f":"IF($C37=\"\",\"\",IF(ISERROR(VLOOKUP($B37,'３回目集計表'!$D$6:$AS$65,41,FALSE)),\"\",VLOOKUP($B37,'３回目集計表'!$D$6:$AS$65,41,FALSE)))","v":""},"",{"$f":"IF($C37=\"\",\"\",IF(ISERROR(VLOOKUP($B37,'３回目集計表'!$D$6:$AS$65,42,FALSE)),\"\",VLOOKUP($B37,'３回目集計表'!$D$6:$AS$65,42,FALSE)))","v":""},"","☐"]
[null,29,{"$f":"IF(基礎データ!C33=0,\"\",基礎データ!C33)","v":""},null,{"$f":"IF($C38=\"\",\"\",IF(ISERROR(VLOOKUP($B38,'1回目集計表'!$D$6:$AS$65,39,FALSE)),\"\",VLOOKUP($B38,'1回目集計表'!$D$6:$AS$65,39,FALSE)))","v":""},{"$f":"IF($C38=\"\",\"\",IF(ISERROR(VLOOKUP($B38,'1回目集計表'!$D$6:$AS$65,40,FALSE)),\"\",VLOOKUP($B38,'1回目集計表'!$D$6:$AS$65,40,FALSE)))","v":""},{"$f":"IF($C38=\"\",\"\",IF(ISERROR(VLOOKUP($B38,'1回目集計表'!$D$6:$AS$65,41,FALSE)),\"\",VLOOKUP($B38,'1回目集計表'!$D$6:$AS$65,41,FALSE)))","v":""},{"$f":"IF($C38=\"\",\"\",IF(ISERROR(VLOOKUP($B38,'1回目集計表'!$D$6:$AS$65,42,FALSE)),\"\",VLOOKUP($B38,'1回目集計表'!$D$6:$AS$65,42,FALSE)))","v":""},"☐","⇒",{"$f":"IF($C38=\"\",\"\",IF(ISERROR(VLOOKUP($B38,'２回目集計表'!$D$6:$AS$65,39,FALSE)),\"\",VLOOKUP($B38,'２回目集計表'!$D$6:$AS$65,39,FALSE)))","v":""},"",{"$f":"IF($C38=\"\",\"\",IF(ISERROR(VLOOKUP($B38,'２回目集計表'!$D$6:$AS$65,40,FALSE)),\"\",VLOOKUP($B38,'２回目集計表'!$D$6:$AS$65,40,FALSE)))","v":""},"",{"$f":"IF($C38=\"\",\"\",IF(ISERROR(VLOOKUP($B38,'２回目集計表'!$D$6:$AS$65,41,FALSE)),\"\",VLOOKUP($B38,'２回目集計表'!$D$6:$AS$65,41,FALSE)))","v":""},"",{"$f":"IF($C38=\"\",\"\",IF(ISERROR(VLOOKUP($B38,'２回目集計表'!$D$6:$AS$65,42,FALSE)),\"\",VLOOKUP($B38,'２回目集計表'!$D$6:$AS$65,42,FALSE)))","v":""},"","☐","⇒",{"$f":"IF($C38=\"\",\"\",IF(ISERROR(VLOOKUP($B38,'３回目集計表'!$D$6:$AS$65,39,FALSE)),\"\",VLOOKUP($B38,'３回目集計表'!$D$6:$AS$65,39,FALSE)))","v":""},"",{"$f":"IF($C38=\"\",\"\",IF(ISERROR(VLOOKUP($B38,'３回目集計表'!$D$6:$AS$65,40,FALSE)),\"\",VLOOKUP($B38,'３回目集計表'!$D$6:$AS$65,40,FALSE)))","v":""},"",{"$f":"IF($C38=\"\",\"\",IF(ISERROR(VLOOKUP($B38,'３回目集計表'!$D$6:$AS$65,41,FALSE)),\"\",VLOOKUP($B38,'３回目集計表'!$D$6:$AS$65,41,FALSE)))","v":""},"",{"$f":"IF($C38=\"\",\"\",IF(ISERROR(VLOOKUP($B38,'３回目集計表'!$D$6:$AS$65,42,FALSE)),\"\",VLOOKUP($B38,'３回目集計表'!$D$6:$AS$65,42,FALSE)))","v":""},"","☐"]
[null,30,{"$f":"IF(基礎データ!C34=0,\"\",基礎データ!C34)","v":""},null,{"$f":"IF($C39=\"\",\"\",IF(ISERROR(VLOOKUP($B39,'1回目集計表'!$D$6:$AS$65,39,FALSE)),\"\",VLOOKUP($B39,'1回目集計表'!$D$6:$AS$65,39,FALSE)))","v":""},{"$f":"IF($C39=\"\",\"\",IF(ISERROR(VLOOKUP($B39,'1回目集計表'!$D$6:$AS$65,40,FALSE)),\"\",VLOOKUP($B39,'1回目集計表'!$D$6:$AS$65,40,FALSE)))","v":""},{"$f":"IF($C39=\"\",\"\",IF(ISERROR(VLOOKUP($B39,'1回目集計表'!$D$6:$AS$65,41,FALSE)),\"\",VLOOKUP($B39,'1回目集計表'!$D$6:$AS$65,41,FALSE)))","v":""},{"$f":"IF($C39=\"\",\"\",IF(ISERROR(VLOOKUP($B39,'1回目集計表'!$D$6:$AS$65,42,FALSE)),\"\",VLOOKUP($B39,'1回目集計表'!$D$6:$AS$65,42,FALSE)))","v":""},"☐","⇒",{"$f":"IF($C39=\"\",\"\",IF(ISERROR(VLOOKUP($B39,'２回目集計表'!$D$6:$AS$65,39,FALSE)),\"\",VLOOKUP($B39,'２回目集計表'!$D$6:$AS$65,39,FALSE)))","v":""},"",{"$f":"IF($C39=\"\",\"\",IF(ISERROR(VLOOKUP($B39,'２回目集計表'!$D$6:$AS$65,40,FALSE)),\"\",VLOOKUP($B39,'２回目集計表'!$D$6:$AS$65,40,FALSE)))","v":""},"",{"$f":"IF($C39=\"\",\"\",IF(ISERROR(VLOOKUP($B39,'２回目集計表'!$D$6:$AS$65,41,FALSE)),\"\",VLOOKUP($B39,'２回目集計表'!$D$6:$AS$65,41,FALSE)))","v":""},"",{"$f":"IF($C39=\"\",\"\",IF(ISERROR(VLOOKUP($B39,'２回目集計表'!$D$6:$AS$65,42,FALSE)),\"\",VLOOKUP($B39,'２回目集計表'!$D$6:$AS$65,42,FALSE)))","v":""},"","☐","⇒",{"$f":"IF($C39=\"\",\"\",IF(ISERROR(VLOOKUP($B39,'３回目集計表'!$D$6:$AS$65,39,FALSE)),\"\",VLOOKUP($B39,'３回目集計表'!$D$6:$AS$65,39,FALSE)))","v":""},"",{"$f":"IF($C39=\"\",\"\",IF(ISERROR(VLOOKUP($B39,'３回目集計表'!$D$6:$AS$65,40,FALSE)),\"\",VLOOKUP($B39,'３回目集計表'!$D$6:$AS$65,40,FALSE)))","v":""},"",{"$f":"IF($C39=\"\",\"\",IF(ISERROR(VLOOKUP($B39,'３回目集計表'!$D$6:$AS$65,41,FALSE)),\"\",VLOOKUP($B39,'３回目集計表'!$D$6:$AS$65,41,FALSE)))","v":""},"",{"$f":"IF($C39=\"\",\"\",IF(ISERROR(VLOOKUP($B39,'３回目集計表'!$D$6:$AS$65,42,FALSE)),\"\",VLOOKUP($B39,'３回目集計表'!$D$6:$AS$65,42,FALSE)))","v":""},"","☐"]
[null,31,{"$f":"IF(基礎データ!C35=0,\"\",基礎データ!C35)","v":""},null,{"$f":"IF($C40=\"\",\"\",IF(ISERROR(VLOOKUP($B40,'1回目集計表'!$D$6:$AS$65,39,FALSE)),\"\",VLOOKUP($B40,'1回目集計表'!$D$6:$AS$65,39,FALSE)))","v":""},{"$f":"IF($C40=\"\",\"\",IF(ISERROR(VLOOKUP($B40,'1回目集計表'!$D$6:$AS$65,40,FALSE)),\"\",VLOOKUP($B40,'1回目集計表'!$D$6:$AS$65,40,FALSE)))","v":""},{"$f":"IF($C40=\"\",\"\",IF(ISERROR(VLOOKUP($B40,'1回目集計表'!$D$6:$AS$65,41,FALSE)),\"\",VLOOKUP($B40,'1回目集計表'!$D$6:$AS$65,41,FALSE)))","v":""},{"$f":"IF($C40=\"\",\"\",IF(ISERROR(VLOOKUP($B40,'1回目集計表'!$D$6:$AS$65,42,FALSE)),\"\",VLOOKUP($B40,'1回目集計表'!$D$6:$AS$65,42,FALSE)))","v":""},"☐","⇒",{"$f":"IF($C40=\"\",\"\",IF(ISERROR(VLOOKUP($B40,'２回目集計表'!$D$6:$AS$65,39,FALSE)),\"\",VLOOKUP($B40,'２回目集計表'!$D$6:$AS$65,39,FALSE)))","v":""},"",{"$f":"IF($C40=\"\",\"\",IF(ISERROR(VLOOKUP($B40,'２回目集計表'!$D$6:$AS$65,40,FALSE)),\"\",VLOOKUP($B40,'２回目集計表'!$D$6:$AS$65,40,FALSE)))","v":""},"",{"$f":"IF($C40=\"\",\"\",IF(ISERROR(VLOOKUP($B40,'２回目集計表'!$D$6:$AS$65,41,FALSE)),\"\",VLOOKUP($B40,'２回目集計表'!$D$6:$AS$65,41,FALSE)))","v":""},"",{"$f":"IF($C40=\"\",\"\",IF(ISERROR(VLOOKUP($B40,'２回目集計表'!$D$6:$AS$65,42,FALSE)),\"\",VLOOKUP($B40,'２回目集計表'!$D$6:$AS$65,42,FALSE)))","v":""},"","☐","⇒",{"$f":"IF($C40=\"\",\"\",IF(ISERROR(VLOOKUP($B40,'３回目集計表'!$D$6:$AS$65,39,FALSE)),\"\",VLOOKUP($B40,'３回目集計表'!$D$6:$AS$65,39,FALSE)))","v":""},"",{"$f":"IF($C40=\"\",\"\",IF(ISERROR(VLOOKUP($B40,'３回目集計表'!$D$6:$AS$65,40,FALSE)),\"\",VLOOKUP($B40,'３回目集計表'!$D$6:$AS$65,40,FALSE)))","v":""},"",{"$f":"IF($C40=\"\",\"\",IF(ISERROR(VLOOKUP($B40,'３回目集計表'!$D$6:$AS$65,41,FALSE)),\"\",VLOOKUP($B40,'３回目集計表'!$D$6:$AS$65,41,FALSE)))","v":""},"",{"$f":"IF($C40=\"\",\"\",IF(ISERROR(VLOOKUP($B40,'３回目集計表'!$D$6:$AS$65,42,FALSE)),\"\",VLOOKUP($B40,'３回目集計表'!$D$6:$AS$65,42,FALSE)))","v":""},"","☐"]
[null,32,{"$f":"IF(基礎データ!C36=0,\"\",基礎データ!C36)","v":""},null,{"$f":"IF($C41=\"\",\"\",IF(ISERROR(VLOOKUP($B41,'1回目集計表'!$D$6:$AS$65,39,FALSE)),\"\",VLOOKUP($B41,'1回目集計表'!$D$6:$AS$65,39,FALSE)))","v":""},{"$f":"IF($C41=\"\",\"\",IF(ISERROR(VLOOKUP($B41,'1回目集計表'!$D$6:$AS$65,40,FALSE)),\"\",VLOOKUP($B41,'1回目集計表'!$D$6:$AS$65,40,FALSE)))","v":""},{"$f":"IF($C41=\"\",\"\",IF(ISERROR(VLOOKUP($B41,'1回目集計表'!$D$6:$AS$65,41,FALSE)),\"\",VLOOKUP($B41,'1回目集計表'!$D$6:$AS$65,41,FALSE)))","v":""},{"$f":"IF($C41=\"\",\"\",IF(ISERROR(VLOOKUP($B41,'1回目集計表'!$D$6:$AS$65,42,FALSE)),\"\",VLOOKUP($B41,'1回目集計表'!$D$6:$AS$65,42,FALSE)))","v":""},"☐","⇒",{"$f":"IF($C41=\"\",\"\",IF(ISERROR(VLOOKUP($B41,'２回目集計表'!$D$6:$AS$65,39,FALSE)),\"\",VLOOKUP($B41,'２回目集計表'!$D$6:$AS$65,39,FALSE)))","v":""},"",{"$f":"IF($C41=\"\",\"\",IF(ISERROR(VLOOKUP($B41,'２回目集計表'!$D$6:$AS$65,40,FALSE)),\"\",VLOOKUP($B41,'２回目集計表'!$D$6:$AS$65,40,FALSE)))","v":""},"",{"$f":"IF($C41=\"\",\"\",IF(ISERROR(VLOOKUP($B41,'２回目集計表'!$D$6:$AS$65,41,FALSE)),\"\",VLOOKUP($B41,'２回目集計表'!$D$6:$AS$65,41,FALSE)))","v":""},"",{"$f":"IF($C41=\"\",\"\",IF(ISERROR(VLOOKUP($B41,'２回目集計表'!$D$6:$AS$65,42,FALSE)),\"\",VLOOKUP($B41,'２回目集計表'!$D$6:$AS$65,42,FALSE)))","v":""},"","☐","⇒",{"$f":"IF($C41=\"\",\"\",IF(ISERROR(VLOOKUP($B41,'３回目集計表'!$D$6:$AS$65,39,FALSE)),\"\",VLOOKUP($B41,'３回目集計表'!$D$6:$AS$65,39,FALSE)))","v":""},"",{"$f":"IF($C41=\"\",\"\",IF(ISERROR(VLOOKUP($B41,'３回目集計表'!$D$6:$AS$65,40,FALSE)),\"\",VLOOKUP($B41,'３回目集計表'!$D$6:$AS$65,40,FALSE)))","v":""},"",{"$f":"IF($C41=\"\",\"\",IF(ISERROR(VLOOKUP($B41,'３回目集計表'!$D$6:$AS$65,41,FALSE)),\"\",VLOOKUP($B41,'３回目集計表'!$D$6:$AS$65,41,FALSE)))","v":""},"",{"$f":"IF($C41=\"\",\"\",IF(ISERROR(VLOOKUP($B41,'３回目集計表'!$D$6:$AS$65,42,FALSE)),\"\",VLOOKUP($B41,'３回目集計表'!$D$6:$AS$65,42,FALSE)))","v":""},"","☐"]
[null,33,{"$f":"IF(基礎データ!C37=0,\"\",基礎データ!C37)","v":""},null,{"$f":"IF($C42=\"\",\"\",IF(ISERROR(VLOOKUP($B42,'1回目集計表'!$D$6:$AS$65,39,FALSE)),\"\",VLOOKUP($B42,'1回目集計表'!$D$6:$AS$65,39,FALSE)))","v":""},{"$f":"IF($C42=\"\",\"\",IF(ISERROR(VLOOKUP($B42,'1回目集計表'!$D$6:$AS$65,40,FALSE)),\"\",VLOOKUP($B42,'1回目集計表'!$D$6:$AS$65,40,FALSE)))","v":""},{"$f":"IF($C42=\"\",\"\",IF(ISERROR(VLOOKUP($B42,'1回目集計表'!$D$6:$AS$65,41,FALSE)),\"\",VLOOKUP($B42,'1回目集計表'!$D$6:$AS$65,41,FALSE)))","v":""},{"$f":"IF($C42=\"\",\"\",IF(ISERROR(VLOOKUP($B42,'1回目集計表'!$D$6:$AS$65,42,FALSE)),\"\",VLOOKUP($B42,'1回目集計表'!$D$6:$AS$65,42,FALSE)))","v":""},"☐","⇒",{"$f":"IF($C42=\"\",\"\",IF(ISERROR(VLOOKUP($B42,'２回目集計表'!$D$6:$AS$65,39,FALSE)),\"\",VLOOKUP($B42,'２回目集計表'!$D$6:$AS$65,39,FALSE)))","v":""},{"$f":"IF(K42=\"\",\"\",IF(K42>E42,\"↑\",IF(K42<E42,\"↓\",\"\")))","v":""},{"$f":"IF($C42=\"\",\"\",IF(ISERROR(VLOOKUP($B42,'２回目集計表'!$D$6:$AS$65,40,FALSE)),\"\",VLOOKUP($B42,'２回目集計表'!$D$6:$AS$65,40,FALSE)))","v":""},{"$f":"IF(M42=\"\",\"\",IF(M42>F42,\"↑\",IF(M42<F42,\"↓\",\"\")))","v":""},{"$f":"IF($C42=\"\",\"\",IF(ISERROR(VLOOKUP($B42,'２回目集計表'!$D$6:$AS$65,41,FALSE)),\"\",VLOOKUP($B42,'２回目集計表'!$D$6:$AS$65,41,FALSE)))","v":""},{"$f":"IF(O42=\"\",\"\",IF(O42>G42,\"↑\",IF(O42<G42,\"↓\",\"\")))","v":""},{"$f":"IF($C42=\"\",\"\",IF(ISERROR(VLOOKUP($B42,'２回目集計表'!$D$6:$AS$65,42,FALSE)),\"\",VLOOKUP($B42,'２回目集計表'!$D$6:$AS$65,42,FALSE)))","v":""},{"$f":"IF(Q42=\"\",\"\",IF(Q42>H42,\"↑\",IF(Q42<H42,\"↓\",\"\")))","v":""},"☐","⇒",{"$f":"IF($C42=\"\",\"\",IF(ISERROR(VLOOKUP($B42,'３回目集計表'!$D$6:$AS$65,39,FALSE)),\"\",VLOOKUP($B42,'３回目集計表'!$D$6:$AS$65,39,FALSE)))","v":""},{"$f":"IF(U42=\"\",\"\",IF(U42>K42,\"↑\",IF(U42<K42,\"↓\",\"\")))","v":""},{"$f":"IF($C42=\"\",\"\",IF(ISERROR(VLOOKUP($B42,'３回目集計表'!$D$6:$AS$65,40,FALSE)),\"\",VLOOKUP($B42,'３回目集計表'!$D$6:$AS$65,40,FALSE)))","v":""},{"$f":"IF(W42=\"\",\"\",IF(W42>M42,\"↑\",IF(W42<M42,\"↓\",\"\")))","v":""},{"$f":"IF($C42=\"\",\"\",IF(ISERROR(VLOOKUP($B42,'３回目集計表'!$D$6:$AS$65,41,FALSE)),\"\",VLOOKUP($B42,'３回目集計表'!$D$6:$AS$65,41,FALSE)))","v":""},{"$f":"IF(Y42=\"\",\"\",IF(Y42>O42,\"↑\",IF(Y42<O42,\"↓\",\"\")))","v":""},{"$f":"IF($C42=\"\",\"\",IF(ISERROR(VLOOKUP($B42,'３回目集計表'!$D$6:$AS$65,42,FALSE)),\"\",VLOOKUP($B42,'３回目集計表'!$D$6:$AS$65,42,FALSE)))","v":""},{"$f":"IF(AA42=\"\",\"\",IF(AA42>Q42,\"↑\",IF(AA42<Q42,\"↓\",\"\")))","v":""},"☐"]
[null,34,{"$f":"IF(基礎データ!C38=0,\"\",基礎データ!C38)","v":""},null,{"$f":"IF($C43=\"\",\"\",IF(ISERROR(VLOOKUP($B43,'1回目集計表'!$D$6:$AS$65,39,FALSE)),\"\",VLOOKUP($B43,'1回目集計表'!$D$6:$AS$65,39,FALSE)))","v":""},{"$f":"IF($C43=\"\",\"\",IF(ISERROR(VLOOKUP($B43,'1回目集計表'!$D$6:$AS$65,40,FALSE)),\"\",VLOOKUP($B43,'1回目集計表'!$D$6:$AS$65,40,FALSE)))","v":""},{"$f":"IF($C43=\"\",\"\",IF(ISERROR(VLOOKUP($B43,'1回目集計表'!$D$6:$AS$65,41,FALSE)),\"\",VLOOKUP($B43,'1回目集計表'!$D$6:$AS$65,41,FALSE)))","v":""},{"$f":"IF($C43=\"\",\"\",IF(ISERROR(VLOOKUP($B43,'1回目集計表'!$D$6:$AS$65,42,FALSE)),\"\",VLOOKUP($B43,'1回目集計表'!$D$6:$AS$65,42,FALSE)))","v":""},"☐","⇒",{"$f":"IF($C43=\"\",\"\",IF(ISERROR(VLOOKUP($B43,'２回目集計表'!$D$6:$AS$65,39,FALSE)),\"\",VLOOKUP($B43,'２回目集計表'!$D$6:$AS$65,39,FALSE)))","v":""},"",{"$f":"IF($C43=\"\",\"\",IF(ISERROR(VLOOKUP($B43,'２回目集計表'!$D$6:$AS$65,40,FALSE)),\"\",VLOOKUP($B43,'２回目集計表'!$D$6:$AS$65,40,FALSE)))","v":""},"",{"$f":"IF($C43=\"\",\"\",IF(ISERROR(VLOOKUP($B43,'２回目集計表'!$D$6:$AS$65,41,FALSE)),\"\",VLOOKUP($B43,'２回目集計表'!$D$6:$AS$65,41,FALSE)))","v":""},"",{"$f":"IF($C43=\"\",\"\",IF(ISERROR(VLOOKUP($B43,'２回目集計表'!$D$6:$AS$65,42,FALSE)),\"\",VLOOKUP($B43,'２回目集計表'!$D$6:$AS$65,42,FALSE)))","v":""},"","☐","⇒",{"$f":"IF($C43=\"\",\"\",IF(ISERROR(VLOOKUP($B43,'３回目集計表'!$D$6:$AS$65,39,FALSE)),\"\",VLOOKUP($B43,'３回目集計表'!$D$6:$AS$65,39,FALSE)))","v":""},"",{"$f":"IF($C43=\"\",\"\",IF(ISERROR(VLOOKUP($B43,'３回目集計表'!$D$6:$AS$65,40,FALSE)),\"\",VLOOKUP($B43,'３回目集計表'!$D$6:$AS$65,40,FALSE)))","v":""},"",{"$f":"IF($C43=\"\",\"\",IF(ISERROR(VLOOKUP($B43,'３回目集計表'!$D$6:$AS$65,41,FALSE)),\"\",VLOOKUP($B43,'３回目集計表'!$D$6:$AS$65,41,FALSE)))","v":""},"",{"$f":"IF($C43=\"\",\"\",IF(ISERROR(VLOOKUP($B43,'３回目集計表'!$D$6:$AS$65,42,FALSE)),\"\",VLOOKUP($B43,'３回目集計表'!$D$6:$AS$65,42,FALSE)))","v":""},"","☐"]
[null,35,{"$f":"IF(基礎データ!C39=0,\"\",基礎データ!C39)","v":""},null,{"$f":"IF($C44=\"\",\"\",IF(ISERROR(VLOOKUP($B44,'1回目集計表'!$D$6:$AS$65,39,FALSE)),\"\",VLOOKUP($B44,'1回目集計表'!$D$6:$AS$65,39,FALSE)))","v":""},{"$f":"IF($C44=\"\",\"\",IF(ISERROR(VLOOKUP($B44,'1回目集計表'!$D$6:$AS$65,40,FALSE)),\"\",VLOOKUP($B44,'1回目集計表'!$D$6:$AS$65,40,FALSE)))","v":""},{"$f":"IF($C44=\"\",\"\",IF(ISERROR(VLOOKUP($B44,'1回目集計表'!$D$6:$AS$65,41,FALSE)),\"\",VLOOKUP($B44,'1回目集計表'!$D$6:$AS$65,41,FALSE)))","v":""},{"$f":"IF($C44=\"\",\"\",IF(ISERROR(VLOOKUP($B44,'1回目集計表'!$D$6:$AS$65,42,FALSE)),\"\",VLOOKUP($B44,'1回目集計表'!$D$6:$AS$65,42,FALSE)))","v":""},"☐","⇒",{"$f":"IF($C44=\"\",\"\",IF(ISERROR(VLOOKUP($B44,'２回目集計表'!$D$6:$AS$65,39,FALSE)),\"\",VLOOKUP($B44,'２回目集計表'!$D$6:$AS$65,39,FALSE)))","v":""},"",{"$f":"IF($C44=\"\",\"\",IF(ISERROR(VLOOKUP($B44,'２回目集計表'!$D$6:$AS$65,40,FALSE)),\"\",VLOOKUP($B44,'２回目集計表'!$D$6:$AS$65,40,FALSE)))","v":""},"",{"$f":"IF($C44=\"\",\"\",IF(ISERROR(VLOOKUP($B44,'２回目集計表'!$D$6:$AS$65,41,FALSE)),\"\",VLOOKUP($B44,'２回目集計表'!$D$6:$AS$65,41,FALSE)))","v":""},"",{"$f":"IF($C44=\"\",\"\",IF(ISERROR(VLOOKUP($B44,'２回目集計表'!$D$6:$AS$65,42,FALSE)),\"\",VLOOKUP($B44,'２回目集計表'!$D$6:$AS$65,42,FALSE)))","v":""},"","☐","⇒",{"$f":"IF($C44=\"\",\"\",IF(ISERROR(VLOOKUP($B44,'３回目集計表'!$D$6:$AS$65,39,FALSE)),\"\",VLOOKUP($B44,'３回目集計表'!$D$6:$AS$65,39,FALSE)))","v":""},"",{"$f":"IF($C44=\"\",\"\",IF(ISERROR(VLOOKUP($B44,'３回目集計表'!$D$6:$AS$65,40,FALSE)),\"\",VLOOKUP($B44,'３回目集計表'!$D$6:$AS$65,40,FALSE)))","v":""},"",{"$f":"IF($C44=\"\",\"\",IF(ISERROR(VLOOKUP($B44,'３回目集計表'!$D$6:$AS$65,41,FALSE)),\"\",VLOOKUP($B44,'３回目集計表'!$D$6:$AS$65,41,FALSE)))","v":""},"",{"$f":"IF($C44=\"\",\"\",IF(ISERROR(VLOOKUP($B44,'３回目集計表'!$D$6:$AS$65,42,FALSE)),\"\",VLOOKUP($B44,'３回目集計表'!$D$6:$AS$65,42,FALSE)))","v":""},"","☐"]
[null,36,{"$f":"IF(基礎データ!C40=0,\"\",基礎データ!C40)","v":""},null,{"$f":"IF($C45=\"\",\"\",IF(ISERROR(VLOOKUP($B45,'1回目集計表'!$D$6:$AS$65,39,FALSE)),\"\",VLOOKUP($B45,'1回目集計表'!$D$6:$AS$65,39,FALSE)))","v":""},{"$f":"IF($C45=\"\",\"\",IF(ISERROR(VLOOKUP($B45,'1回目集計表'!$D$6:$AS$65,40,FALSE)),\"\",VLOOKUP($B45,'1回目集計表'!$D$6:$AS$65,40,FALSE)))","v":""},{"$f":"IF($C45=\"\",\"\",IF(ISERROR(VLOOKUP($B45,'1回目集計表'!$D$6:$AS$65,41,FALSE)),\"\",VLOOKUP($B45,'1回目集計表'!$D$6:$AS$65,41,FALSE)))","v":""},{"$f":"IF($C45=\"\",\"\",IF(ISERROR(VLOOKUP($B45,'1回目集計表'!$D$6:$AS$65,42,FALSE)),\"\",VLOOKUP($B45,'1回目集計表'!$D$6:$AS$65,42,FALSE)))","v":""},"☐","⇒",{"$f":"IF($C45=\"\",\"\",IF(ISERROR(VLOOKUP($B45,'２回目集計表'!$D$6:$AS$65,39,FALSE)),\"\",VLOOKUP($B45,'２回目集計表'!$D$6:$AS$65,39,FALSE)))","v":""},"",{"$f":"IF($C45=\"\",\"\",IF(ISERROR(VLOOKUP($B45,'２回目集計表'!$D$6:$AS$65,40,FALSE)),\"\",VLOOKUP($B45,'２回目集計表'!$D$6:$AS$65,40,FALSE)))","v":""},"",{"$f":"IF($C45=\"\",\"\",IF(ISERROR(VLOOKUP($B45,'２回目集計表'!$D$6:$AS$65,41,FALSE)),\"\",VLOOKUP($B45,'２回目集計表'!$D$6:$AS$65,41,FALSE)))","v":""},"",{"$f":"IF($C45=\"\",\"\",IF(ISERROR(VLOOKUP($B45,'２回目集計表'!$D$6:$AS$65,42,FALSE)),\"\",VLOOKUP($B45,'２回目集計表'!$D$6:$AS$65,42,FALSE)))","v":""},"","☐","⇒",{"$f":"IF($C45=\"\",\"\",IF(ISERROR(VLOOKUP($B45,'３回目集計表'!$D$6:$AS$65,39,FALSE)),\"\",VLOOKUP($B45,'３回目集計表'!$D$6:$AS$65,39,FALSE)))","v":""},"",{"$f":"IF($C45=\"\",\"\",IF(ISERROR(VLOOKUP($B45,'３回目集計表'!$D$6:$AS$65,40,FALSE)),\"\",VLOOKUP($B45,'３回目集計表'!$D$6:$AS$65,40,FALSE)))","v":""},"",{"$f":"IF($C45=\"\",\"\",IF(ISERROR(VLOOKUP($B45,'３回目集計表'!$D$6:$AS$65,41,FALSE)),\"\",VLOOKUP($B45,'３回目集計表'!$D$6:$AS$65,41,FALSE)))","v":""},"",{"$f":"IF($C45=\"\",\"\",IF(ISERROR(VLOOKUP($B45,'３回目集計表'!$D$6:$AS$65,42,FALSE)),\"\",VLOOKUP($B45,'３回目集計表'!$D$6:$AS$65,42,FALSE)))","v":""},"","☐"]
[null,37,{"$f":"IF(基礎データ!C41=0,\"\",基礎データ!C41)","v":""},null,{"$f":"IF($C46=\"\",\"\",IF(ISERROR(VLOOKUP($B46,'1回目集計表'!$D$6:$AS$65,39,FALSE)),\"\",VLOOKUP($B46,'1回目集計表'!$D$6:$AS$65,39,FALSE)))","v":""},{"$f":"IF($C46=\"\",\"\",IF(ISERROR(VLOOKUP($B46,'1回目集計表'!$D$6:$AS$65,40,FALSE)),\"\",VLOOKUP($B46,'1回目集計表'!$D$6:$AS$65,40,FALSE)))","v":""},{"$f":"IF($C46=\"\",\"\",IF(ISERROR(VLOOKUP($B46,'1回目集計表'!$D$6:$AS$65,41,FALSE)),\"\",VLOOKUP($B46,'1回目集計表'!$D$6:$AS$65,41,FALSE)))","v":""},{"$f":"IF($C46=\"\",\"\",IF(ISERROR(VLOOKUP($B46,'1回目集計表'!$D$6:$AS$65,42,FALSE)),\"\",VLOOKUP($B46,'1回目集計表'!$D$6:$AS$65,42,FALSE)))","v":""},"☐","⇒",{"$f":"IF($C46=\"\",\"\",IF(ISERROR(VLOOKUP($B46,'２回目集計表'!$D$6:$AS$65,39,FALSE)),\"\",VLOOKUP($B46,'２回目集計表'!$D$6:$AS$65,39,FALSE)))","v":""},"",{"$f":"IF($C46=\"\",\"\",IF(ISERROR(VLOOKUP($B46,'２回目集計表'!$D$6:$AS$65,40,FALSE)),\"\",VLOOKUP($B46,'２回目集計表'!$D$6:$AS$65,40,FALSE)))","v":""},"",{"$f":"IF($C46=\"\",\"\",IF(ISERROR(VLOOKUP($B46,'２回目集計表'!$D$6:$AS$65,41,FALSE)),\"\",VLOOKUP($B46,'２回目集計表'!$D$6:$AS$65,41,FALSE)))","v":""},"",{"$f":"IF($C46=\"\",\"\",IF(ISERROR(VLOOKUP($B46,'２回目集計表'!$D$6:$AS$65,42,FALSE)),\"\",VLOOKUP($B46,'２回目集計表'!$D$6:$AS$65,42,FALSE)))","v":""},"","☐","⇒",{"$f":"IF($C46=\"\",\"\",IF(ISERROR(VLOOKUP($B46,'３回目集計表'!$D$6:$AS$65,39,FALSE)),\"\",VLOOKUP($B46,'３回目集計表'!$D$6:$AS$65,39,FALSE)))","v":""},"",{"$f":"IF($C46=\"\",\"\",IF(ISERROR(VLOOKUP($B46,'３回目集計表'!$D$6:$AS$65,40,FALSE)),\"\",VLOOKUP($B46,'３回目集計表'!$D$6:$AS$65,40,FALSE)))","v":""},"",{"$f":"IF($C46=\"\",\"\",IF(ISERROR(VLOOKUP($B46,'３回目集計表'!$D$6:$AS$65,41,FALSE)),\"\",VLOOKUP($B46,'３回目集計表'!$D$6:$AS$65,41,FALSE)))","v":""},"",{"$f":"IF($C46=\"\",\"\",IF(ISERROR(VLOOKUP($B46,'３回目集計表'!$D$6:$AS$65,42,FALSE)),\"\",VLOOKUP($B46,'３回目集計表'!$D$6:$AS$65,42,FALSE)))","v":""},"","☐"]
[null,38,{"$f":"IF(基礎データ!C42=0,\"\",基礎データ!C42)","v":""},null,{"$f":"IF($C47=\"\",\"\",IF(ISERROR(VLOOKUP($B47,'1回目集計表'!$D$6:$AS$65,39,FALSE)),\"\",VLOOKUP($B47,'1回目集計表'!$D$6:$AS$65,39,FALSE)))","v":""},{"$f":"IF($C47=\"\",\"\",IF(ISERROR(VLOOKUP($B47,'1回目集計表'!$D$6:$AS$65,40,FALSE)),\"\",VLOOKUP($B47,'1回目集計表'!$D$6:$AS$65,40,FALSE)))","v":""},{"$f":"IF($C47=\"\",\"\",IF(ISERROR(VLOOKUP($B47,'1回目集計表'!$D$6:$AS$65,41,FALSE)),\"\",VLOOKUP($B47,'1回目集計表'!$D$6:$AS$65,41,FALSE)))","v":""},{"$f":"IF($C47=\"\",\"\",IF(ISERROR(VLOOKUP($B47,'1回目集計表'!$D$6:$AS$65,42,FALSE)),\"\",VLOOKUP($B47,'1回目集計表'!$D$6:$AS$65,42,FALSE)))","v":""},"☐","⇒",{"$f":"IF($C47=\"\",\"\",IF(ISERROR(VLOOKUP($B47,'２回目集計表'!$D$6:$AS$65,39,FALSE)),\"\",VLOOKUP($B47,'２回目集計表'!$D$6:$AS$65,39,FALSE)))","v":""},"",{"$f":"IF($C47=\"\",\"\",IF(ISERROR(VLOOKUP($B47,'２回目集計表'!$D$6:$AS$65,40,FALSE)),\"\",VLOOKUP($B47,'２回目集計表'!$D$6:$AS$65,40,FALSE)))","v":""},"",{"$f":"IF($C47=\"\",\"\",IF(ISERROR(VLOOKUP($B47,'２回目集計表'!$D$6:$AS$65,41,FALSE)),\"\",VLOOKUP($B47,'２回目集計表'!$D$6:$AS$65,41,FALSE)))","v":""},"",{"$f":"IF($C47=\"\",\"\",IF(ISERROR(VLOOKUP($B47,'２回目集計表'!$D$6:$AS$65,42,FALSE)),\"\",VLOOKUP($B47,'２回目集計表'!$D$6:$AS$65,42,FALSE)))","v":""},"","☐","⇒",{"$f":"IF($C47=\"\",\"\",IF(ISERROR(VLOOKUP($B47,'３回目集計表'!$D$6:$AS$65,39,FALSE)),\"\",VLOOKUP($B47,'３回目集計表'!$D$6:$AS$65,39,FALSE)))","v":""},"",{"$f":"IF($C47=\"\",\"\",IF(ISERROR(VLOOKUP($B47,'３回目集計表'!$D$6:$AS$65,40,FALSE)),\"\",VLOOKUP($B47,'３回目集計表'!$D$6:$AS$65,40,FALSE)))","v":""},"",{"$f":"IF($C47=\"\",\"\",IF(ISERROR(VLOOKUP($B47,'３回目集計表'!$D$6:$AS$65,41,FALSE)),\"\",VLOOKUP($B47,'３回目集計表'!$D$6:$AS$65,41,FALSE)))","v":""},"",{"$f":"IF($C47=\"\",\"\",IF(ISERROR(VLOOKUP($B47,'３回目集計表'!$D$6:$AS$65,42,FALSE)),\"\",VLOOKUP($B47,'３回目集計表'!$D$6:$AS$65,42,FALSE)))","v":""},"","☐"]
[null,39,{"$f":"IF(基礎データ!C43=0,\"\",基礎データ!C43)","v":""},null,{"$f":"IF($C48=\"\",\"\",IF(ISERROR(VLOOKUP($B48,'1回目集計表'!$D$6:$AS$65,39,FALSE)),\"\",VLOOKUP($B48,'1回目集計表'!$D$6:$AS$65,39,FALSE)))","v":""},{"$f":"IF($C48=\"\",\"\",IF(ISERROR(VLOOKUP($B48,'1回目集計表'!$D$6:$AS$65,40,FALSE)),\"\",VLOOKUP($B48,'1回目集計表'!$D$6:$AS$65,40,FALSE)))","v":""},{"$f":"IF($C48=\"\",\"\",IF(ISERROR(VLOOKUP($B48,'1回目集計表'!$D$6:$AS$65,41,FALSE)),\"\",VLOOKUP($B48,'1回目集計表'!$D$6:$AS$65,41,FALSE)))","v":""},{"$f":"IF($C48=\"\",\"\",IF(ISERROR(VLOOKUP($B48,'1回目集計表'!$D$6:$AS$65,42,FALSE)),\"\",VLOOKUP($B48,'1回目集計表'!$D$6:$AS$65,42,FALSE)))","v":""},"☐","⇒",{"$f":"IF($C48=\"\",\"\",IF(ISERROR(VLOOKUP($B48,'２回目集計表'!$D$6:$AS$65,39,FALSE)),\"\",VLOOKUP($B48,'２回目集計表'!$D$6:$AS$65,39,FALSE)))","v":""},"",{"$f":"IF($C48=\"\",\"\",IF(ISERROR(VLOOKUP($B48,'２回目集計表'!$D$6:$AS$65,40,FALSE)),\"\",VLOOKUP($B48,'２回目集計表'!$D$6:$AS$65,40,FALSE)))","v":""},"",{"$f":"IF($C48=\"\",\"\",IF(ISERROR(VLOOKUP($B48,'２回目集計表'!$D$6:$AS$65,41,FALSE)),\"\",VLOOKUP($B48,'２回目集計表'!$D$6:$AS$65,41,FALSE)))","v":""},"",{"$f":"IF($C48=\"\",\"\",IF(ISERROR(VLOOKUP($B48,'２回目集計表'!$D$6:$AS$65,42,FALSE)),\"\",VLOOKUP($B48,'２回目集計表'!$D$6:$AS$65,42,FALSE)))","v":""},"","☐","⇒",{"$f":"IF($C48=\"\",\"\",IF(ISERROR(VLOOKUP($B48,'３回目集計表'!$D$6:$AS$65,39,FALSE)),\"\",VLOOKUP($B48,'３回目集計表'!$D$6:$AS$65,39,FALSE)))","v":""},"",{"$f":"IF($C48=\"\",\"\",IF(ISERROR(VLOOKUP($B48,'３回目集計表'!$D$6:$AS$65,40,FALSE)),\"\",VLOOKUP($B48,'３回目集計表'!$D$6:$AS$65,40,FALSE)))","v":""},"",{"$f":"IF($C48=\"\",\"\",IF(ISERROR(VLOOKUP($B48,'３回目集計表'!$D$6:$AS$65,41,FALSE)),\"\",VLOOKUP($B48,'３回目集計表'!$D$6:$AS$65,41,FALSE)))","v":""},"",{"$f":"IF($C48=\"\",\"\",IF(ISERROR(VLOOKUP($B48,'３回目集計表'!$D$6:$AS$65,42,FALSE)),\"\",VLOOKUP($B48,'３回目集計表'!$D$6:$AS$65,42,FALSE)))","v":""},"","☐"]
[null,40,{"$f":"IF(基礎データ!C44=0,\"\",基礎データ!C44)","v":""},null,{"$f":"IF($C49=\"\",\"\",IF(ISERROR(VLOOKUP($B49,'1回目集計表'!$D$6:$AS$65,39,FALSE)),\"\",VLOOKUP($B49,'1回目集計表'!$D$6:$AS$65,39,FALSE)))","v":""},{"$f":"IF($C49=\"\",\"\",IF(ISERROR(VLOOKUP($B49,'1回目集計表'!$D$6:$AS$65,40,FALSE)),\"\",VLOOKUP($B49,'1回目集計表'!$D$6:$AS$65,40,FALSE)))","v":""},{"$f":"IF($C49=\"\",\"\",IF(ISERROR(VLOOKUP($B49,'1回目集計表'!$D$6:$AS$65,41,FALSE)),\"\",VLOOKUP($B49,'1回目集計表'!$D$6:$AS$65,41,FALSE)))","v":""},{"$f":"IF($C49=\"\",\"\",IF(ISERROR(VLOOKUP($B49,'1回目集計表'!$D$6:$AS$65,42,FALSE)),\"\",VLOOKUP($B49,'1回目集計表'!$D$6:$AS$65,42,FALSE)))","v":""},"☐","⇒",{"$f":"IF($C49=\"\",\"\",IF(ISERROR(VLOOKUP($B49,'２回目集計表'!$D$6:$AS$65,39,FALSE)),\"\",VLOOKUP($B49,'２回目集計表'!$D$6:$AS$65,39,FALSE)))","v":""},"",{"$f":"IF($C49=\"\",\"\",IF(ISERROR(VLOOKUP($B49,'２回目集計表'!$D$6:$AS$65,40,FALSE)),\"\",VLOOKUP($B49,'２回目集計表'!$D$6:$AS$65,40,FALSE)))","v":""},"",{"$f":"IF($C49=\"\",\"\",IF(ISERROR(VLOOKUP($B49,'２回目集計表'!$D$6:$AS$65,41,FALSE)),\"\",VLOOKUP($B49,'２回目集計表'!$D$6:$AS$65,41,FALSE)))","v":""},"",{"$f":"IF($C49=\"\",\"\",IF(ISERROR(VLOOKUP($B49,'２回目集計表'!$D$6:$AS$65,42,FALSE)),\"\",VLOOKUP($B49,'２回目集計表'!$D$6:$AS$65,42,FALSE)))","v":""},"","☐","⇒",{"$f":"IF($C49=\"\",\"\",IF(ISERROR(VLOOKUP($B49,'３回目集計表'!$D$6:$AS$65,39,FALSE)),\"\",VLOOKUP($B49,'３回目集計表'!$D$6:$AS$65,39,FALSE)))","v":""},"",{"$f":"IF($C49=\"\",\"\",IF(ISERROR(VLOOKUP($B49,'３回目集計表'!$D$6:$AS$65,40,FALSE)),\"\",VLOOKUP($B49,'３回目集計表'!$D$6:$AS$65,40,FALSE)))","v":""},"",{"$f":"IF($C49=\"\",\"\",IF(ISERROR(VLOOKUP($B49,'３回目集計表'!$D$6:$AS$65,41,FALSE)),\"\",VLOOKUP($B49,'３回目集計表'!$D$6:$AS$65,41,FALSE)))","v":""},"",{"$f":"IF($C49=\"\",\"\",IF(ISERROR(VLOOKUP($B49,'３回目集計表'!$D$6:$AS$65,42,FALSE)),\"\",VLOOKUP($B49,'３回目集計表'!$D$6:$AS$65,42,FALSE)))","v":""},"","☐"]
[null,41,{"$f":"IF(基礎データ!C45=0,\"\",基礎データ!C45)","v":""},null,{"$f":"IF($C50=\"\",\"\",IF(ISERROR(VLOOKUP($B50,'1回目集計表'!$D$6:$AS$65,39,FALSE)),\"\",VLOOKUP($B50,'1回目集計表'!$D$6:$AS$65,39,FALSE)))","v":""},{"$f":"IF($C50=\"\",\"\",IF(ISERROR(VLOOKUP($B50,'1回目集計表'!$D$6:$AS$65,40,FALSE)),\"\",VLOOKUP($B50,'1回目集計表'!$D$6:$AS$65,40,FALSE)))","v":""},{"$f":"IF($C50=\"\",\"\",IF(ISERROR(VLOOKUP($B50,'1回目集計表'!$D$6:$AS$65,41,FALSE)),\"\",VLOOKUP($B50,'1回目集計表'!$D$6:$AS$65,41,FALSE)))","v":""},{"$f":"IF($C50=\"\",\"\",IF(ISERROR(VLOOKUP($B50,'1回目集計表'!$D$6:$AS$65,42,FALSE)),\"\",VLOOKUP($B50,'1回目集計表'!$D$6:$AS$65,42,FALSE)))","v":""},"☐","⇒",{"$f":"IF($C50=\"\",\"\",IF(ISERROR(VLOOKUP($B50,'２回目集計表'!$D$6:$AS$65,39,FALSE)),\"\",VLOOKUP($B50,'２回目集計表'!$D$6:$AS$65,39,FALSE)))","v":""},"",{"$f":"IF($C50=\"\",\"\",IF(ISERROR(VLOOKUP($B50,'２回目集計表'!$D$6:$AS$65,40,FALSE)),\"\",VLOOKUP($B50,'２回目集計表'!$D$6:$AS$65,40,FALSE)))","v":""},"",{"$f":"IF($C50=\"\",\"\",IF(ISERROR(VLOOKUP($B50,'２回目集計表'!$D$6:$AS$65,41,FALSE)),\"\",VLOOKUP($B50,'２回目集計表'!$D$6:$AS$65,41,FALSE)))","v":""},"",{"$f":"IF($C50=\"\",\"\",IF(ISERROR(VLOOKUP($B50,'２回目集計表'!$D$6:$AS$65,42,FALSE)),\"\",VLOOKUP($B50,'２回目集計表'!$D$6:$AS$65,42,FALSE)))","v":""},"","☐","⇒",{"$f":"IF($C50=\"\",\"\",IF(ISERROR(VLOOKUP($B50,'３回目集計表'!$D$6:$AS$65,39,FALSE)),\"\",VLOOKUP($B50,'３回目集計表'!$D$6:$AS$65,39,FALSE)))","v":""},"",{"$f":"IF($C50=\"\",\"\",IF(ISERROR(VLOOKUP($B50,'３回目集計表'!$D$6:$AS$65,40,FALSE)),\"\",VLOOKUP($B50,'３回目集計表'!$D$6:$AS$65,40,FALSE)))","v":""},"",{"$f":"IF($C50=\"\",\"\",IF(ISERROR(VLOOKUP($B50,'３回目集計表'!$D$6:$AS$65,41,FALSE)),\"\",VLOOKUP($B50,'３回目集計表'!$D$6:$AS$65,41,FALSE)))","v":""},"",{"$f":"IF($C50=\"\",\"\",IF(ISERROR(VLOOKUP($B50,'３回目集計表'!$D$6:$AS$65,42,FALSE)),\"\",VLOOKUP($B50,'３回目集計表'!$D$6:$AS$65,42,FALSE)))","v":""},"","☐"]
[null,42,{"$f":"IF(基礎データ!C46=0,\"\",基礎データ!C46)","v":""},null,{"$f":"IF($C51=\"\",\"\",IF(ISERROR(VLOOKUP($B51,'1回目集計表'!$D$6:$AS$65,39,FALSE)),\"\",VLOOKUP($B51,'1回目集計表'!$D$6:$AS$65,39,FALSE)))","v":""},{"$f":"IF($C51=\"\",\"\",IF(ISERROR(VLOOKUP($B51,'1回目集計表'!$D$6:$AS$65,40,FALSE)),\"\",VLOOKUP($B51,'1回目集計表'!$D$6:$AS$65,40,FALSE)))","v":""},{"$f":"IF($C51=\"\",\"\",IF(ISERROR(VLOOKUP($B51,'1回目集計表'!$D$6:$AS$65,41,FALSE)),\"\",VLOOKUP($B51,'1回目集計表'!$D$6:$AS$65,41,FALSE)))","v":""},{"$f":"IF($C51=\"\",\"\",IF(ISERROR(VLOOKUP($B51,'1回目集計表'!$D$6:$AS$65,42,FALSE)),\"\",VLOOKUP($B51,'1回目集計表'!$D$6:$AS$65,42,FALSE)))","v":""},"☐","⇒",{"$f":"IF($C51=\"\",\"\",IF(ISERROR(VLOOKUP($B51,'２回目集計表'!$D$6:$AS$65,39,FALSE)),\"\",VLOOKUP($B51,'２回目集計表'!$D$6:$AS$65,39,FALSE)))","v":""},"",{"$f":"IF($C51=\"\",\"\",IF(ISERROR(VLOOKUP($B51,'２回目集計表'!$D$6:$AS$65,40,FALSE)),\"\",VLOOKUP($B51,'２回目集計表'!$D$6:$AS$65,40,FALSE)))","v":""},"",{"$f":"IF($C51=\"\",\"\",IF(ISERROR(VLOOKUP($B51,'２回目集計表'!$D$6:$AS$65,41,FALSE)),\"\",VLOOKUP($B51,'２回目集計表'!$D$6:$AS$65,41,FALSE)))","v":""},"",{"$f":"IF($C51=\"\",\"\",IF(ISERROR(VLOOKUP($B51,'２回目集計表'!$D$6:$AS$65,42,FALSE)),\"\",VLOOKUP($B51,'２回目集計表'!$D$6:$AS$65,42,FALSE)))","v":""},"","☐","⇒",{"$f":"IF($C51=\"\",\"\",IF(ISERROR(VLOOKUP($B51,'３回目集計表'!$D$6:$AS$65,39,FALSE)),\"\",VLOOKUP($B51,'３回目集計表'!$D$6:$AS$65,39,FALSE)))","v":""},"",{"$f":"IF($C51=\"\",\"\",IF(ISERROR(VLOOKUP($B51,'３回目集計表'!$D$6:$AS$65,40,FALSE)),\"\",VLOOKUP($B51,'３回目集計表'!$D$6:$AS$65,40,FALSE)))","v":""},"",{"$f":"IF($C51=\"\",\"\",IF(ISERROR(VLOOKUP($B51,'３回目集計表'!$D$6:$AS$65,41,FALSE)),\"\",VLOOKUP($B51,'３回目集計表'!$D$6:$AS$65,41,FALSE)))","v":""},"",{"$f":"IF($C51=\"\",\"\",IF(ISERROR(VLOOKUP($B51,'３回目集計表'!$D$6:$AS$65,42,FALSE)),\"\",VLOOKUP($B51,'３回目集計表'!$D$6:$AS$65,42,FALSE)))","v":""},"","☐"]
[null,43,{"$f":"IF(基礎データ!C47=0,\"\",基礎データ!C47)","v":""},null,{"$f":"IF($C52=\"\",\"\",IF(ISERROR(VLOOKUP($B52,'1回目集計表'!$D$6:$AS$65,39,FALSE)),\"\",VLOOKUP($B52,'1回目集計表'!$D$6:$AS$65,39,FALSE)))","v":""},{"$f":"IF($C52=\"\",\"\",IF(ISERROR(VLOOKUP($B52,'1回目集計表'!$D$6:$AS$65,40,FALSE)),\"\",VLOOKUP($B52,'1回目集計表'!$D$6:$AS$65,40,FALSE)))","v":""},{"$f":"IF($C52=\"\",\"\",IF(ISERROR(VLOOKUP($B52,'1回目集計表'!$D$6:$AS$65,41,FALSE)),\"\",VLOOKUP($B52,'1回目集計表'!$D$6:$AS$65,41,FALSE)))","v":""},{"$f":"IF($C52=\"\",\"\",IF(ISERROR(VLOOKUP($B52,'1回目集計表'!$D$6:$AS$65,42,FALSE)),\"\",VLOOKUP($B52,'1回目集計表'!$D$6:$AS$65,42,FALSE)))","v":""},"☐","⇒",{"$f":"IF($C52=\"\",\"\",IF(ISERROR(VLOOKUP($B52,'２回目集計表'!$D$6:$AS$65,39,FALSE)),\"\",VLOOKUP($B52,'２回目集計表'!$D$6:$AS$65,39,FALSE)))","v":""},"",{"$f":"IF($C52=\"\",\"\",IF(ISERROR(VLOOKUP($B52,'２回目集計表'!$D$6:$AS$65,40,FALSE)),\"\",VLOOKUP($B52,'２回目集計表'!$D$6:$AS$65,40,FALSE)))","v":""},"",{"$f":"IF($C52=\"\",\"\",IF(ISERROR(VLOOKUP($B52,'２回目集計表'!$D$6:$AS$65,41,FALSE)),\"\",VLOOKUP($B52,'２回目集計表'!$D$6:$AS$65,41,FALSE)))","v":""},"",{"$f":"IF($C52=\"\",\"\",IF(ISERROR(VLOOKUP($B52,'２回目集計表'!$D$6:$AS$65,42,FALSE)),\"\",VLOOKUP($B52,'２回目集計表'!$D$6:$AS$65,42,FALSE)))","v":""},"","☐","⇒",{"$f":"IF($C52=\"\",\"\",IF(ISERROR(VLOOKUP($B52,'３回目集計表'!$D$6:$AS$65,39,FALSE)),\"\",VLOOKUP($B52,'３回目集計表'!$D$6:$AS$65,39,FALSE)))","v":""},"",{"$f":"IF($C52=\"\",\"\",IF(ISERROR(VLOOKUP($B52,'３回目集計表'!$D$6:$AS$65,40,FALSE)),\"\",VLOOKUP($B52,'３回目集計表'!$D$6:$AS$65,40,FALSE)))","v":""},"",{"$f":"IF($C52=\"\",\"\",IF(ISERROR(VLOOKUP($B52,'３回目集計表'!$D$6:$AS$65,41,FALSE)),\"\",VLOOKUP($B52,'３回目集計表'!$D$6:$AS$65,41,FALSE)))","v":""},"",{"$f":"IF($C52=\"\",\"\",IF(ISERROR(VLOOKUP($B52,'３回目集計表'!$D$6:$AS$65,42,FALSE)),\"\",VLOOKUP($B52,'３回目集計表'!$D$6:$AS$65,42,FALSE)))","v":""},"","☐"]
[null,44,{"$f":"IF(基礎データ!C48=0,\"\",基礎データ!C48)","v":""},null,{"$f":"IF($C53=\"\",\"\",IF(ISERROR(VLOOKUP($B53,'1回目集計表'!$D$6:$AS$65,39,FALSE)),\"\",VLOOKUP($B53,'1回目集計表'!$D$6:$AS$65,39,FALSE)))","v":""},{"$f":"IF($C53=\"\",\"\",IF(ISERROR(VLOOKUP($B53,'1回目集計表'!$D$6:$AS$65,40,FALSE)),\"\",VLOOKUP($B53,'1回目集計表'!$D$6:$AS$65,40,FALSE)))","v":""},{"$f":"IF($C53=\"\",\"\",IF(ISERROR(VLOOKUP($B53,'1回目集計表'!$D$6:$AS$65,41,FALSE)),\"\",VLOOKUP($B53,'1回目集計表'!$D$6:$AS$65,41,FALSE)))","v":""},{"$f":"IF($C53=\"\",\"\",IF(ISERROR(VLOOKUP($B53,'1回目集計表'!$D$6:$AS$65,42,FALSE)),\"\",VLOOKUP($B53,'1回目集計表'!$D$6:$AS$65,42,FALSE)))","v":""},"☐","⇒",{"$f":"IF($C53=\"\",\"\",IF(ISERROR(VLOOKUP($B53,'２回目集計表'!$D$6:$AS$65,39,FALSE)),\"\",VLOOKUP($B53,'２回目集計表'!$D$6:$AS$65,39,FALSE)))","v":""},"",{"$f":"IF($C53=\"\",\"\",IF(ISERROR(VLOOKUP($B53,'２回目集計表'!$D$6:$AS$65,40,FALSE)),\"\",VLOOKUP($B53,'２回目集計表'!$D$6:$AS$65,40,FALSE)))","v":""},"",{"$f":"IF($C53=\"\",\"\",IF(ISERROR(VLOOKUP($B53,'２回目集計表'!$D$6:$AS$65,41,FALSE)),\"\",VLOOKUP($B53,'２回目集計表'!$D$6:$AS$65,41,FALSE)))","v":""},"",{"$f":"IF($C53=\"\",\"\",IF(ISERROR(VLOOKUP($B53,'２回目集計表'!$D$6:$AS$65,42,FALSE)),\"\",VLOOKUP($B53,'２回目集計表'!$D$6:$AS$65,42,FALSE)))","v":""},"","☐","⇒",{"$f":"IF($C53=\"\",\"\",IF(ISERROR(VLOOKUP($B53,'３回目集計表'!$D$6:$AS$65,39,FALSE)),\"\",VLOOKUP($B53,'３回目集計表'!$D$6:$AS$65,39,FALSE)))","v":""},"",{"$f":"IF($C53=\"\",\"\",IF(ISERROR(VLOOKUP($B53,'３回目集計表'!$D$6:$AS$65,40,FALSE)),\"\",VLOOKUP($B53,'３回目集計表'!$D$6:$AS$65,40,FALSE)))","v":""},"",{"$f":"IF($C53=\"\",\"\",IF(ISERROR(VLOOKUP($B53,'３回目集計表'!$D$6:$AS$65,41,FALSE)),\"\",VLOOKUP($B53,'３回目集計表'!$D$6:$AS$65,41,FALSE)))","v":""},"",{"$f":"IF($C53=\"\",\"\",IF(ISERROR(VLOOKUP($B53,'３回目集計表'!$D$6:$AS$65,42,FALSE)),\"\",VLOOKUP($B53,'３回目集計表'!$D$6:$AS$65,42,FALSE)))","v":""},"","☐"]
[null,45,{"$f":"IF(基礎データ!C49=0,\"\",基礎データ!C49)","v":""},null,{"$f":"IF($C54=\"\",\"\",IF(ISERROR(VLOOKUP($B54,'1回目集計表'!$D$6:$AS$65,39,FALSE)),\"\",VLOOKUP($B54,'1回目集計表'!$D$6:$AS$65,39,FALSE)))","v":""},{"$f":"IF($C54=\"\",\"\",IF(ISERROR(VLOOKUP($B54,'1回目集計表'!$D$6:$AS$65,40,FALSE)),\"\",VLOOKUP($B54,'1回目集計表'!$D$6:$AS$65,40,FALSE)))","v":""},{"$f":"IF($C54=\"\",\"\",IF(ISERROR(VLOOKUP($B54,'1回目集計表'!$D$6:$AS$65,41,FALSE)),\"\",VLOOKUP($B54,'1回目集計表'!$D$6:$AS$65,41,FALSE)))","v":""},{"$f":"IF($C54=\"\",\"\",IF(ISERROR(VLOOKUP($B54,'1回目集計表'!$D$6:$AS$65,42,FALSE)),\"\",VLOOKUP($B54,'1回目集計表'!$D$6:$AS$65,42,FALSE)))","v":""},"☐","⇒",{"$f":"IF($C54=\"\",\"\",IF(ISERROR(VLOOKUP($B54,'２回目集計表'!$D$6:$AS$65,39,FALSE)),\"\",VLOOKUP($B54,'２回目集計表'!$D$6:$AS$65,39,FALSE)))","v":""},"",{"$f":"IF($C54=\"\",\"\",IF(ISERROR(VLOOKUP($B54,'２回目集計表'!$D$6:$AS$65,40,FALSE)),\"\",VLOOKUP($B54,'２回目集計表'!$D$6:$AS$65,40,FALSE)))","v":""},"",{"$f":"IF($C54=\"\",\"\",IF(ISERROR(VLOOKUP($B54,'２回目集計表'!$D$6:$AS$65,41,FALSE)),\"\",VLOOKUP($B54,'２回目集計表'!$D$6:$AS$65,41,FALSE)))","v":""},"",{"$f":"IF($C54=\"\",\"\",IF(ISERROR(VLOOKUP($B54,'２回目集計表'!$D$6:$AS$65,42,FALSE)),\"\",VLOOKUP($B54,'２回目集計表'!$D$6:$AS$65,42,FALSE)))","v":""},"","☐","⇒",{"$f":"IF($C54=\"\",\"\",IF(ISERROR(VLOOKUP($B54,'３回目集計表'!$D$6:$AS$65,39,FALSE)),\"\",VLOOKUP($B54,'３回目集計表'!$D$6:$AS$65,39,FALSE)))","v":""},"",{"$f":"IF($C54=\"\",\"\",IF(ISERROR(VLOOKUP($B54,'３回目集計表'!$D$6:$AS$65,40,FALSE)),\"\",VLOOKUP($B54,'３回目集計表'!$D$6:$AS$65,40,FALSE)))","v":""},"",{"$f":"IF($C54=\"\",\"\",IF(ISERROR(VLOOKUP($B54,'３回目集計表'!$D$6:$AS$65,41,FALSE)),\"\",VLOOKUP($B54,'３回目集計表'!$D$6:$AS$65,41,FALSE)))","v":""},"",{"$f":"IF($C54=\"\",\"\",IF(ISERROR(VLOOKUP($B54,'３回目集計表'!$D$6:$AS$65,42,FALSE)),\"\",VLOOKUP($B54,'３回目集計表'!$D$6:$AS$65,42,FALSE)))","v":""},"","☐"]
[null,46,{"$f":"IF(基礎データ!C50=0,\"\",基礎データ!C50)","v":""},null,{"$f":"IF($C55=\"\",\"\",IF(ISERROR(VLOOKUP($B55,'1回目集計表'!$D$6:$AS$65,39,FALSE)),\"\",VLOOKUP($B55,'1回目集計表'!$D$6:$AS$65,39,FALSE)))","v":""},{"$f":"IF($C55=\"\",\"\",IF(ISERROR(VLOOKUP($B55,'1回目集計表'!$D$6:$AS$65,40,FALSE)),\"\",VLOOKUP($B55,'1回目集計表'!$D$6:$AS$65,40,FALSE)))","v":""},{"$f":"IF($C55=\"\",\"\",IF(ISERROR(VLOOKUP($B55,'1回目集計表'!$D$6:$AS$65,41,FALSE)),\"\",VLOOKUP($B55,'1回目集計表'!$D$6:$AS$65,41,FALSE)))","v":""},{"$f":"IF($C55=\"\",\"\",IF(ISERROR(VLOOKUP($B55,'1回目集計表'!$D$6:$AS$65,42,FALSE)),\"\",VLOOKUP($B55,'1回目集計表'!$D$6:$AS$65,42,FALSE)))","v":""},"☐","⇒",{"$f":"IF($C55=\"\",\"\",IF(ISERROR(VLOOKUP($B55,'２回目集計表'!$D$6:$AS$65,39,FALSE)),\"\",VLOOKUP($B55,'２回目集計表'!$D$6:$AS$65,39,FALSE)))","v":""},"",{"$f":"IF($C55=\"\",\"\",IF(ISERROR(VLOOKUP($B55,'２回目集計表'!$D$6:$AS$65,40,FALSE)),\"\",VLOOKUP($B55,'２回目集計表'!$D$6:$AS$65,40,FALSE)))","v":""},"",{"$f":"IF($C55=\"\",\"\",IF(ISERROR(VLOOKUP($B55,'２回目集計表'!$D$6:$AS$65,41,FALSE)),\"\",VLOOKUP($B55,'２回目集計表'!$D$6:$AS$65,41,FALSE)))","v":""},"",{"$f":"IF($C55=\"\",\"\",IF(ISERROR(VLOOKUP($B55,'２回目集計表'!$D$6:$AS$65,42,FALSE)),\"\",VLOOKUP($B55,'２回目集計表'!$D$6:$AS$65,42,FALSE)))","v":""},"","☐","⇒",{"$f":"IF($C55=\"\",\"\",IF(ISERROR(VLOOKUP($B55,'３回目集計表'!$D$6:$AS$65,39,FALSE)),\"\",VLOOKUP($B55,'３回目集計表'!$D$6:$AS$65,39,FALSE)))","v":""},"",{"$f":"IF($C55=\"\",\"\",IF(ISERROR(VLOOKUP($B55,'３回目集計表'!$D$6:$AS$65,40,FALSE)),\"\",VLOOKUP($B55,'３回目集計表'!$D$6:$AS$65,40,FALSE)))","v":""},"",{"$f":"IF($C55=\"\",\"\",IF(ISERROR(VLOOKUP($B55,'３回目集計表'!$D$6:$AS$65,41,FALSE)),\"\",VLOOKUP($B55,'３回目集計表'!$D$6:$AS$65,41,FALSE)))","v":""},"",{"$f":"IF($C55=\"\",\"\",IF(ISERROR(VLOOKUP($B55,'３回目集計表'!$D$6:$AS$65,42,FALSE)),\"\",VLOOKUP($B55,'３回目集計表'!$D$6:$AS$65,42,FALSE)))","v":""},"","☐"]
[null,47,{"$f":"IF(基礎データ!C51=0,\"\",基礎データ!C51)","v":""},null,{"$f":"IF($C56=\"\",\"\",IF(ISERROR(VLOOKUP($B56,'1回目集計表'!$D$6:$AS$65,39,FALSE)),\"\",VLOOKUP($B56,'1回目集計表'!$D$6:$AS$65,39,FALSE)))","v":""},{"$f":"IF($C56=\"\",\"\",IF(ISERROR(VLOOKUP($B56,'1回目集計表'!$D$6:$AS$65,40,FALSE)),\"\",VLOOKUP($B56,'1回目集計表'!$D$6:$AS$65,40,FALSE)))","v":""},{"$f":"IF($C56=\"\",\"\",IF(ISERROR(VLOOKUP($B56,'1回目集計表'!$D$6:$AS$65,41,FALSE)),\"\",VLOOKUP($B56,'1回目集計表'!$D$6:$AS$65,41,FALSE)))","v":""},{"$f":"IF($C56=\"\",\"\",IF(ISERROR(VLOOKUP($B56,'1回目集計表'!$D$6:$AS$65,42,FALSE)),\"\",VLOOKUP($B56,'1回目集計表'!$D$6:$AS$65,42,FALSE)))","v":""},"☐","⇒",{"$f":"IF($C56=\"\",\"\",IF(ISERROR(VLOOKUP($B56,'２回目集計表'!$D$6:$AS$65,39,FALSE)),\"\",VLOOKUP($B56,'２回目集計表'!$D$6:$AS$65,39,FALSE)))","v":""},"",{"$f":"IF($C56=\"\",\"\",IF(ISERROR(VLOOKUP($B56,'２回目集計表'!$D$6:$AS$65,40,FALSE)),\"\",VLOOKUP($B56,'２回目集計表'!$D$6:$AS$65,40,FALSE)))","v":""},"",{"$f":"IF($C56=\"\",\"\",IF(ISERROR(VLOOKUP($B56,'２回目集計表'!$D$6:$AS$65,41,FALSE)),\"\",VLOOKUP($B56,'２回目集計表'!$D$6:$AS$65,41,FALSE)))","v":""},"",{"$f":"IF($C56=\"\",\"\",IF(ISERROR(VLOOKUP($B56,'２回目集計表'!$D$6:$AS$65,42,FALSE)),\"\",VLOOKUP($B56,'２回目集計表'!$D$6:$AS$65,42,FALSE)))","v":""},"","☐","⇒",{"$f":"IF($C56=\"\",\"\",IF(ISERROR(VLOOKUP($B56,'３回目集計表'!$D$6:$AS$65,39,FALSE)),\"\",VLOOKUP($B56,'３回目集計表'!$D$6:$AS$65,39,FALSE)))","v":""},"",{"$f":"IF($C56=\"\",\"\",IF(ISERROR(VLOOKUP($B56,'３回目集計表'!$D$6:$AS$65,40,FALSE)),\"\",VLOOKUP($B56,'３回目集計表'!$D$6:$AS$65,40,FALSE)))","v":""},"",{"$f":"IF($C56=\"\",\"\",IF(ISERROR(VLOOKUP($B56,'３回目集計表'!$D$6:$AS$65,41,FALSE)),\"\",VLOOKUP($B56,'３回目集計表'!$D$6:$AS$65,41,FALSE)))","v":""},"",{"$f":"IF($C56=\"\",\"\",IF(ISERROR(VLOOKUP($B56,'３回目集計表'!$D$6:$AS$65,42,FALSE)),\"\",VLOOKUP($B56,'３回目集計表'!$D$6:$AS$65,42,FALSE)))","v":""},"","☐"]
[null,48,{"$f":"IF(基礎データ!C52=0,\"\",基礎データ!C52)","v":""},null,{"$f":"IF($C57=\"\",\"\",IF(ISERROR(VLOOKUP($B57,'1回目集計表'!$D$6:$AS$65,39,FALSE)),\"\",VLOOKUP($B57,'1回目集計表'!$D$6:$AS$65,39,FALSE)))","v":""},{"$f":"IF($C57=\"\",\"\",IF(ISERROR(VLOOKUP($B57,'1回目集計表'!$D$6:$AS$65,40,FALSE)),\"\",VLOOKUP($B57,'1回目集計表'!$D$6:$AS$65,40,FALSE)))","v":""},{"$f":"IF($C57=\"\",\"\",IF(ISERROR(VLOOKUP($B57,'1回目集計表'!$D$6:$AS$65,41,FALSE)),\"\",VLOOKUP($B57,'1回目集計表'!$D$6:$AS$65,41,FALSE)))","v":""},{"$f":"IF($C57=\"\",\"\",IF(ISERROR(VLOOKUP($B57,'1回目集計表'!$D$6:$AS$65,42,FALSE)),\"\",VLOOKUP($B57,'1回目集計表'!$D$6:$AS$65,42,FALSE)))","v":""},"☐","⇒",{"$f":"IF($C57=\"\",\"\",IF(ISERROR(VLOOKUP($B57,'２回目集計表'!$D$6:$AS$65,39,FALSE)),\"\",VLOOKUP($B57,'２回目集計表'!$D$6:$AS$65,39,FALSE)))","v":""},"",{"$f":"IF($C57=\"\",\"\",IF(ISERROR(VLOOKUP($B57,'２回目集計表'!$D$6:$AS$65,40,FALSE)),\"\",VLOOKUP($B57,'２回目集計表'!$D$6:$AS$65,40,FALSE)))","v":""},"",{"$f":"IF($C57=\"\",\"\",IF(ISERROR(VLOOKUP($B57,'２回目集計表'!$D$6:$AS$65,41,FALSE)),\"\",VLOOKUP($B57,'２回目集計表'!$D$6:$AS$65,41,FALSE)))","v":""},"",{"$f":"IF($C57=\"\",\"\",IF(ISERROR(VLOOKUP($B57,'２回目集計表'!$D$6:$AS$65,42,FALSE)),\"\",VLOOKUP($B57,'２回目集計表'!$D$6:$AS$65,42,FALSE)))","v":""},"","☐","⇒",{"$f":"IF($C57=\"\",\"\",IF(ISERROR(VLOOKUP($B57,'３回目集計表'!$D$6:$AS$65,39,FALSE)),\"\",VLOOKUP($B57,'３回目集計表'!$D$6:$AS$65,39,FALSE)))","v":""},"",{"$f":"IF($C57=\"\",\"\",IF(ISERROR(VLOOKUP($B57,'３回目集計表'!$D$6:$AS$65,40,FALSE)),\"\",VLOOKUP($B57,'３回目集計表'!$D$6:$AS$65,40,FALSE)))","v":""},"",{"$f":"IF($C57=\"\",\"\",IF(ISERROR(VLOOKUP($B57,'３回目集計表'!$D$6:$AS$65,41,FALSE)),\"\",VLOOKUP($B57,'３回目集計表'!$D$6:$AS$65,41,FALSE)))","v":""},"",{"$f":"IF($C57=\"\",\"\",IF(ISERROR(VLOOKUP($B57,'３回目集計表'!$D$6:$AS$65,42,FALSE)),\"\",VLOOKUP($B57,'３回目集計表'!$D$6:$AS$65,42,FALSE)))","v":""},"","☐"]
[null,49,{"$f":"IF(基礎データ!C53=0,\"\",基礎データ!C53)","v":""},null,{"$f":"IF($C58=\"\",\"\",IF(ISERROR(VLOOKUP($B58,'1回目集計表'!$D$6:$AS$65,39,FALSE)),\"\",VLOOKUP($B58,'1回目集計表'!$D$6:$AS$65,39,FALSE)))","v":""},{"$f":"IF($C58=\"\",\"\",IF(ISERROR(VLOOKUP($B58,'1回目集計表'!$D$6:$AS$65,40,FALSE)),\"\",VLOOKUP($B58,'1回目集計表'!$D$6:$AS$65,40,FALSE)))","v":""},{"$f":"IF($C58=\"\",\"\",IF(ISERROR(VLOOKUP($B58,'1回目集計表'!$D$6:$AS$65,41,FALSE)),\"\",VLOOKUP($B58,'1回目集計表'!$D$6:$AS$65,41,FALSE)))","v":""},{"$f":"IF($C58=\"\",\"\",IF(ISERROR(VLOOKUP($B58,'1回目集計表'!$D$6:$AS$65,42,FALSE)),\"\",VLOOKUP($B58,'1回目集計表'!$D$6:$AS$65,42,FALSE)))","v":""},"☐","⇒",{"$f":"IF($C58=\"\",\"\",IF(ISERROR(VLOOKUP($B58,'２回目集計表'!$D$6:$AS$65,39,FALSE)),\"\",VLOOKUP($B58,'２回目集計表'!$D$6:$AS$65,39,FALSE)))","v":""},"",{"$f":"IF($C58=\"\",\"\",IF(ISERROR(VLOOKUP($B58,'２回目集計表'!$D$6:$AS$65,40,FALSE)),\"\",VLOOKUP($B58,'２回目集計表'!$D$6:$AS$65,40,FALSE)))","v":""},"",{"$f":"IF($C58=\"\",\"\",IF(ISERROR(VLOOKUP($B58,'２回目集計表'!$D$6:$AS$65,41,FALSE)),\"\",VLOOKUP($B58,'２回目集計表'!$D$6:$AS$65,41,FALSE)))","v":""},"",{"$f":"IF($C58=\"\",\"\",IF(ISERROR(VLOOKUP($B58,'２回目集計表'!$D$6:$AS$65,42,FALSE)),\"\",VLOOKUP($B58,'２回目集計表'!$D$6:$AS$65,42,FALSE)))","v":""},"","☐","⇒",{"$f":"IF($C58=\"\",\"\",IF(ISERROR(VLOOKUP($B58,'３回目集計表'!$D$6:$AS$65,39,FALSE)),\"\",VLOOKUP($B58,'３回目集計表'!$D$6:$AS$65,39,FALSE)))","v":""},"",{"$f":"IF($C58=\"\",\"\",IF(ISERROR(VLOOKUP($B58,'３回目集計表'!$D$6:$AS$65,40,FALSE)),\"\",VLOOKUP($B58,'３回目集計表'!$D$6:$AS$65,40,FALSE)))","v":""},"",{"$f":"IF($C58=\"\",\"\",IF(ISERROR(VLOOKUP($B58,'３回目集計表'!$D$6:$AS$65,41,FALSE)),\"\",VLOOKUP($B58,'３回目集計表'!$D$6:$AS$65,41,FALSE)))","v":""},"",{"$f":"IF($C58=\"\",\"\",IF(ISERROR(VLOOKUP($B58,'３回目集計表'!$D$6:$AS$65,42,FALSE)),\"\",VLOOKUP($B58,'３回目集計表'!$D$6:$AS$65,42,FALSE)))","v":""},"","☐"]
[null,50,{"$f":"IF(基礎データ!C54=0,\"\",基礎データ!C54)","v":""},null,{"$f":"IF($C59=\"\",\"\",IF(ISERROR(VLOOKUP($B59,'1回目集計表'!$D$6:$AS$65,39,FALSE)),\"\",VLOOKUP($B59,'1回目集計表'!$D$6:$AS$65,39,FALSE)))","v":""},{"$f":"IF($C59=\"\",\"\",IF(ISERROR(VLOOKUP($B59,'1回目集計表'!$D$6:$AS$65,40,FALSE)),\"\",VLOOKUP($B59,'1回目集計表'!$D$6:$AS$65,40,FALSE)))","v":""},{"$f":"IF($C59=\"\",\"\",IF(ISERROR(VLOOKUP($B59,'1回目集計表'!$D$6:$AS$65,41,FALSE)),\"\",VLOOKUP($B59,'1回目集計表'!$D$6:$AS$65,41,FALSE)))","v":""},{"$f":"IF($C59=\"\",\"\",IF(ISERROR(VLOOKUP($B59,'1回目集計表'!$D$6:$AS$65,42,FALSE)),\"\",VLOOKUP($B59,'1回目集計表'!$D$6:$AS$65,42,FALSE)))","v":""},"☐","⇒",{"$f":"IF($C59=\"\",\"\",IF(ISERROR(VLOOKUP($B59,'２回目集計表'!$D$6:$AS$65,39,FALSE)),\"\",VLOOKUP($B59,'２回目集計表'!$D$6:$AS$65,39,FALSE)))","v":""},"",{"$f":"IF($C59=\"\",\"\",IF(ISERROR(VLOOKUP($B59,'２回目集計表'!$D$6:$AS$65,40,FALSE)),\"\",VLOOKUP($B59,'２回目集計表'!$D$6:$AS$65,40,FALSE)))","v":""},"",{"$f":"IF($C59=\"\",\"\",IF(ISERROR(VLOOKUP($B59,'２回目集計表'!$D$6:$AS$65,41,FALSE)),\"\",VLOOKUP($B59,'２回目集計表'!$D$6:$AS$65,41,FALSE)))","v":""},"",{"$f":"IF($C59=\"\",\"\",IF(ISERROR(VLOOKUP($B59,'２回目集計表'!$D$6:$AS$65,42,FALSE)),\"\",VLOOKUP($B59,'２回目集計表'!$D$6:$AS$65,42,FALSE)))","v":""},"","☐","⇒",{"$f":"IF($C59=\"\",\"\",IF(ISERROR(VLOOKUP($B59,'３回目集計表'!$D$6:$AS$65,39,FALSE)),\"\",VLOOKUP($B59,'３回目集計表'!$D$6:$AS$65,39,FALSE)))","v":""},"",{"$f":"IF($C59=\"\",\"\",IF(ISERROR(VLOOKUP($B59,'３回目集計表'!$D$6:$AS$65,40,FALSE)),\"\",VLOOKUP($B59,'３回目集計表'!$D$6:$AS$65,40,FALSE)))","v":""},"",{"$f":"IF($C59=\"\",\"\",IF(ISERROR(VLOOKUP($B59,'３回目集計表'!$D$6:$AS$65,41,FALSE)),\"\",VLOOKUP($B59,'３回目集計表'!$D$6:$AS$65,41,FALSE)))","v":""},"",{"$f":"IF($C59=\"\",\"\",IF(ISERROR(VLOOKUP($B59,'３回目集計表'!$D$6:$AS$65,42,FALSE)),\"\",VLOOKUP($B59,'３回目集計表'!$D$6:$AS$65,42,FALSE)))","v":""},"","☐"]
[null,51,{"$f":"IF(基礎データ!C55=0,\"\",基礎データ!C55)","v":""},null,{"$f":"IF($C60=\"\",\"\",IF(ISERROR(VLOOKUP($B60,'1回目集計表'!$D$6:$AS$65,39,FALSE)),\"\",VLOOKUP($B60,'1回目集計表'!$D$6:$AS$65,39,FALSE)))","v":""},{"$f":"IF($C60=\"\",\"\",IF(ISERROR(VLOOKUP($B60,'1回目集計表'!$D$6:$AS$65,40,FALSE)),\"\",VLOOKUP($B60,'1回目集計表'!$D$6:$AS$65,40,FALSE)))","v":""},{"$f":"IF($C60=\"\",\"\",IF(ISERROR(VLOOKUP($B60,'1回目集計表'!$D$6:$AS$65,41,FALSE)),\"\",VLOOKUP($B60,'1回目集計表'!$D$6:$AS$65,41,FALSE)))","v":""},{"$f":"IF($C60=\"\",\"\",IF(ISERROR(VLOOKUP($B60,'1回目集計表'!$D$6:$AS$65,42,FALSE)),\"\",VLOOKUP($B60,'1回目集計表'!$D$6:$AS$65,42,FALSE)))","v":""},"☐","⇒",{"$f":"IF($C60=\"\",\"\",IF(ISERROR(VLOOKUP($B60,'２回目集計表'!$D$6:$AS$65,39,FALSE)),\"\",VLOOKUP($B60,'２回目集計表'!$D$6:$AS$65,39,FALSE)))","v":""},"",{"$f":"IF($C60=\"\",\"\",IF(ISERROR(VLOOKUP($B60,'２回目集計表'!$D$6:$AS$65,40,FALSE)),\"\",VLOOKUP($B60,'２回目集計表'!$D$6:$AS$65,40,FALSE)))","v":""},"",{"$f":"IF($C60=\"\",\"\",IF(ISERROR(VLOOKUP($B60,'２回目集計表'!$D$6:$AS$65,41,FALSE)),\"\",VLOOKUP($B60,'２回目集計表'!$D$6:$AS$65,41,FALSE)))","v":""},"",{"$f":"IF($C60=\"\",\"\",IF(ISERROR(VLOOKUP($B60,'２回目集計表'!$D$6:$AS$65,42,FALSE)),\"\",VLOOKUP($B60,'２回目集計表'!$D$6:$AS$65,42,FALSE)))","v":""},"","☐","⇒",{"$f":"IF($C60=\"\",\"\",IF(ISERROR(VLOOKUP($B60,'３回目集計表'!$D$6:$AS$65,39,FALSE)),\"\",VLOOKUP($B60,'３回目集計表'!$D$6:$AS$65,39,FALSE)))","v":""},"",{"$f":"IF($C60=\"\",\"\",IF(ISERROR(VLOOKUP($B60,'３回目集計表'!$D$6:$AS$65,40,FALSE)),\"\",VLOOKUP($B60,'３回目集計表'!$D$6:$AS$65,40,FALSE)))","v":""},"",{"$f":"IF($C60=\"\",\"\",IF(ISERROR(VLOOKUP($B60,'３回目集計表'!$D$6:$AS$65,41,FALSE)),\"\",VLOOKUP($B60,'３回目集計表'!$D$6:$AS$65,41,FALSE)))","v":""},"",{"$f":"IF($C60=\"\",\"\",IF(ISERROR(VLOOKUP($B60,'３回目集計表'!$D$6:$AS$65,42,FALSE)),\"\",VLOOKUP($B60,'３回目集計表'!$D$6:$AS$65,42,FALSE)))","v":""},"","☐"]
[null,52,{"$f":"IF(基礎データ!C56=0,\"\",基礎データ!C56)","v":""},null,{"$f":"IF($C61=\"\",\"\",IF(ISERROR(VLOOKUP($B61,'1回目集計表'!$D$6:$AS$65,39,FALSE)),\"\",VLOOKUP($B61,'1回目集計表'!$D$6:$AS$65,39,FALSE)))","v":""},{"$f":"IF($C61=\"\",\"\",IF(ISERROR(VLOOKUP($B61,'1回目集計表'!$D$6:$AS$65,40,FALSE)),\"\",VLOOKUP($B61,'1回目集計表'!$D$6:$AS$65,40,FALSE)))","v":""},{"$f":"IF($C61=\"\",\"\",IF(ISERROR(VLOOKUP($B61,'1回目集計表'!$D$6:$AS$65,41,FALSE)),\"\",VLOOKUP($B61,'1回目集計表'!$D$6:$AS$65,41,FALSE)))","v":""},{"$f":"IF($C61=\"\",\"\",IF(ISERROR(VLOOKUP($B61,'1回目集計表'!$D$6:$AS$65,42,FALSE)),\"\",VLOOKUP($B61,'1回目集計表'!$D$6:$AS$65,42,FALSE)))","v":""},"☐","⇒",{"$f":"IF($C61=\"\",\"\",IF(ISERROR(VLOOKUP($B61,'２回目集計表'!$D$6:$AS$65,39,FALSE)),\"\",VLOOKUP($B61,'２回目集計表'!$D$6:$AS$65,39,FALSE)))","v":""},"",{"$f":"IF($C61=\"\",\"\",IF(ISERROR(VLOOKUP($B61,'２回目集計表'!$D$6:$AS$65,40,FALSE)),\"\",VLOOKUP($B61,'２回目集計表'!$D$6:$AS$65,40,FALSE)))","v":""},"",{"$f":"IF($C61=\"\",\"\",IF(ISERROR(VLOOKUP($B61,'２回目集計表'!$D$6:$AS$65,41,FALSE)),\"\",VLOOKUP($B61,'２回目集計表'!$D$6:$AS$65,41,FALSE)))","v":""},"",{"$f":"IF($C61=\"\",\"\",IF(ISERROR(VLOOKUP($B61,'２回目集計表'!$D$6:$AS$65,42,FALSE)),\"\",VLOOKUP($B61,'２回目集計表'!$D$6:$AS$65,42,FALSE)))","v":""},"","☐","⇒",{"$f":"IF($C61=\"\",\"\",IF(ISERROR(VLOOKUP($B61,'３回目集計表'!$D$6:$AS$65,39,FALSE)),\"\",VLOOKUP($B61,'３回目集計表'!$D$6:$AS$65,39,FALSE)))","v":""},"",{"$f":"IF($C61=\"\",\"\",IF(ISERROR(VLOOKUP($B61,'３回目集計表'!$D$6:$AS$65,40,FALSE)),\"\",VLOOKUP($B61,'３回目集計表'!$D$6:$AS$65,40,FALSE)))","v":""},"",{"$f":"IF($C61=\"\",\"\",IF(ISERROR(VLOOKUP($B61,'３回目集計表'!$D$6:$AS$65,41,FALSE)),\"\",VLOOKUP($B61,'３回目集計表'!$D$6:$AS$65,41,FALSE)))","v":""},"",{"$f":"IF($C61=\"\",\"\",IF(ISERROR(VLOOKUP($B61,'３回目集計表'!$D$6:$AS$65,42,FALSE)),\"\",VLOOKUP($B61,'３回目集計表'!$D$6:$AS$65,42,FALSE)))","v":""},"","☐"]
[null,53,{"$f":"IF(基礎データ!C57=0,\"\",基礎データ!C57)","v":""},null,{"$f":"IF($C62=\"\",\"\",IF(ISERROR(VLOOKUP($B62,'1回目集計表'!$D$6:$AS$65,39,FALSE)),\"\",VLOOKUP($B62,'1回目集計表'!$D$6:$AS$65,39,FALSE)))","v":""},{"$f":"IF($C62=\"\",\"\",IF(ISERROR(VLOOKUP($B62,'1回目集計表'!$D$6:$AS$65,40,FALSE)),\"\",VLOOKUP($B62,'1回目集計表'!$D$6:$AS$65,40,FALSE)))","v":""},{"$f":"IF($C62=\"\",\"\",IF(ISERROR(VLOOKUP($B62,'1回目集計表'!$D$6:$AS$65,41,FALSE)),\"\",VLOOKUP($B62,'1回目集計表'!$D$6:$AS$65,41,FALSE)))","v":""},{"$f":"IF($C62=\"\",\"\",IF(ISERROR(VLOOKUP($B62,'1回目集計表'!$D$6:$AS$65,42,FALSE)),\"\",VLOOKUP($B62,'1回目集計表'!$D$6:$AS$65,42,FALSE)))","v":""},"☐","⇒",{"$f":"IF($C62=\"\",\"\",IF(ISERROR(VLOOKUP($B62,'２回目集計表'!$D$6:$AS$65,39,FALSE)),\"\",VLOOKUP($B62,'２回目集計表'!$D$6:$AS$65,39,FALSE)))","v":""},"",{"$f":"IF($C62=\"\",\"\",IF(ISERROR(VLOOKUP($B62,'２回目集計表'!$D$6:$AS$65,40,FALSE)),\"\",VLOOKUP($B62,'２回目集計表'!$D$6:$AS$65,40,FALSE)))","v":""},"",{"$f":"IF($C62=\"\",\"\",IF(ISERROR(VLOOKUP($B62,'２回目集計表'!$D$6:$AS$65,41,FALSE)),\"\",VLOOKUP($B62,'２回目集計表'!$D$6:$AS$65,41,FALSE)))","v":""},"",{"$f":"IF($C62=\"\",\"\",IF(ISERROR(VLOOKUP($B62,'２回目集計表'!$D$6:$AS$65,42,FALSE)),\"\",VLOOKUP($B62,'２回目集計表'!$D$6:$AS$65,42,FALSE)))","v":""},"","☐","⇒",{"$f":"IF($C62=\"\",\"\",IF(ISERROR(VLOOKUP($B62,'３回目集計表'!$D$6:$AS$65,39,FALSE)),\"\",VLOOKUP($B62,'３回目集計表'!$D$6:$AS$65,39,FALSE)))","v":""},"",{"$f":"IF($C62=\"\",\"\",IF(ISERROR(VLOOKUP($B62,'３回目集計表'!$D$6:$AS$65,40,FALSE)),\"\",VLOOKUP($B62,'３回目集計表'!$D$6:$AS$65,40,FALSE)))","v":""},"",{"$f":"IF($C62=\"\",\"\",IF(ISERROR(VLOOKUP($B62,'３回目集計表'!$D$6:$AS$65,41,FALSE)),\"\",VLOOKUP($B62,'３回目集計表'!$D$6:$AS$65,41,FALSE)))","v":""},"",{"$f":"IF($C62=\"\",\"\",IF(ISERROR(VLOOKUP($B62,'３回目集計表'!$D$6:$AS$65,42,FALSE)),\"\",VLOOKUP($B62,'３回目集計表'!$D$6:$AS$65,42,FALSE)))","v":""},"","☐"]
[null,54,{"$f":"IF(基礎データ!C58=0,\"\",基礎データ!C58)","v":""},null,{"$f":"IF($C63=\"\",\"\",IF(ISERROR(VLOOKUP($B63,'1回目集計表'!$D$6:$AS$65,39,FALSE)),\"\",VLOOKUP($B63,'1回目集計表'!$D$6:$AS$65,39,FALSE)))","v":""},{"$f":"IF($C63=\"\",\"\",IF(ISERROR(VLOOKUP($B63,'1回目集計表'!$D$6:$AS$65,40,FALSE)),\"\",VLOOKUP($B63,'1回目集計表'!$D$6:$AS$65,40,FALSE)))","v":""},{"$f":"IF($C63=\"\",\"\",IF(ISERROR(VLOOKUP($B63,'1回目集計表'!$D$6:$AS$65,41,FALSE)),\"\",VLOOKUP($B63,'1回目集計表'!$D$6:$AS$65,41,FALSE)))","v":""},{"$f":"IF($C63=\"\",\"\",IF(ISERROR(VLOOKUP($B63,'1回目集計表'!$D$6:$AS$65,42,FALSE)),\"\",VLOOKUP($B63,'1回目集計表'!$D$6:$AS$65,42,FALSE)))","v":""},"☐","⇒",{"$f":"IF($C63=\"\",\"\",IF(ISERROR(VLOOKUP($B63,'２回目集計表'!$D$6:$AS$65,39,FALSE)),\"\",VLOOKUP($B63,'２回目集計表'!$D$6:$AS$65,39,FALSE)))","v":""},"",{"$f":"IF($C63=\"\",\"\",IF(ISERROR(VLOOKUP($B63,'２回目集計表'!$D$6:$AS$65,40,FALSE)),\"\",VLOOKUP($B63,'２回目集計表'!$D$6:$AS$65,40,FALSE)))","v":""},"",{"$f":"IF($C63=\"\",\"\",IF(ISERROR(VLOOKUP($B63,'２回目集計表'!$D$6:$AS$65,41,FALSE)),\"\",VLOOKUP($B63,'２回目集計表'!$D$6:$AS$65,41,FALSE)))","v":""},"",{"$f":"IF($C63=\"\",\"\",IF(ISERROR(VLOOKUP($B63,'２回目集計表'!$D$6:$AS$65,42,FALSE)),\"\",VLOOKUP($B63,'２回目集計表'!$D$6:$AS$65,42,FALSE)))","v":""},"","☐","⇒",{"$f":"IF($C63=\"\",\"\",IF(ISERROR(VLOOKUP($B63,'３回目集計表'!$D$6:$AS$65,39,FALSE)),\"\",VLOOKUP($B63,'３回目集計表'!$D$6:$AS$65,39,FALSE)))","v":""},"",{"$f":"IF($C63=\"\",\"\",IF(ISERROR(VLOOKUP($B63,'３回目集計表'!$D$6:$AS$65,40,FALSE)),\"\",VLOOKUP($B63,'３回目集計表'!$D$6:$AS$65,40,FALSE)))","v":""},"",{"$f":"IF($C63=\"\",\"\",IF(ISERROR(VLOOKUP($B63,'３回目集計表'!$D$6:$AS$65,41,FALSE)),\"\",VLOOKUP($B63,'３回目集計表'!$D$6:$AS$65,41,FALSE)))","v":""},"",{"$f":"IF($C63=\"\",\"\",IF(ISERROR(VLOOKUP($B63,'３回目集計表'!$D$6:$AS$65,42,FALSE)),\"\",VLOOKUP($B63,'３回目集計表'!$D$6:$AS$65,42,FALSE)))","v":""},"","☐"]
[null,55,{"$f":"IF(基礎データ!C59=0,\"\",基礎データ!C59)","v":""},null,{"$f":"IF($C64=\"\",\"\",IF(ISERROR(VLOOKUP($B64,'1回目集計表'!$D$6:$AS$65,39,FALSE)),\"\",VLOOKUP($B64,'1回目集計表'!$D$6:$AS$65,39,FALSE)))","v":""},{"$f":"IF($C64=\"\",\"\",IF(ISERROR(VLOOKUP($B64,'1回目集計表'!$D$6:$AS$65,40,FALSE)),\"\",VLOOKUP($B64,'1回目集計表'!$D$6:$AS$65,40,FALSE)))","v":""},{"$f":"IF($C64=\"\",\"\",IF(ISERROR(VLOOKUP($B64,'1回目集計表'!$D$6:$AS$65,41,FALSE)),\"\",VLOOKUP($B64,'1回目集計表'!$D$6:$AS$65,41,FALSE)))","v":""},{"$f":"IF($C64=\"\",\"\",IF(ISERROR(VLOOKUP($B64,'1回目集計表'!$D$6:$AS$65,42,FALSE)),\"\",VLOOKUP($B64,'1回目集計表'!$D$6:$AS$65,42,FALSE)))","v":""},"☐","⇒",{"$f":"IF($C64=\"\",\"\",IF(ISERROR(VLOOKUP($B64,'２回目集計表'!$D$6:$AS$65,39,FALSE)),\"\",VLOOKUP($B64,'２回目集計表'!$D$6:$AS$65,39,FALSE)))","v":""},"",{"$f":"IF($C64=\"\",\"\",IF(ISERROR(VLOOKUP($B64,'２回目集計表'!$D$6:$AS$65,40,FALSE)),\"\",VLOOKUP($B64,'２回目集計表'!$D$6:$AS$65,40,FALSE)))","v":""},"",{"$f":"IF($C64=\"\",\"\",IF(ISERROR(VLOOKUP($B64,'２回目集計表'!$D$6:$AS$65,41,FALSE)),\"\",VLOOKUP($B64,'２回目集計表'!$D$6:$AS$65,41,FALSE)))","v":""},"",{"$f":"IF($C64=\"\",\"\",IF(ISERROR(VLOOKUP($B64,'２回目集計表'!$D$6:$AS$65,42,FALSE)),\"\",VLOOKUP($B64,'２回目集計表'!$D$6:$AS$65,42,FALSE)))","v":""},"","☐","⇒",{"$f":"IF($C64=\"\",\"\",IF(ISERROR(VLOOKUP($B64,'３回目集計表'!$D$6:$AS$65,39,FALSE)),\"\",VLOOKUP($B64,'３回目集計表'!$D$6:$AS$65,39,FALSE)))","v":""},"",{"$f":"IF($C64=\"\",\"\",IF(ISERROR(VLOOKUP($B64,'３回目集計表'!$D$6:$AS$65,40,FALSE)),\"\",VLOOKUP($B64,'３回目集計表'!$D$6:$AS$65,40,FALSE)))","v":""},"",{"$f":"IF($C64=\"\",\"\",IF(ISERROR(VLOOKUP($B64,'３回目集計表'!$D$6:$AS$65,41,FALSE)),\"\",VLOOKUP($B64,'３回目集計表'!$D$6:$AS$65,41,FALSE)))","v":""},"",{"$f":"IF($C64=\"\",\"\",IF(ISERROR(VLOOKUP($B64,'３回目集計表'!$D$6:$AS$65,42,FALSE)),\"\",VLOOKUP($B64,'３回目集計表'!$D$6:$AS$65,42,FALSE)))","v":""},"","☐"]
[null,56,{"$f":"IF(基礎データ!C60=0,\"\",基礎データ!C60)","v":""},null,{"$f":"IF($C65=\"\",\"\",IF(ISERROR(VLOOKUP($B65,'1回目集計表'!$D$6:$AS$65,39,FALSE)),\"\",VLOOKUP($B65,'1回目集計表'!$D$6:$AS$65,39,FALSE)))","v":""},{"$f":"IF($C65=\"\",\"\",IF(ISERROR(VLOOKUP($B65,'1回目集計表'!$D$6:$AS$65,40,FALSE)),\"\",VLOOKUP($B65,'1回目集計表'!$D$6:$AS$65,40,FALSE)))","v":""},{"$f":"IF($C65=\"\",\"\",IF(ISERROR(VLOOKUP($B65,'1回目集計表'!$D$6:$AS$65,41,FALSE)),\"\",VLOOKUP($B65,'1回目集計表'!$D$6:$AS$65,41,FALSE)))","v":""},{"$f":"IF($C65=\"\",\"\",IF(ISERROR(VLOOKUP($B65,'1回目集計表'!$D$6:$AS$65,42,FALSE)),\"\",VLOOKUP($B65,'1回目集計表'!$D$6:$AS$65,42,FALSE)))","v":""},"☐","⇒",{"$f":"IF($C65=\"\",\"\",IF(ISERROR(VLOOKUP($B65,'２回目集計表'!$D$6:$AS$65,39,FALSE)),\"\",VLOOKUP($B65,'２回目集計表'!$D$6:$AS$65,39,FALSE)))","v":""},"",{"$f":"IF($C65=\"\",\"\",IF(ISERROR(VLOOKUP($B65,'２回目集計表'!$D$6:$AS$65,40,FALSE)),\"\",VLOOKUP($B65,'２回目集計表'!$D$6:$AS$65,40,FALSE)))","v":""},"",{"$f":"IF($C65=\"\",\"\",IF(ISERROR(VLOOKUP($B65,'２回目集計表'!$D$6:$AS$65,41,FALSE)),\"\",VLOOKUP($B65,'２回目集計表'!$D$6:$AS$65,41,FALSE)))","v":""},"",{"$f":"IF($C65=\"\",\"\",IF(ISERROR(VLOOKUP($B65,'２回目集計表'!$D$6:$AS$65,42,FALSE)),\"\",VLOOKUP($B65,'２回目集計表'!$D$6:$AS$65,42,FALSE)))","v":""},"","☐","⇒",{"$f":"IF($C65=\"\",\"\",IF(ISERROR(VLOOKUP($B65,'３回目集計表'!$D$6:$AS$65,39,FALSE)),\"\",VLOOKUP($B65,'３回目集計表'!$D$6:$AS$65,39,FALSE)))","v":""},"",{"$f":"IF($C65=\"\",\"\",IF(ISERROR(VLOOKUP($B65,'３回目集計表'!$D$6:$AS$65,40,FALSE)),\"\",VLOOKUP($B65,'３回目集計表'!$D$6:$AS$65,40,FALSE)))","v":""},"",{"$f":"IF($C65=\"\",\"\",IF(ISERROR(VLOOKUP($B65,'３回目集計表'!$D$6:$AS$65,41,FALSE)),\"\",VLOOKUP($B65,'３回目集計表'!$D$6:$AS$65,41,FALSE)))","v":""},"",{"$f":"IF($C65=\"\",\"\",IF(ISERROR(VLOOKUP($B65,'３回目集計表'!$D$6:$AS$65,42,FALSE)),\"\",VLOOKUP($B65,'３回目集計表'!$D$6:$AS$65,42,FALSE)))","v":""},"","☐"]
[null,57,{"$f":"IF(基礎データ!C61=0,\"\",基礎データ!C61)","v":""},null,{"$f":"IF($C66=\"\",\"\",IF(ISERROR(VLOOKUP($B66,'1回目集計表'!$D$6:$AS$65,39,FALSE)),\"\",VLOOKUP($B66,'1回目集計表'!$D$6:$AS$65,39,FALSE)))","v":""},{"$f":"IF($C66=\"\",\"\",IF(ISERROR(VLOOKUP($B66,'1回目集計表'!$D$6:$AS$65,40,FALSE)),\"\",VLOOKUP($B66,'1回目集計表'!$D$6:$AS$65,40,FALSE)))","v":""},{"$f":"IF($C66=\"\",\"\",IF(ISERROR(VLOOKUP($B66,'1回目集計表'!$D$6:$AS$65,41,FALSE)),\"\",VLOOKUP($B66,'1回目集計表'!$D$6:$AS$65,41,FALSE)))","v":""},{"$f":"IF($C66=\"\",\"\",IF(ISERROR(VLOOKUP($B66,'1回目集計表'!$D$6:$AS$65,42,FALSE)),\"\",VLOOKUP($B66,'1回目集計表'!$D$6:$AS$65,42,FALSE)))","v":""},"☐","⇒",{"$f":"IF($C66=\"\",\"\",IF(ISERROR(VLOOKUP($B66,'２回目集計表'!$D$6:$AS$65,39,FALSE)),\"\",VLOOKUP($B66,'２回目集計表'!$D$6:$AS$65,39,FALSE)))","v":""},"",{"$f":"IF($C66=\"\",\"\",IF(ISERROR(VLOOKUP($B66,'２回目集計表'!$D$6:$AS$65,40,FALSE)),\"\",VLOOKUP($B66,'２回目集計表'!$D$6:$AS$65,40,FALSE)))","v":""},"",{"$f":"IF($C66=\"\",\"\",IF(ISERROR(VLOOKUP($B66,'２回目集計表'!$D$6:$AS$65,41,FALSE)),\"\",VLOOKUP($B66,'２回目集計表'!$D$6:$AS$65,41,FALSE)))","v":""},"",{"$f":"IF($C66=\"\",\"\",IF(ISERROR(VLOOKUP($B66,'２回目集計表'!$D$6:$AS$65,42,FALSE)),\"\",VLOOKUP($B66,'２回目集計表'!$D$6:$AS$65,42,FALSE)))","v":""},"","☐","⇒",{"$f":"IF($C66=\"\",\"\",IF(ISERROR(VLOOKUP($B66,'３回目集計表'!$D$6:$AS$65,39,FALSE)),\"\",VLOOKUP($B66,'３回目集計表'!$D$6:$AS$65,39,FALSE)))","v":""},"",{"$f":"IF($C66=\"\",\"\",IF(ISERROR(VLOOKUP($B66,'３回目集計表'!$D$6:$AS$65,40,FALSE)),\"\",VLOOKUP($B66,'３回目集計表'!$D$6:$AS$65,40,FALSE)))","v":""},"",{"$f":"IF($C66=\"\",\"\",IF(ISERROR(VLOOKUP($B66,'３回目集計表'!$D$6:$AS$65,41,FALSE)),\"\",VLOOKUP($B66,'３回目集計表'!$D$6:$AS$65,41,FALSE)))","v":""},"",{"$f":"IF($C66=\"\",\"\",IF(ISERROR(VLOOKUP($B66,'３回目集計表'!$D$6:$AS$65,42,FALSE)),\"\",VLOOKUP($B66,'３回目集計表'!$D$6:$AS$65,42,FALSE)))","v":""},"","☐"]
[null,58,{"$f":"IF(基礎データ!C62=0,\"\",基礎データ!C62)","v":""},null,{"$f":"IF($C67=\"\",\"\",IF(ISERROR(VLOOKUP($B67,'1回目集計表'!$D$6:$AS$65,39,FALSE)),\"\",VLOOKUP($B67,'1回目集計表'!$D$6:$AS$65,39,FALSE)))","v":""},{"$f":"IF($C67=\"\",\"\",IF(ISERROR(VLOOKUP($B67,'1回目集計表'!$D$6:$AS$65,40,FALSE)),\"\",VLOOKUP($B67,'1回目集計表'!$D$6:$AS$65,40,FALSE)))","v":""},{"$f":"IF($C67=\"\",\"\",IF(ISERROR(VLOOKUP($B67,'1回目集計表'!$D$6:$AS$65,41,FALSE)),\"\",VLOOKUP($B67,'1回目集計表'!$D$6:$AS$65,41,FALSE)))","v":""},{"$f":"IF($C67=\"\",\"\",IF(ISERROR(VLOOKUP($B67,'1回目集計表'!$D$6:$AS$65,42,FALSE)),\"\",VLOOKUP($B67,'1回目集計表'!$D$6:$AS$65,42,FALSE)))","v":""},"☐","⇒",{"$f":"IF($C67=\"\",\"\",IF(ISERROR(VLOOKUP($B67,'２回目集計表'!$D$6:$AS$65,39,FALSE)),\"\",VLOOKUP($B67,'２回目集計表'!$D$6:$AS$65,39,FALSE)))","v":""},"",{"$f":"IF($C67=\"\",\"\",IF(ISERROR(VLOOKUP($B67,'２回目集計表'!$D$6:$AS$65,40,FALSE)),\"\",VLOOKUP($B67,'２回目集計表'!$D$6:$AS$65,40,FALSE)))","v":""},"",{"$f":"IF($C67=\"\",\"\",IF(ISERROR(VLOOKUP($B67,'２回目集計表'!$D$6:$AS$65,41,FALSE)),\"\",VLOOKUP($B67,'２回目集計表'!$D$6:$AS$65,41,FALSE)))","v":""},"",{"$f":"IF($C67=\"\",\"\",IF(ISERROR(VLOOKUP($B67,'２回目集計表'!$D$6:$AS$65,42,FALSE)),\"\",VLOOKUP($B67,'２回目集計表'!$D$6:$AS$65,42,FALSE)))","v":""},"","☐","⇒",{"$f":"IF($C67=\"\",\"\",IF(ISERROR(VLOOKUP($B67,'３回目集計表'!$D$6:$AS$65,39,FALSE)),\"\",VLOOKUP($B67,'３回目集計表'!$D$6:$AS$65,39,FALSE)))","v":""},"",{"$f":"IF($C67=\"\",\"\",IF(ISERROR(VLOOKUP($B67,'３回目集計表'!$D$6:$AS$65,40,FALSE)),\"\",VLOOKUP($B67,'３回目集計表'!$D$6:$AS$65,40,FALSE)))","v":""},"",{"$f":"IF($C67=\"\",\"\",IF(ISERROR(VLOOKUP($B67,'３回目集計表'!$D$6:$AS$65,41,FALSE)),\"\",VLOOKUP($B67,'３回目集計表'!$D$6:$AS$65,41,FALSE)))","v":""},"",{"$f":"IF($C67=\"\",\"\",IF(ISERROR(VLOOKUP($B67,'３回目集計表'!$D$6:$AS$65,42,FALSE)),\"\",VLOOKUP($B67,'３回目集計表'!$D$6:$AS$65,42,FALSE)))","v":""},"","☐"]
[null,59,{"$f":"IF(基礎データ!C63=0,\"\",基礎データ!C63)","v":""},null,{"$f":"IF($C68=\"\",\"\",IF(ISERROR(VLOOKUP($B68,'1回目集計表'!$D$6:$AS$65,39,FALSE)),\"\",VLOOKUP($B68,'1回目集計表'!$D$6:$AS$65,39,FALSE)))","v":""},{"$f":"IF($C68=\"\",\"\",IF(ISERROR(VLOOKUP($B68,'1回目集計表'!$D$6:$AS$65,40,FALSE)),\"\",VLOOKUP($B68,'1回目集計表'!$D$6:$AS$65,40,FALSE)))","v":""},{"$f":"IF($C68=\"\",\"\",IF(ISERROR(VLOOKUP($B68,'1回目集計表'!$D$6:$AS$65,41,FALSE)),\"\",VLOOKUP($B68,'1回目集計表'!$D$6:$AS$65,41,FALSE)))","v":""},{"$f":"IF($C68=\"\",\"\",IF(ISERROR(VLOOKUP($B68,'1回目集計表'!$D$6:$AS$65,42,FALSE)),\"\",VLOOKUP($B68,'1回目集計表'!$D$6:$AS$65,42,FALSE)))","v":""},"☐","⇒",{"$f":"IF($C68=\"\",\"\",IF(ISERROR(VLOOKUP($B68,'２回目集計表'!$D$6:$AS$65,39,FALSE)),\"\",VLOOKUP($B68,'２回目集計表'!$D$6:$AS$65,39,FALSE)))","v":""},"",{"$f":"IF($C68=\"\",\"\",IF(ISERROR(VLOOKUP($B68,'２回目集計表'!$D$6:$AS$65,40,FALSE)),\"\",VLOOKUP($B68,'２回目集計表'!$D$6:$AS$65,40,FALSE)))","v":""},"",{"$f":"IF($C68=\"\",\"\",IF(ISERROR(VLOOKUP($B68,'２回目集計表'!$D$6:$AS$65,41,FALSE)),\"\",VLOOKUP($B68,'２回目集計表'!$D$6:$AS$65,41,FALSE)))","v":""},"",{"$f":"IF($C68=\"\",\"\",IF(ISERROR(VLOOKUP($B68,'２回目集計表'!$D$6:$AS$65,42,FALSE)),\"\",VLOOKUP($B68,'２回目集計表'!$D$6:$AS$65,42,FALSE)))","v":""},"","☐","⇒",{"$f":"IF($C68=\"\",\"\",IF(ISERROR(VLOOKUP($B68,'３回目集計表'!$D$6:$AS$65,39,FALSE)),\"\",VLOOKUP($B68,'３回目集計表'!$D$6:$AS$65,39,FALSE)))","v":""},"",{"$f":"IF($C68=\"\",\"\",IF(ISERROR(VLOOKUP($B68,'３回目集計表'!$D$6:$AS$65,40,FALSE)),\"\",VLOOKUP($B68,'３回目集計表'!$D$6:$AS$65,40,FALSE)))","v":""},"",{"$f":"IF($C68=\"\",\"\",IF(ISERROR(VLOOKUP($B68,'３回目集計表'!$D$6:$AS$65,41,FALSE)),\"\",VLOOKUP($B68,'３回目集計表'!$D$6:$AS$65,41,FALSE)))","v":""},"",{"$f":"IF($C68=\"\",\"\",IF(ISERROR(VLOOKUP($B68,'３回目集計表'!$D$6:$AS$65,42,FALSE)),\"\",VLOOKUP($B68,'３回目集計表'!$D$6:$AS$65,42,FALSE)))","v":""},"","☐"]
[null,60,{"$f":"IF(基礎データ!C64=0,\"\",基礎データ!C64)","v":""},null,{"$f":"IF($C69=\"\",\"\",IF(ISERROR(VLOOKUP($B69,'1回目集計表'!$D$6:$AS$65,39,FALSE)),\"\",VLOOKUP($B69,'1回目集計表'!$D$6:$AS$65,39,FALSE)))","v":""},{"$f":"IF($C69=\"\",\"\",IF(ISERROR(VLOOKUP($B69,'1回目集計表'!$D$6:$AS$65,40,FALSE)),\"\",VLOOKUP($B69,'1回目集計表'!$D$6:$AS$65,40,FALSE)))","v":""},{"$f":"IF($C69=\"\",\"\",IF(ISERROR(VLOOKUP($B69,'1回目集計表'!$D$6:$AS$65,41,FALSE)),\"\",VLOOKUP($B69,'1回目集計表'!$D$6:$AS$65,41,FALSE)))","v":""},{"$f":"IF($C69=\"\",\"\",IF(ISERROR(VLOOKUP($B69,'1回目集計表'!$D$6:$AS$65,42,FALSE)),\"\",VLOOKUP($B69,'1回目集計表'!$D$6:$AS$65,42,FALSE)))","v":""},"☐","⇒",{"$f":"IF($C69=\"\",\"\",IF(ISERROR(VLOOKUP($B69,'２回目集計表'!$D$6:$AS$65,39,FALSE)),\"\",VLOOKUP($B69,'２回目集計表'!$D$6:$AS$65,39,FALSE)))","v":""},"",{"$f":"IF($C69=\"\",\"\",IF(ISERROR(VLOOKUP($B69,'２回目集計表'!$D$6:$AS$65,40,FALSE)),\"\",VLOOKUP($B69,'２回目集計表'!$D$6:$AS$65,40,FALSE)))","v":""},"",{"$f":"IF($C69=\"\",\"\",IF(ISERROR(VLOOKUP($B69,'２回目集計表'!$D$6:$AS$65,41,FALSE)),\"\",VLOOKUP($B69,'２回目集計表'!$D$6:$AS$65,41,FALSE)))","v":""},"",{"$f":"IF($C69=\"\",\"\",IF(ISERROR(VLOOKUP($B69,'２回目集計表'!$D$6:$AS$65,42,FALSE)),\"\",VLOOKUP($B69,'２回目集計表'!$D$6:$AS$65,42,FALSE)))","v":""},"","☐","⇒",{"$f":"IF($C69=\"\",\"\",IF(ISERROR(VLOOKUP($B69,'３回目集計表'!$D$6:$AS$65,39,FALSE)),\"\",VLOOKUP($B69,'３回目集計表'!$D$6:$AS$65,39,FALSE)))","v":""},"",{"$f":"IF($C69=\"\",\"\",IF(ISERROR(VLOOKUP($B69,'３回目集計表'!$D$6:$AS$65,40,FALSE)),\"\",VLOOKUP($B69,'３回目集計表'!$D$6:$AS$65,40,FALSE)))","v":""},"",{"$f":"IF($C69=\"\",\"\",IF(ISERROR(VLOOKUP($B69,'３回目集計表'!$D$6:$AS$65,41,FALSE)),\"\",VLOOKUP($B69,'３回目集計表'!$D$6:$AS$65,41,FALSE)))","v":""},"",{"$f":"IF($C69=\"\",\"\",IF(ISERROR(VLOOKUP($B69,'３回目集計表'!$D$6:$AS$65,42,FALSE)),\"\",VLOOKUP($B69,'３回目集計表'!$D$6:$AS$65,42,FALSE)))","v":""},"","☐"]

{"sheet":"１回目直接入力","index":4,"n_rows":66,"n_cols":16384,"rows_kept":66,"cut":false,"hidden":false,"merged":[]}
[null,"1回目直接入力 　出席番号順に入力しなくてよいです。"]
["出席番号","（1）","（2）","（3）","（4）","（5）","（6）","（7）","（8）","（9）","（10）","（11）","（12）","（13）","（14）","（15）","（16）","（17）","（18）","（19）","（20）","（21）","（22）","（23）","（24）","（25）","（26）","（27）","（28）"]
[{"$f":"A65","v":0},0,0,0,0,0,{"$f":"IF(G65=4,1,IF(G65=3,2,IF(G65=2,3,IF(G65=1,4,0))))","v":0},0,{"$f":"IF(I65=4,1,IF(I65=3,2,IF(I65=2,3,IF(I65=1,4,0))))","v":0},{"$f":"J65","v":0},0,0,0,{"$f":"N65","v":0},{"$f":"IF(O65=4,1,IF(O65=3,2,IF(O65=2,3,IF(O65=1,4,0))))","v":0},{"$f":"P65","v":0},0,0,0,{"$f":"T65","v":0},{"$f":"IF(U65=4,1,IF(U65=3,2,IF(U65=2,3,IF(U65=1,4,0))))","v":0},{"$f":"V65","v":0},0,0,{"$f":"Y65","v":0},0,{"$f":"IF(AA65=4,1,IF(AA65=3,2,IF(AA65=2,3,IF(AA65=1,4,0))))","v":0},{"$f":"IF(AB65=4,1,IF(AB65=3,2,IF(AB65=2,3,IF(AB65=1,4,0))))","v":0},0]
[{"$f":"A66","v":0},0,0,0,0,0,0,0,{"$f":"IF(I66=4,1,IF(I66=3,2,IF(I66=2,3,IF(I66=1,4,0))))","v":0},0,0,0,0,{"$f":"N66","v":0},{"$f":"IF(O66=4,1,IF(O66=3,2,IF(O66=2,3,IF(O66=1,4,0))))","v":0},0,0,0,0,{"$f":"T66","v":0},{"$f":"IF(U66=4,1,IF(U66=3,2,IF(U66=2,3,IF(U66=1,4,0))))","v":0},0,0,0,{"$f":"Y66","v":0},0,{"$f":"IF(AA66=4,1,IF(AA66=3,2,IF(AA66=2,3,IF(AA66=1,4,0))))","v":0},0,0]
[{"$f":"A67","v":0},0,0,0,0,0,0,0,{"$f":"IF(I67=4,1,IF(I67=3,2,IF(I67=2,3,IF(I67=1,4,0))))","v":0},0,0,0,0,{"$f":"N67","v":0},0,0,0,0,0,{"$f":"T67","v":0},0,0,0,0,{"$f":"Y67","v":0},0,{"$f":"IF(AA67=4,1,IF(AA67=3,2,IF(AA67=2,3,IF(AA67=1,4,0))))","v":0},0,0]
[{"$f":"A68","v":0},0,0,0,0,0,0,0,{"$f":"IF(I68=4,1,IF(I68=3,2,IF(I68=2,3,IF(I68=1,4,0))))","v":0},0,0,0,0,{"$f":"N68","v":0},0,0,0,0,0,{"$f":"T68","v":0},0,0,0,0,{"$f":"Y68","v":0},0,{"$f":"IF(AA68=4,1,IF(AA68=3,2,IF(AA68=2,3,IF(AA68=1,4,0))))","v":0},0,0]
[{"$f":"A69","v":0},0,0,0,0,0,0,0,{"$f":"IF(I69=4,1,IF(I69=3,2,IF(I69=2,3,IF(I69=1,4,0))))","v":0},0,0,0,0,{"$f":"N69","v":0},0,0,0,0,0,{"$f":"T69","v":0},0,0,0,0,{"$f":"Y69","v":0},0,{"$f":"IF(AA69=4,1,IF(AA69=3,2,IF(AA69=2,3,IF(AA69=1,4,0))))","v":0},0,0]
[{"$f":"A70","v":0},0,0,0,0,0,0,0,{"$f":"IF(I70=4,1,IF(I70=3,2,IF(I70=2,3,IF(I70=1,4,0))))","v":0},0,0,0,0,{"$f":"N70","v":0},0,0,0,0,0,{"$f":"T70","v":0},0,0,0,0,{"$f":"Y70","v":0},0,{"$f":"IF(AA70=4,1,IF(AA70=3,2,IF(AA70=2,3,IF(AA70=1,4,0))))","v":0},0,0]
[{"$f":"A71","v":0},0,0,0,0,0,0,0,{"$f":"IF(I71=4,1,IF(I71=3,2,IF(I71=2,3,IF(I71=1,4,0))))","v":0},0,0,0,0,{"$f":"N71","v":0},0,0,0,0,0,{"$f":"T71","v":0},0,0,0,0,{"$f":"Y71","v":0},0,{"$f":"IF(AA71=4,1,IF(AA71=3,2,IF(AA71=2,3,IF(AA71=1,4,0))))","v":0},0,0]
[{"$f":"A72","v":0},0,0,0,0,0,0,0,{"$f":"IF(I72=4,1,IF(I72=3,2,IF(I72=2,3,IF(I72=1,4,0))))","v":0},0,0,0,0,{"$f":"N72","v":0},0,0,0,0,0,{"$f":"T72","v":0},0,0,0,0,{"$f":"Y72","v":0},0,{"$f":"IF(AA72=4,1,IF(AA72=3,2,IF(AA72=2,3,IF(AA72=1,4,0))))","v":0},0,0]
[{"$f":"A73","v":0},0,0,0,0,0,0,0,{"$f":"IF(I73=4,1,IF(I73=3,2,IF(I73=2,3,IF(I73=1,4,0))))","v":0},0,0,0,0,{"$f":"N73","v":0},0,0,0,0,0,{"$f":"T73","v":0},0,0,0,0,{"$f":"Y73","v":0},0,{"$f":"IF(AA73=4,1,IF(AA73=3,2,IF(AA73=2,3,IF(AA73=1,4,0))))","v":0},0,0]
[{"$f":"A74","v":0},0,0,0,0,0,0,0,{"$f":"IF(I74=4,1,IF(I74=3,2,IF(I74=2,3,IF(I74=1,4,0))))","v":0},0,0,0,0,{"$f":"N74","v":0},0,0,0,0,0,{"$f":"T74","v":0},0,0,0,0,{"$f":"Y74","v":0},0,{"$f":"IF(AA74=4,1,IF(AA74=3,2,IF(AA74=2,3,IF(AA74=1,4,0))))","v":0},0,0]
[{"$f":"A75","v":0},0,0,0,0,0,0,0,{"$f":"IF(I75=4,1,IF(I75=3,2,IF(I75=2,3,IF(I75=1,4,0))))","v":0},{"$f":"J75","v":0},0,0,0,{"$f":"N75","v":0},0,{"$f":"P75","v":0},0,0,0,{"$f":"T75","v":0},0,{"$f":"V75","v":0},0,0,{"$f":"Y75","v":0},0,{"$f":"IF(AA75=4,1,IF(AA75=3,2,IF(AA75=2,3,IF(AA75=1,4,0))))","v":0},0,0]
[{"$f":"A76","v":0},0,0,0,0,0,0,0,{"$f":"IF(I76=4,1,IF(I76=3,2,IF(I76=2,3,IF(I76=1,4,0))))","v":0},0,0,0,0,{"$f":"N76","v":0},0,0,0,0,0,{"$f":"T76","v":0},0,0,0,0,{"$f":"Y76","v":0},0,{"$f":"IF(AA76=4,1,IF(AA76=3,2,IF(AA76=2,3,IF(AA76=1,4,0))))","v":0},0,0]
[{"$f":"A77","v":0},0,0,0,0,0,0,0,{"$f":"IF(I77=4,1,IF(I77=3,2,IF(I77=2,3,IF(I77=1,4,0))))","v":0},0,0,0,0,{"$f":"N77","v":0},0,0,0,0,0,{"$f":"T77","v":0},0,0,0,0,{"$f":"Y77","v":0},0,{"$f":"IF(AA77=4,1,IF(AA77=3,2,IF(AA77=2,3,IF(AA77=1,4,0))))","v":0},0,0]
[{"$f":"A78","v":0},0,0,0,0,0,0,0,{"$f":"IF(I78=4,1,IF(I78=3,2,IF(I78=2,3,IF(I78=1,4,0))))","v":0},0,0,0,0,{"$f":"N78","v":0},0,0,0,0,0,{"$f":"T78","v":0},0,0,0,0,{"$f":"Y78","v":0},0,{"$f":"IF(AA78=4,1,IF(AA78=3,2,IF(AA78=2,3,IF(AA78=1,4,0))))","v":0},0,0]
[{"$f":"A79","v":0},0,0,0,0,0,0,0,{"$f":"IF(I79=4,1,IF(I79=3,2,IF(I79=2,3,IF(I79=1,4,0))))","v":0},0,0,0,0,{"$f":"N79","v":0},0,0,0,0,0,{"$f":"T79","v":0},0,0,0,0,{"$f":"Y79","v":0},0,{"$f":"IF(AA79=4,1,IF(AA79=3,2,IF(AA79=2,3,IF(AA79=1,4,0))))","v":0},0,0]
[{"$f":"A80","v":0},0,0,0,0,0,0,0,{"$f":"IF(I80=4,1,IF(I80=3,2,IF(I80=2,3,IF(I80=1,4,0))))","v":0},0,0,0,0,{"$f":"N80","v":0},0,0,0,0,0,{"$f":"T80","v":0},0,0,0,0,{"$f":"Y80","v":0},0,{"$f":"IF(AA80=4,1,IF(AA80=3,2,IF(AA80=2,3,IF(AA80=1,4,0))))","v":0},0,0]
[{"$f":"A81","v":0},0,0,0,0,0,0,0,{"$f":"IF(I81=4,1,IF(I81=3,2,IF(I81=2,3,IF(I81=1,4,0))))","v":0},0,0,0,0,{"$f":"N81","v":0},0,0,0,0,0,{"$f":"T81","v":0},0,0,0,0,{"$f":"Y81","v":0},0,{"$f":"IF(AA81=4,1,IF(AA81=3,2,IF(AA81=2,3,IF(AA81=1,4,0))))","v":0},0,0]
[{"$f":"A82","v":0},0,0,0,0,0,0,0,{"$f":"IF(I82=4,1,IF(I82=3,2,IF(I82=2,3,IF(I82=1,4,0))))","v":0},0,0,0,0,{"$f":"N82","v":0},0,0,0,0,0,{"$f":"T82","v":0},0,0,0,0,{"$f":"Y82","v":0},0,{"$f":"IF(AA82=4,1,IF(AA82=3,2,IF(AA82=2,3,IF(AA82=1,4,0))))","v":0},0,0]
[{"$f":"A83","v":0},0,0,0,0,0,0,0,{"$f":"IF(I83=4,1,IF(I83=3,2,IF(I83=2,3,IF(I83=1,4,0))))","v":0},0,0,0,0,{"$f":"N83","v":0},0,0,0,0,0,{"$f":"T83","v":0},0,0,0,0,{"$f":"Y83","v":0},0,{"$f":"IF(AA83=4,1,IF(AA83=3,2,IF(AA83=2,3,IF(AA83=1,4,0))))","v":0},0,0]
[{"$f":"A84","v":0},0,0,0,0,0,0,0,{"$f":"IF(I84=4,1,IF(I84=3,2,IF(I84=2,3,IF(I84=1,4,0))))","v":0},0,0,0,0,{"$f":"N84","v":0},0,0,0,0,0,{"$f":"T84","v":0},0,0,0,0,{"$f":"Y84","v":0},0,{"$f":"IF(AA84=4,1,IF(AA84=3,2,IF(AA84=2,3,IF(AA84=1,4,0))))","v":0},0,0]
[{"$f":"A85","v":0},0,0,0,0,0,{"$f":"IF(G85=4,1,IF(G85=3,2,IF(G85=2,3,IF(G85=1,4,0))))","v":0},0,{"$f":"IF(I85=4,1,IF(I85=3,2,IF(I85=2,3,IF(I85=1,4,0))))","v":0},{"$f":"J85","v":0},0,0,0,{"$f":"N85","v":0},0,{"$f":"P85","v":0},0,0,0,{"$f":"T85","v":0},0,{"$f":"V85","v":0},0,0,{"$f":"Y85","v":0},0,{"$f":"IF(AA85=4,1,IF(AA85=3,2,IF(AA85=2,3,IF(AA85=1,4,0))))","v":0},{"$f":"IF(AB85=4,1,IF(AB85=3,2,IF(AB85=2,3,IF(AB85=1,4,0))))","v":0},0]
[{"$f":"A86","v":0},0,0,0,0,0,0,0,{"$f":"IF(I86=4,1,IF(I86=3,2,IF(I86=2,3,IF(I86=1,4,0))))","v":0},0,0,0,0,{"$f":"N86","v":0},0,0,0,0,0,{"$f":"T86","v":0},0,0,0,0,{"$f":"Y86","v":0},0,{"$f":"IF(AA86=4,1,IF(AA86=3,2,IF(AA86=2,3,IF(AA86=1,4,0))))","v":0},0,0]
[{"$f":"A87","v":0},0,0,0,0,0,0,0,{"$f":"IF(I87=4,1,IF(I87=3,2,IF(I87=2,3,IF(I87=1,4,0))))","v":0},0,0,0,0,{"$f":"N87","v":0},0,0,0,0,0,{"$f":"T87","v":0},0,0,0,0,{"$f":"Y87","v":0},0,{"$f":"IF(AA87=4,1,IF(AA87=3,2,IF(AA87=2,3,IF(AA87=1,4,0))))","v":0},0,0]
[{"$f":"A88","v":0},0,0,0,0,0,0,0,{"$f":"IF(I88=4,1,IF(I88=3,2,IF(I88=2,3,IF(I88=1,4,0))))","v":0},0,0,0,0,{"$f":"N88","v":0},0,0,0,0,0,{"$f":"T88","v":0},0,0,0,0,{"$f":"Y88","v":0},0,{"$f":"IF(AA88=4,1,IF(AA88=3,2,IF(AA88=2,3,IF(AA88=1,4,0))))","v":0},0,0]
[{"$f":"A89","v":0},0,0,0,0,0,0,0,{"$f":"IF(I89=4,1,IF(I89=3,2,IF(I89=2,3,IF(I89=1,4,0))))","v":0},0,0,0,0,{"$f":"N89","v":0},0,0,0,0,0,{"$f":"T89","v":0},0,0,0,0,{"$f":"Y89","v":0},0,{"$f":"IF(AA89=4,1,IF(AA89=3,2,IF(AA89=2,3,IF(AA89=1,4,0))))","v":0},0,0]
[{"$f":"A90","v":0},0,0,0,0,0,0,0,{"$f":"IF(I90=4,1,IF(I90=3,2,IF(I90=2,3,IF(I90=1,4,0))))","v":0},0,0,0,0,{"$f":"N90","v":0},0,0,0,0,0,{"$f":"T90","v":0},0,0,0,0,{"$f":"Y90","v":0},0,{"$f":"IF(AA90=4,1,IF(AA90=3,2,IF(AA90=2,3,IF(AA90=1,4,0))))","v":0},0,0]
[{"$f":"A91","v":0},0,0,0,0,0,0,0,{"$f":"IF(I91=4,1,IF(I91=3,2,IF(I91=2,3,IF(I91=1,4,0))))","v":0},0,0,0,0,{"$f":"N91","v":0},0,0,0,0,0,{"$f":"T91","v":0},0,0,0,0,{"$f":"Y91","v":0},0,{"$f":"IF(AA91=4,1,IF(AA91=3,2,IF(AA91=2,3,IF(AA91=1,4,0))))","v":0},0,0]
[{"$f":"A92","v":0},0,0,0,0,0,0,0,{"$f":"IF(I92=4,1,IF(I92=3,2,IF(I92=2,3,IF(I92=1,4,0))))","v":0},0,0,0,0,{"$f":"N92","v":0},0,0,0,0,0,{"$f":"T92","v":0},0,0,0,0,{"$f":"Y92","v":0},0,{"$f":"IF(AA92=4,1,IF(AA92=3,2,IF(AA92=2,3,IF(AA92=1,4,0))))","v":0},0,0]
[{"$f":"A93","v":0},0,0,0,0,0,0,0,{"$f":"IF(I93=4,1,IF(I93=3,2,IF(I93=2,3,IF(I93=1,4,0))))","v":0},0,0,0,0,{"$f":"N93","v":0},0,0,0,0,0,{"$f":"T93","v":0},0,0,0,0,{"$f":"Y93","v":0},0,{"$f":"IF(AA93=4,1,IF(AA93=3,2,IF(AA93=2,3,IF(AA93=1,4,0))))","v":0},0,0]
[{"$f":"A94","v":0},0,0,0,0,0,0,0,{"$f":"IF(I94=4,1,IF(I94=3,2,IF(I94=2,3,IF(I94=1,4,0))))","v":0},0,0,0,0,{"$f":"N94","v":0},0,0,0,0,0,{"$f":"T94","v":0},0,0,0,0,{"$f":"Y94","v":0},0,{"$f":"IF(AA94=4,1,IF(AA94=3,2,IF(AA94=2,3,IF(AA94=1,4,0))))","v":0},0,0]
[{"$f":"A95","v":0},0,0,0,0,0,0,0,{"$f":"IF(I95=4,1,IF(I95=3,2,IF(I95=2,3,IF(I95=1,4,0))))","v":0},{"$f":"J95","v":0},0,0,0,{"$f":"N95","v":0},0,{"$f":"P95","v":0},0,0,0,{"$f":"T95","v":0},0,{"$f":"V95","v":0},0,0,{"$f":"Y95","v":0},0,{"$f":"IF(AA95=4,1,IF(AA95=3,2,IF(AA95=2,3,IF(AA95=1,4,0))))","v":0},0,0]
[{"$f":"A96","v":0},0,0,0,0,0,0,0,{"$f":"IF(I96=4,1,IF(I96=3,2,IF(I96=2,3,IF(I96=1,4,0))))","v":0},0,0,0,0,{"$f":"N96","v":0},0,0,0,0,0,{"$f":"T96","v":0},0,0,0,0,{"$f":"Y96","v":0},0,{"$f":"IF(AA96=4,1,IF(AA96=3,2,IF(AA96=2,3,IF(AA96=1,4,0))))","v":0},0,0]
[{"$f":"A97","v":0},0,0,0,0,0,0,0,{"$f":"IF(I97=4,1,IF(I97=3,2,IF(I97=2,3,IF(I97=1,4,0))))","v":0},0,0,0,0,{"$f":"N97","v":0},0,0,0,0,0,{"$f":"T97","v":0},0,0,0,0,{"$f":"Y97","v":0},0,{"$f":"IF(AA97=4,1,IF(AA97=3,2,IF(AA97=2,3,IF(AA97=1,4,0))))","v":0},0,0]
[{"$f":"A98","v":0},0,0,0,0,0,0,0,{"$f":"IF(I98=4,1,IF(I98=3,2,IF(I98=2,3,IF(I98=1,4,0))))","v":0},0,0,0,0,{"$f":"N98","v":0},0,0,0,0,0,{"$f":"T98","v":0},0,0,0,0,{"$f":"Y98","v":0},0,{"$f":"IF(AA98=4,1,IF(AA98=3,2,IF(AA98=2,3,IF(AA98=1,4,0))))","v":0},0,0]
[{"$f":"A99","v":0},0,0,0,0,0,0,0,{"$f":"IF(I99=4,1,IF(I99=3,2,IF(I99=2,3,IF(I99=1,4,0))))","v":0},0,0,0,0,{"$f":"N99","v":0},0,0,0,0,0,{"$f":"T99","v":0},0,0,0,0,{"$f":"Y99","v":0},0,{"$f":"IF(AA99=4,1,IF(AA99=3,2,IF(AA99=2,3,IF(AA99=1,4,0))))","v":0},0,0]
[{"$f":"A100","v":0},0,0,0,0,0,0,0,{"$f":"IF(I100=4,1,IF(I100=3,2,IF(I100=2,3,IF(I100=1,4,0))))","v":0},0,0,0,0,{"$f":"N100","v":0},0,0,0,0,0,{"$f":"T100","v":0},0,0,0,0,{"$f":"Y100","v":0},0,{"$f":"IF(AA100=4,1,IF(AA100=3,2,IF(AA100=2,3,IF(AA100=1,4,0))))","v":0},0,0]
[{"$f":"A101","v":0},0,0,0,0,0,0,0,{"$f":"IF(I101=4,1,IF(I101=3,2,IF(I101=2,3,IF(I101=1,4,0))))","v":0},0,0,0,0,{"$f":"N101","v":0},0,0,0,0,0,{"$f":"T101","v":0},0,0,0,0,{"$f":"Y101","v":0},0,{"$f":"IF(AA101=4,1,IF(AA101=3,2,IF(AA101=2,3,IF(AA101=1,4,0))))","v":0},0,0]
[{"$f":"A102","v":0},0,0,0,0,0,0,0,{"$f":"IF(I102=4,1,IF(I102=3,2,IF(I102=2,3,IF(I102=1,4,0))))","v":0},0,0,0,0,{"$f":"N102","v":0},0,0,0,0,0,{"$f":"T102","v":0},0,0,0,0,{"$f":"Y102","v":0},0,{"$f":"IF(AA102=4,1,IF(AA102=3,2,IF(AA102=2,3,IF(AA102=1,4,0))))","v":0},0,0]
[{"$f":"A103","v":0},0,0,0,0,0,0,0,{"$f":"IF(I103=4,1,IF(I103=3,2,IF(I103=2,3,IF(I103=1,4,0))))","v":0},0,0,0,0,{"$f":"N103","v":0},0,0,0,0,0,{"$f":"T103","v":0},0,0,0,0,{"$f":"Y103","v":0},0,{"$f":"IF(AA103=4,1,IF(AA103=3,2,IF(AA103=2,3,IF(AA103=1,4,0))))","v":0},0,0]
[{"$f":"A104","v":0},0,0,0,0,0,0,0,{"$f":"IF(I104=4,1,IF(I104=3,2,IF(I104=2,3,IF(I104=1,4,0))))","v":0},0,0,0,0,{"$f":"N104","v":0},0,0,0,0,0,{"$f":"T104","v":0},0,0,0,0,{"$f":"Y104","v":0},0,{"$f":"IF(AA104=4,1,IF(AA104=3,2,IF(AA104=2,3,IF(AA104=1,4,0))))","v":0},0,0]
[{"$f":"A105","v":0},0,0,0,0,0,{"$f":"IF(G105=4,1,IF(G105=3,2,IF(G105=2,3,IF(G105=1,4,0))))","v":0},0,{"$f":"IF(I105=4,1,IF(I105=3,2,IF(I105=2,3,IF(I105=1,4,0))))","v":0},{"$f":"J105","v":0},0,0,0,{"$f":"N105","v":0},0,{"$f":"P105","v":0},0,0,0,{"$f":"T105","v":0},0,{"$f":"V105","v":0},0,0,{"$f":"Y105","v":0},0,{"$f":"IF(AA105=4,1,IF(AA105=3,2,IF(AA105=2,3,IF(AA105=1,4,0))))","v":0},{"$f":"IF(AB105=4,1,IF(AB105=3,2,IF(AB105=2,3,IF(AB105=1,4,0))))","v":0},0]
[{"$f":"A106","v":0},0,0,0,0,0,0,0,{"$f":"IF(I106=4,1,IF(I106=3,2,IF(I106=2,3,IF(I106=1,4,0))))","v":0},0,0,0,0,{"$f":"N106","v":0},0,0,0,0,0,{"$f":"T106","v":0},0,0,0,0,{"$f":"Y106","v":0},0,{"$f":"IF(AA106=4,1,IF(AA106=3,2,IF(AA106=2,3,IF(AA106=1,4,0))))","v":0},0,0]
[{"$f":"A107","v":0},0,0,0,0,0,0,0,{"$f":"IF(I107=4,1,IF(I107=3,2,IF(I107=2,3,IF(I107=1,4,0))))","v":0},0,0,0,0,{"$f":"N107","v":0},0,0,0,0,0,{"$f":"T107","v":0},0,0,0,0,{"$f":"Y107","v":0},0,{"$f":"IF(AA107=4,1,IF(AA107=3,2,IF(AA107=2,3,IF(AA107=1,4,0))))","v":0},0,0]
[{"$f":"A108","v":0},0,0,0,0,0,0,0,{"$f":"IF(I108=4,1,IF(I108=3,2,IF(I108=2,3,IF(I108=1,4,0))))","v":0},0,0,0,0,{"$f":"N108","v":0},0,0,0,0,0,{"$f":"T108","v":0},0,0,0,0,{"$f":"Y108","v":0},0,{"$f":"IF(AA108=4,1,IF(AA108=3,2,IF(AA108=2,3,IF(AA108=1,4,0))))","v":0},0,0]
[{"$f":"A109","v":0},0,0,0,0,0,0,0,{"$f":"IF(I109=4,1,IF(I109=3,2,IF(I109=2,3,IF(I109=1,4,0))))","v":0},0,0,0,0,{"$f":"N109","v":0},0,0,0,0,0,{"$f":"T109","v":0},0,0,0,0,{"$f":"Y109","v":0},0,{"$f":"IF(AA109=4,1,IF(AA109=3,2,IF(AA109=2,3,IF(AA109=1,4,0))))","v":0},0,0]
[{"$f":"A110","v":0},0,0,0,0,0,0,0,{"$f":"IF(I110=4,1,IF(I110=3,2,IF(I110=2,3,IF(I110=1,4,0))))","v":0},0,0,0,0,{"$f":"N110","v":0},0,0,0,0,0,{"$f":"T110","v":0},0,0,0,0,{"$f":"Y110","v":0},0,{"$f":"IF(AA110=4,1,IF(AA110=3,2,IF(AA110=2,3,IF(AA110=1,4,0))))","v":0},0,0]
[{"$f":"A111","v":0},0,0,0,0,0,0,0,{"$f":"IF(I111=4,1,IF(I111=3,2,IF(I111=2,3,IF(I111=1,4,0))))","v":0},0,0,0,0,{"$f":"N111","v":0},0,0,0,0,0,{"$f":"T111","v":0},0,0,0,0,{"$f":"Y111","v":0},0,{"$f":"IF(AA111=4,1,IF(AA111=3,2,IF(AA111=2,3,IF(AA111=1,4,0))))","v":0},0,0]
[{"$f":"A112","v":0},0,0,0,0,0,0,0,{"$f":"IF(I112=4,1,IF(I112=3,2,IF(I112=2,3,IF(I112=1,4,0))))","v":0},0,0,0,0,{"$f":"N112","v":0},0,0,0,0,0,{"$f":"T112","v":0},0,0,0,0,{"$f":"Y112","v":0},0,{"$f":"IF(AA112=4,1,IF(AA112=3,2,IF(AA112=2,3,IF(AA112=1,4,0))))","v":0},0,0]
[{"$f":"A113","v":0},0,0,0,0,0,0,0,{"$f":"IF(I113=4,1,IF(I113=3,2,IF(I113=2,3,IF(I113=1,4,0))))","v":0},0,0,0,0,{"$f":"N113","v":0},0,0,0,0,0,{"$f":"T113","v":0},0,0,0,0,{"$f":"Y113","v":0},0,{"$f":"IF(AA113=4,1,IF(AA113=3,2,IF(AA113=2,3,IF(AA113=1,4,0))))","v":0},0,0]
[{"$f":"A114","v":0},0,0,0,0,0,0,0,{"$f":"IF(I114=4,1,IF(I114=3,2,IF(I114=2,3,IF(I114=1,4,0))))","v":0},0,0,0,0,{"$f":"N114","v":0},0,0,0,0,0,{"$f":"T114","v":0},0,0,0,0,{"$f":"Y114","v":0},0,{"$f":"IF(AA114=4,1,IF(AA114=3,2,IF(AA114=2,3,IF(AA114=1,4,0))))","v":0},0,0]
[{"$f":"A115","v":0},0,0,0,0,0,0,0,{"$f":"IF(I115=4,1,IF(I115=3,2,IF(I115=2,3,IF(I115=1,4,0))))","v":0},{"$f":"J115","v":0},0,0,0,{"$f":"N115","v":0},0,{"$f":"P115","v":0},0,0,0,{"$f":"T115","v":0},0,{"$f":"V115","v":0},0,0,{"$f":"Y115","v":0},0,{"$f":"IF(AA115=4,1,IF(AA115=3,2,IF(AA115=2,3,IF(AA115=1,4,0))))","v":0},0,0]
[{"$f":"A116","v":0},0,0,0,0,0,0,0,{"$f":"IF(I116=4,1,IF(I116=3,2,IF(I116=2,3,IF(I116=1,4,0))))","v":0},0,0,0,0,{"$f":"N116","v":0},0,0,0,0,0,{"$f":"T116","v":0},0,0,0,0,{"$f":"Y116","v":0},0,{"$f":"IF(AA116=4,1,IF(AA116=3,2,IF(AA116=2,3,IF(AA116=1,4,0))))","v":0},0,0]
[{"$f":"A117","v":0},0,0,0,0,0,0,0,{"$f":"IF(I117=4,1,IF(I117=3,2,IF(I117=2,3,IF(I117=1,4,0))))","v":0},0,0,0,0,{"$f":"N117","v":0},0,0,0,0,0,{"$f":"T117","v":0},0,0,0,0,{"$f":"Y117","v":0},0,{"$f":"IF(AA117=4,1,IF(AA117=3,2,IF(AA117=2,3,IF(AA117=1,4,0))))","v":0},0,0]
[{"$f":"A118","v":0},0,0,0,0,0,0,0,{"$f":"IF(I118=4,1,IF(I118=3,2,IF(I118=2,3,IF(I118=1,4,0))))","v":0},0,0,0,0,{"$f":"N118","v":0},0,0,0,0,0,{"$f":"T118","v":0},0,0,0,0,{"$f":"Y118","v":0},0,{"$f":"IF(AA118=4,1,IF(AA118=3,2,IF(AA118=2,3,IF(AA118=1,4,0))))","v":0},0,0]
[{"$f":"A119","v":0},0,0,0,0,0,0,0,{"$f":"IF(I119=4,1,IF(I119=3,2,IF(I119=2,3,IF(I119=1,4,0))))","v":0},0,0,0,0,{"$f":"N119","v":0},0,0,0,0,0,{"$f":"T119","v":0},0,0,0,0,{"$f":"Y119","v":0},0,{"$f":"IF(AA119=4,1,IF(AA119=3,2,IF(AA119=2,3,IF(AA119=1,4,0))))","v":0},0,0]
[{"$f":"A120","v":0},0,0,0,0,0,0,0,{"$f":"IF(I120=4,1,IF(I120=3,2,IF(I120=2,3,IF(I120=1,4,0))))","v":0},0,0,0,0,{"$f":"N120","v":0},0,0,0,0,0,{"$f":"T120","v":0},0,0,0,0,{"$f":"Y120","v":0},0,{"$f":"IF(AA120=4,1,IF(AA120=3,2,IF(AA120=2,3,IF(AA120=1,4,0))))","v":0},0,0]
[{"$f":"A121","v":0},0,0,0,0,0,0,0,{"$f":"IF(I121=4,1,IF(I121=3,2,IF(I121=2,3,IF(I121=1,4,0))))","v":0},0,0,0,0,{"$f":"N121","v":0},0,0,0,0,0,{"$f":"T121","v":0},0,0,0,0,{"$f":"Y121","v":0},0,{"$f":"IF(AA121=4,1,IF(AA121=3,2,IF(AA121=2,3,IF(AA121=1,4,0))))","v":0},0,0]
[{"$f":"A122","v":0},0,0,0,0,0,0,0,{"$f":"IF(I122=4,1,IF(I122=3,2,IF(I122=2,3,IF(I122=1,4,0))))","v":0},0,0,0,0,{"$f":"N122","v":0},0,0,0,0,0,{"$f":"T122","v":0},0,0,0,0,{"$f":"Y122","v":0},0,{"$f":"IF(AA122=4,1,IF(AA122=3,2,IF(AA122=2,3,IF(AA122=1,4,0))))","v":0},0,0]
[{"$f":"A123","v":0},0,0,0,0,0,0,0,{"$f":"IF(I123=4,1,IF(I123=3,2,IF(I123=2,3,IF(I123=1,4,0))))","v":0},0,0,0,0,{"$f":"N123","v":0},0,0,0,0,0,{"$f":"T123","v":0},0,0,0,0,{"$f":"Y123","v":0},0,{"$f":"IF(AA123=4,1,IF(AA123=3,2,IF(AA123=2,3,IF(AA123=1,4,0))))","v":0},0,0]
[{"$f":"A124","v":0},0,0,0,0,0,0,0,{"$f":"IF(I124=4,1,IF(I124=3,2,IF(I124=2,3,IF(I124=1,4,0))))","v":0},0,0,0,0,{"$f":"N124","v":0},0,0,0,0,0,{"$f":"T124","v":0},0,0,0,0,{"$f":"Y124","v":0},0,{"$f":"IF(AA124=4,1,IF(AA124=3,2,IF(AA124=2,3,IF(AA124=1,4,0))))","v":0},0,0]
[]
["出席番号","（1）","（2）","（3）","（4）","（5）","（6）","（7）","（8）","（9）","（10）","（11）","（12）","（13）","（14）","（15）","（16）","（17）","（18）","（19）","（20）","（21）","（22）","（23）","（24）","（25）","（26）","（27）","（28）"]
[null,null,null,null,null,null,null,null,null,null,null,null,null,null,null,null,null,null,null,null,null,null,null,null,null,null,null,null,null,3,3,3,3,3,3,3,3,3,3,3,3,3,3,3,3,3,3,3,3,3,3,3,3,3,3,3,3,3,3,3,3,3,3,3,3,3,3,3,3,3,3,3,3,3,3,3,3,3,3,3,3,3,3,3,3,3,3,3,3,3,3,3,3,3,3,3,3,3,3,3,3,3,3,3,3,3,3,3,3,3,3,3,3,3,3,3,3,3,3,3,3,3,3,3,3,3,3,3,3,3,3,3,3,3,3,3,3,3,3,3,3,3,3,3,3,3,3,3,3,3,3,3,3,3,3,3,3,3,3,3,3,3,3,3,3,3,3,3,3,3,3,3,3,3,3,3,3,3,3,3,3,3,3,3,3,3,3,3,3,3,3,3,3,3,3,3,3,3,3,3,3,3,3,3,3,3,3,3,3,3,3,3,3,3,3,3,3,3,3,3,3,3,3,3,3,3,3,3,3,3,3,3,3,3,3,3,3,3,3,3,3,3,3,3,3,3,3,3,3,3,3,3,3,3,3,3,3,3,3,3,3,3,3,3,3,3,3,3,3,3,3,3,3,3,3,3,3,3,3,3,3,3,3,3,3,3,3,3,3,3,3,3,3,3,3,3,3,3,3,3,3,3,3,3,3,3,3,3,3,3,3,3,3,3,3,3,3,3,3,3,3,3,3,3,3,3,3,3,3,3,3,3,3,3,3,3,3,3,3,3,3,3,3,3,3,3,3,3,3,3,3,3,3,3,3,3,3,3,3,3,3,3,3,3,3,3,3,3,3,3,3,3,3,3,3,3,3,3,3,3,3,3,3,3,3,3,3,3,3,3,3,3,3,3,3,3,3,3,3,3,3,3,3,3,3,3,3,3,3,3,3,3,3,3,3,3,3,3,3,3,3,3,3,3,3,3,3,3,3,3,3,3,3,3,3,3,3,3,3,3,3,3,3,3,3,3,3,3,3,3,3,3,3,3,3,3,3,3,3,3,3,3,3,3,3,3,3,3,3,3,3,3,3,3,3,3,3,3,3,3,3,3,3,3,3,3,3,3,3,3,3,3,3,3,3,3,3,3,3,3,3,3,3,3,3,3,3,3,3,3,3,3,3,3,3,3,3,3,3,3,3,3,3,3,3,3,3,3,3,3,3,3,3,3,3,3,3,3,3,3,3,3,3,3,3,3,3,3,3,3,3,3,3,3,3,3,3,3,3,3,3,3,3,3,3,3,3,3,3,3,3,3,3,3,3,3,3,3,3,3,3,3,3,3,3,3,3,3,3,3,3,3,3,3,3,3,3,3,3,3,3,3,3,3,3,3,3,3,3,3,3,3,3,3,3,3,3,3,3,3,3,3,3,3,3,3,3,3,3,3,3,3,3,3,3,3,3,3,3,3,3,3,3,3,3,3,3,3,3,3,3,3,3,3,3,3,3,3,3,3,3,3,3,3,3,3,3,3,3,3,3,3,3,3,3,3,3,3,3,3,3,3,3,3,3,3,3,3,3,3,3,3,3,3,3,3,3,3,3,3,3,3,3,3,3,3,3,3,3,3,3,3,3,3,3,3,3,3,3,3,3,3,3,3,3,3,3,3,3,3,3,3,3,3,3,3,3,3,3,3,3,3,3,3,3,3,3,3,3,3,3,3,3,3,3,3,3,3,3,3,3,3,3,3,3,3,3,3,3,3,3,3,3,3,3,3,3,3,3,3,3,3,3,3,3,3,3,3,3,3,3,3,3,3,3,3,3,3,3,3,3,3,3,3,3,3,3,3,3,3,3,3,3,3,3,3,3,3,3,3,3,3,3,3,3,3,3,3,3,3,3,3,3,3,3,3,3,3,3,3,3,3,3,3,3,3,3,3,3,3,3,3,3,3,3,3,3,3,3,3,3,3,3,3,3,3,3,3,3,3,3,3,3,3,3,3,3,3,3,3,3,3,3,3,3,3,3,3,3,3,3,3,3,3,3,3,3,3,3,3,3,3,3,3,3,3,3,3,3,3,3,3,3,3,3,3,3,3,3,3,3,3,3,3,3,3,3,3,3,3,3,3,3,3,3,3,3,3,3,3,3,3,3,3,3,3,3,3,3,3,3,3,3,3,3,3,3,3,3,3,3,3,3,3,3,3,3,3,3,3,3,3,3,3,3,3,3,3,3,3,3,3,3,3,3,3,3,3,3,3,3,3,3,3,3,3,3,3,3,3,3,3,3,3,3,3,3,3,3,3,3,3,3,3,3,3,3,3,3,3,3,3,3,3,3,3,3,3,3,3,3,3,3,3,3,3,3,3,3,3,3,3,3,3,3,3,3,3,3,3,3,3,3,3,3,3,3,3,3,3,3,3,3,3,3,3,3,3,3,3,3,3,3,3,3,3,3,3,3,3,3,3,3,3,3,3,3,3,3,3,3,3,3,3,3,3,3,3,3,3,3,3,3,3,3,3,3,3,3,3,3,3,3,3,3,3,3,3,3,3,3,3,3,3,3,3,3,3,3,3,3,3,3,3,3,3,3,3,3,3,3,3,3,3,3,3,3,3,3,3,3,3,3,3,3,3,3,3,3,3,3,3,3,3,3,3,3,3,3,3,3,3,3,3,3,3,3,3,3,3,3,3,3,3,3,3,3,3,3,3,3,3,3,3,3,3,3,3,3,3,3,3,3,3,3,3,3,3,3,3,3,3,3,3,3,3,3,3,3,3,3,3,3,3,3,3,3,3,3,3,3,3,3,3,3,3,3,3,3,3,3,3,3,3,3,3,3,3,3,3,3,3,3,3,3,3,3,3,3,3,3,3,3,3,3,3,3,3,3,3,3,3,3,3,3,3,3,3,3,3,3,3,3,3,3,3,3,3,3,3,3,3,3,3,3,3,3,3,3,3,3,3,3,3,3,3,3,3,3,3,3,3,3,3,3,3,3,3,3,3,3,3,3,3,3,3,3,3,3,3,3,3,3,3,3,3,3,3,3,3,3,3,3,3,3,3,3,3,3,3,3,3,3,3,3,3,3,3,3,3,3,3,3,3,3,3,3,3,3,3,3,3,3,3,3,3,3,3,3,3,3,3,3,3,3,3,3,3,3,3,3,3,3,3,3,3,3,3,3,3,3,3,3,3,3,3,3,3,3,3,3,3,3,3,3,3,3,3,3,3,3,3,3,3,3,3,3,3,3,3,3,3,3,3,3,3,3,3,3,3,3,3,3,3,3,3,3,3,3,3,3,3,3,3,3,3,3,3,3,3,3,3,3,3,3,3,3,3,3,3,3,3,3,3,3,3,3,3,3,3,3,3,3,3,3,3,3,3,3,3,3,3,3,3,3,3,3,3,3,3,3,3,3,3,3,3,3,3,3,3,3,3,3,3,3,3,3,3,3,3,3,3,3,3,3,3,3,3,3,3,3,3,3,3,3,3,3,3,3,3,3,3,3,3,3,3,3,3,3,3,3,3,3,3,3,3,3,3,3,3,3,3,3,3,3,3,3,3,3,3,3,3,3,3,3,3,3,3,3,3,3,3,3,3,3,3,3,3,3,3,3,3,3,3,3,3,3,3,3,3,3,3,3,3,3,3,3,3,3,3,3,3,3,3,3,3,3,3,3,3,3,3,3,3,3,3,3,3,3,3,3,3,3,3,3,3,3,3,3,3,3,3,3,3,3,3,3,3,3,3,3,3,3,3,3,3,3,3,3,3,3,3,3,3,3,3,3,3,3,3,3,3,3,3,3,3,3,3,3,3,3,3,3,3,3,3,3,3,3,3,3,3,3,3,3,3,3,3,3,3,3,3,3,3,3,3,3,3,3,3,3,3,3,3,3,3,3,3,3,3,3,3,3,3,3,3,3,3,3,3,3,3,3,3,3,3,3,3,3,3,3,3,3,3,3,3,3,3,3,3,3,3,3,3,3,3,3,3,3,3,3,3,3,3,3,3,3,3,3,3,3,3,3,3,3,3,3,3,3,3,3,3,3,3,3,3,3,3,3,3,3,3,3,3,3,3,3,3,3,3,3,3,3,3,3,3,3,3,3,3,3,3,3,3,3,3,3,3,3,3,3,3,3,3,3,3,3,3,3,3,3,3,3,3,3,3,3,3,3,3,3,3,3,3,3,3,3,3,3,3,3,3,3,3,3,3,3,3,3,3,3,3,3,3,3,3,3,3,3,3,3,3,3,3,3,3,3,3,3,3,3,3,3,3,3,3,3,3,3,3,3,3,3,3,3,3,3,3,3,3,3,3,3,3,3,3,3,3,3,3,3,3,3,3,3,3,3,3,3,3,3,3,3,3,3,3,3,3,3,3,3,3,3,3,3,3,3,3,3,3,3,3,3,3,3,3,3,3,3,3,3,3,3,3,3,3,3,3,3,3,3,3,3,3,3,3,3,3,3,3,3,3,3,3,3,3,3,3,3,3,3,3,3,3,3,3,3,3,3,3,3,3,3,3,3,3,3,3,3,3,3,3,3,3,3,3,3,3,3,3,3,3,3,3,3,3,3,3,3,3,3,3,3,3,3,3,3,3,3,3,3,3,3,3,3,3,3,3,3,3,3,3,3,3,3,3,3,3,3,3,3,3,3,3,3,3,3,3,3,3,3,3,3,3,3,3,3,3,3,3,3,3,3,3,3,3,3,3,3,3,3,3,3,3,3,3,3,3,3,3,3,3,3,3,3,3,3,3,3,3,3,3,3,3,3,3,3,3,3,3,3,3,3,3,3,3,3,3,3,3,3,3,3,3,3,3,3,3,3,3,3,3,3,3,3,3,3,3,3,3,3,3,3,3,3,3,3,3,3,3,3,3,3,3,3,3,3,3,3,3,3,3,3,3,3,3,3,3,3,3,3,3,3,3,3,3,3,3,3,3,3,3,3,3,3,3,3,3,3,3,3,3,3,3,3,3,3,3,3,3,3,3,3,3,3,3,3,3,3,3,3,3,3,3,3,3,3,3,3,3,3,3,3,3,3,3,3,3,3,3,3,3,3,3,3,3,3,3,3,3,3,3,3,3,3,3,3,3,3,3,3,3,3,3,3,3,3,3,3,3,3,3,3,3,3,3,3,3,3,3,3,3,3,3,3,3,3,3,3,3,3,3,3,3,3,3,3,3,3,3,3,3,3,3,3,3,3,3,3,3,3,3,3,3,3,3,3,3,3,3,3,3,3,3,3,3,3,3,3,3,3,3,3,3,3,3,3,3,3,3,3,3,3,3,3,3,3,3,3,3,3,3,3,3,3,3,3,3,3,3,3,3,3,3,3,3,3,3,3,3,3,3,3,3,3,3,3,3,3,3,3,3,3,3,3,3,3,3,3,3,3,3,3,3,3,3,3,3,3,3,3,3,3,3,3,3,3,3,3,3,3,3,3,3,3,3,3,3,3,3,3,3,3,3,3,3,3,3,3,3,3,3,3,3,3,3,3,3,3,3,3,3,3,3,3,3,3,3,3,3,3,3,3,3,3,3,3,3,3,3,3,3,3,3,3,3,3,3,3,3,3,3,3,3,3,3,3,3,3,3,3,3,3,3,3,3,3,3,3,3,3,3,3,3,3,3,3,3,3,3,3,3,3,3,3,3,3,3,3,3,3,3,3,3,3,3,3,3,3,3,3,3,3,3,3,3,3,3,3,3,3,3,3,3,3,3,3,3,3,3,3,3,3,3,3,3,3,3,3,3,3,3,3,3,3,3,3,3,3,3,3,3,3,3,3,3,3,3,3,3,3,3,3,3,3,3,3,3,3,3,3,3,3,3,3,3,3,3,3,3,3,3,3,3,3,3,3,3,3,3,3,3,3,3,3,3,3,3,3,3,3,3,3,3,3,3,3,3,3,3,3,3,3,3,3,3,3,3,3,3,3,3,3,3,3,3,3,3,3,3,3,3,3,3,3,3,3,3,3,3,3,3,3,3,3,3,3,3,3,3,3,3,3,3,3,3,3,3,3,3,3,3,3,3,3,3,3,3,3,3,3,3,3,3,3,3,3,3,3,3,3,3,3,3,3,3,3,3,3,3,3,3,3,3,3,3,3,3,3,3,3,3,3,3,3,3,3,3,3,3,3,3,3,3,3,3,3,3,3,3,3,3,3,3,3,3,3,3,3,3,3,3,3,3,3,3,3,3,3,3,3,3,3,3,3,3,3,3,3,3,3,3,3,3,3,3,3,3,3,3,3,3,3,3,3,3,3,3,3,3,3,3,3,3,3,3,3,3,3,3,3,3,3,3,3,3,3,3,3,3,3,3,3,3,3,3,3,3,3,3,3,3,3,3,3,3,3,3,3,3,3,3,3,3,3,3,3,3,3,3,3,3,3,3,3,3,3,3,3,3,3,3,3,3,3,3,3,3,3,3,3,3,3,3,3,3,3,3,3,3,3,3,3,3,3,3,3,3,3,3,3,3,3,3,3,3,3,3,3,3,3,3,3,3,3,3,3,3,3,3,3,3,3,3,3,3,3,3,3,3,3,3,3,3,3,3,3,3,3,3,3,3,3,3,3,3,3,3,3,3,3,3,3,3,3,3,3,3,3,3,3,3,3,3,3,3,3,3,3,3,3,3,3,3,3,3,3,3,3,3,3,3,3,3,3,3,3,3,3,3,3,3,3,3,3,3,3,3,3,3,3,3,3,3,3,3,3,3,3,3,3,3,3,3,3,3,3,3,3,3,3,3,3,3,3,3,3,3,3,3,3,3,3,3,3,3,3,3,3,3,3,3,3,3,3,3,3,3,3,3,3,3,3,3,3,3,3,3,3,3,3,3,3,3,3,3,3,3,3,3,3,3,3,3,3,3,3,3,3,3,3,3,3,3,3,3,3,3,3,3,3,3,3,3,3,3,3,3,3,3,3,3,3,3,3,3,3,3,3,3,3,3,3,3,3,3,3,3,3,3,3,3,3,3,3,3,3,3,3,3,3,3,3,3,3,3,3,3,3,3,3,3,3,3,3,3,3,3,3,3,3,3,3,3,3,3,3,3,3,3,3,3,3,3,3,3,3,3,3,3,3,3,3,3,3,3,3,3,3,3,3,3,3,3,3,3,3,3,3,3,3,3,3,3,3,3,3,3,3,3,3,3,3,3,3,3,3,3,3,3,3,3,3,3,3,3,3,3,3,3,3,3,3,3,3,3,3,3,3,3,3,3,3,3,3,3,3,3,3,3,3,3,3,3,3,3,3,3,3,3,3,3,3,3,3,3,3,3,3,3,3,3,3,3,3,3,3,3,3,3,3,3,3,3,3,3,3,3,3,3,3,3,3,3,3,3,3,3,3,3,3,3,3,3,3,3,3,3,3,3,3,3,3,3,3,3,3,3,3,3,3,3,3,3,3,3,3,3,3,3,3,3,3,3,3,3,3,3,3,3,3,3,3,3,3,3,3,3,3,3,3,3,3,3,3,3,3,3,3,3,3,3,3,3,3,3,3,3,3,3,3,3,3,3,3,3,3,3,3,3,3,3,3,3,3,3,3,3,3,3,3,3,3,3,3,3,3,3,3,3,3,3,3,3,3,3,3,3,3,3,3,3,3,3,3,3,3,3,3,3,3,3,3,3,3,3,3,3,3,3,3,3,3,3,3,3,3,3,3,3,3,3,3,3,3,3,3,3,3,3,3,3,3,3,3,3,3,3,3,3,3,3,3,3,3,3,3,3,3,3,3,3,3,3,3,3,3,3,3,3,3,3,3,3,3,3,3,3,3,3,3,3,3,3,3,3,3,3,3,3,3,3,3,3,3,3,3,3,3,3,3,3,3,3,3,3,3,3,3,3,3,3,3,3,3,3,3,3,3,3,3,3,3,3,3,3,3,3,3,3,3,3,3,3,3,3,3,3,3,3,3,3,3,3,3,3,3,3,3,3,3,3,3,3,3,3,3,3,3,3,3,3,3,3,3,3,3,3,3,3,3,3,3,3,3,3,3,3,3,3,3,3,3,3,3,3,3,3,3,3,3,3,3,3,3,3,3,3,3,3,3,3,3,3,3,3,3,3,3,3,3,3,3,3,3,3,3,3,3,3,3,3,3,3,3,3,3,3,3,3,3,3,3,3,3,3,3,3,3,3,3,3,3,3,3,3,3,3,3,3,3,3,3,3,3,3,3,3,3,3,3,3,3,3,3,3,3,3,3,3,3,3,3,3,3,3,3,3,3,3,3,3,3,3,3,3,3,3,3,3,3,3,3,3,3,3,3,3,3,3,3,3,3,3,3,3,3,3,3,3,3,3,3,3,3,3,3,3,3,3,3,3,3,3,3,3,3,3,3,3,3,3,3,3,3,3,3,3,3,3,3,3,3,3,3,3,3,3,3,3,3,3,3,3,3,3,3,3,3,3,3,3,3,3,3,3,3,3,3,3,3,3,3,3,3,3,3,3,3,3,3,3,3,3,3,3,3,3,3,3,3,3,3,3,3,3,3,3,3,3,3,3,3,3,3,3,3,3,3,3,3,3,3,3,3,3,3,3,3,3,3,3,3,3,3,3,3,3,3,3,3,3,3,3,3,3,3,3,3,3,3,3,3,3,3,3,3,3,3,3,3,3,3,3,3,3,3,3,3,3,3,3,3,3,3,3,3,3,3,3,3,3,3,3,3,3,3,3,3,3,3,3,3,3,3,3,3,3,3,3,3,3,3,3,3,3,3,3,3,3,3,3,3,3,3,3,3,3,3,3,3,3,3,3,3,3,3,3,3,3,3,3,3,3,3,3,3,3,3,3,3,3,3,3,3,3,3,3,3,3,3,3,3,3,3,3,3,3,3,3,3,3,3,3,3,3,3,3,3,3,3,3,3,3,3,3,3,3,3,3,3,3,3,3,3,3,3,3,3,3,3,3,3,3,3,3,3,3,3,3,3,3,3,3,3,3,3,3,3,3,3,3,3,3,3,3,3,3,3,3,3,3,3,3,3,3,3,3,3,3,3,3,3,3,3,3,3,3,3,3,3,3,3,3,3,3,3,3,3,3,3,3,3,3,3,3,3,3,3,3,3,3,3,3,3,3,3,3,3,3,3,3,3,3,3,3,3,3,3,3,3,3,3,3,3,3,3,3,3,3,3,3,3,3,3,3,3,3,3,3,3,3,3,3,3,3,3,3,3,3,3,3,3,3,3,3,3,3,3,3,3,3,3,3,3,3,3,3,3,3,3,3,3,3,3,3,3,3,3,3,3,3,3,3,3,3,3,3,3,3,3,3,3,3,3,3,3,3,3,3,3,3,3,3,3,3,3,3,3,3,3,3,3,3,3,3,3,3,3,3,3,3,3,3,3,3,3,3,3,3,3,3,3,3,3,3,3,3,3,3,3,3,3,3,3,3,3,3,3,3,3,3,3,3,3,3,3,3,3,3,3,3,3,3,3,3,3,3,3,3,3,3,3,3,3,3,3,3,3,3,3,3,3,3,3,3,3,3,3,3,3,3,3,3,3,3,3,3,3,3,3,3,3,3,3,3,3,3,3,3,3,3,3,3,3,3,3,3,3,3,3,3,3,3,3,3,3,3,3,3,3,3,3,3,3,3,3,3,3,3,3,3,3,3,3,3,3,3,3,3,3,3,3,3,3,3,3,3,3,3,3,3,3,3,3,3,3,3,3,3,3,3,3,3,3,3,3,3,3,3,3,3,3,3,3,3,3,3,3,3,3,3,3,3,3,3,3,3,3,3,3,3,3,3,3,3,3,3,3,3,3,3,3,3,3,3,3,3,3,3,3,3,3,3,3,3,3,3,3,3,3,3,3,3,3,3,3,3,3,3,3,3,3,3,3,3,3,3,3,3,3,3,3,3,3,3,3,3,3,3,3,3,3,3,3,3,3,3,3,3,3,3,3,3,3,3,3,3,3,3,3,3,3,3,3,3,3,3,3,3,3,3,3,3,3,3,3,3,3,3,3,3,3,3,3,3,3,3,3,3,3,3,3,3,3,3,3,3,3,3,3,3,3,3,3,3,3,3,3,3,3,3,3,3,3,3,3,3,3,3,3,3,3,3,3,3,3,3,3,3,3,3,3,3,3,3,3,3,3,3,3,3,3,3,3,3,3,3,3,3,3,3,3,3,3,3,3,3,3,3,3,3,3,3,3,3,3,3,3,3,3,3,3,3,3,3,3,3,3,3,3,3,3,3,3,3,3,3,3,3,3,3,3,3,3,3,3,3,3,3,3,3,3,3,3,3,3,3,3,3,3,3,3,3,3,3,3,3,3,3,3,3,3,3,3,3,3,3,3,3,3,3,3,3,3,3,3,3,3,3,3,3,3,3,3,3,3,3,3,3,3,3,3,3,3,3,3,3,3,3,3,3,3,3,3,3,3,3,3,3,3,3,3,3,3,3,3,3,3,3,3,3,3,3,3,3,3,3,3,3,3,3,3,3,3,3,3,3,3,3,3,3,3,3,3,3,3,3,3,3,3,3,3,3,3,3,3,3,3,3,3,3,3,3,3,3,3,3,3,3,3,3,3,3,3,3,3,3,3,3,3,3,3,3,3,3,3,3,3,3,3,3,3,3,3,3,3,3,3,3,3,3,3,3,3,3,3,3,3,3,3,3,3,3,3,3,3,3,3,3,3,3,3,3,3,3,3,3,3,3,3,3,3,3,3,3,3,3,3,3,3,3,3,3,3,3,3,3,3,3,3,3,3,3,3,3,3,3,3,3,3,3,3,3,3,3,3,3,3,3,3,3,3,3,3,3,3,3,3,3,3,3,3,3,3,3,3,3,3,3,3,3,3,3,3,3,3,3,3,3,3,3,3,3,3,3,3,3,3,3,3,3,3,3,3,3,3,3,3,3,3,3,3,3,3,3,3,3,3,3,3,3,3,3,3,3,3,3,3,3,3,3,3,3,3,3,3,3,3,3,3,3,3,3,3,3,3,3,3,3,3,3,3,3,3,3,3,3,3,3,3,3,3,3,3,3,3,3,3,3,3,3,3,3,3,3,3,3,3,3,3,3,3,3,3,3,3,3,3,3,3,3,3,3,3,3,3,3,3,3,3,3,3,3,3,3,3,3,3,3,3,3,3,3,3,3,3,3,3,3,3,3,3,3,3,3,3,3,3,3,3,3,3,3,3,3,3,3,3,3,3,3,3,3,3,3,3,3,3,3,3,3,3,3,3,3,3,3,3,3,3,3,3,3,3,3,3,3,3,3,3,3,3,3,3,3,3,3,3,3,3,3,3,3,3,3,3,3,3,3,3,3,3,3,3,3,3,3,3,3,3,3,3,3,3,3,3,3,3,3,3,3,3,3,3,3,3,3,3,3,3,3,3,3,3,3,3,3,3,3,3,3,3,3,3,3,3,3,3,3,3,3,3,3,3,3,3,3,3,3,3,3,3,3,3,3,3,3,3,3,3,3,3,3,3,3,3,3,3,3,3,3,3,3,3,3,3,3,3,3,3,3,3,3,3,3,3,3,3,3,3,3,3,3,3,3,3,3,3,3,3,3,3,3,3,3,3,3,3,3,3,3,3,3,3,3,3,3,3,3,3,3,3,3,3,3,3,3,3,3,3,3,3,3,3,3,3,3,3,3,3,3,3,3,3,3,3,3,3,3,3,3,3,3,3,3,3,3,3,3,3,3,3,3,3,3,3,3,3,3,3,3,3,3,3,3,3,3,3,3,3,3,3,3,3,3,3,3,3,3,3,3,3,3,3,3,3,3,3,3,3,3,3,3,3,3,3,3,3,3,3,3,3,3,3,3,3,3,3,3,3,3,3,3,3,3,3,3,3,3,3,3,3,3,3,3,3,3,3,3,3,3,3,3,3,3,3,3,3,3,3,3,3,3,3,3,3,3,3,3,3,3,3,3,3,3,3,3,3,3,3,3,3,3,3,3,3,3,3,3,3,3,3,3,3,3,3,3,3,3,3,3,3,3,3,3,3,3,3,3,3,3,3,3,3,3,3,3,3,3,3,3,3,3,3,3,3,3,3,3,3,3,3,3,3,3,3,3,3,3,3,3,3,3,3,3,3,3,3,3,3,3,3,3,3,3,3,3,3,3,3,3,3,3,3,3,3,3,3,3,3,3,3,3,3,3,3,3,3,3,3,3,3,3,3,3,3,3,3,3,3,3,3,3,3,3,3,3,3,3,3,3,3,3,3,3,3,3,3,3,3,3,3,3,3,3,3,3,3,3,3,3,3,3,3,3,3,3,3,3,3,3,3,3,3,3,3,3,3,3,3,3,3,3,3,3,3,3,3,3,3,3,3,3,3,3,3,3,3,3,3,3,3,3,3,3,3,3,3,3,3,3,3,3,3,3,3,3,3,3,3,3,3,3,3,3,3,3,3,3,3,3,3,3,3,3,3,3,3,3,3,3,3,3,3,3,3,3,3,3,3,3,3,3,3,3,3,3,3,3,3,3,3,3,3,3,3,3,3,3,3,3,3,3,3,3,3,3,3,3,3,3,3,3,3,3,3,3,3,3,3,3,3,3,3,3,3,3,3,3,3,3,3,3,3,3,3,3,3,3,3,3,3,3,3,3,3,3,3,3,3,3,3,3,3,3,3,3,3,3,3,3,3,3,3,3,3,3,3,3,3,3,3,3,3,3,3,3,3,3,3,3,3,3,3,3,3,3,3,3,3,3,3,3,3,3,3,3,3,3,3,3,3,3,3,3,3,3,3,3,3,3,3,3,3,3,3,3,3,3,3,3,3,3,3,3,3,3,3,3,3,3,3,3,3,3,3,3,3,3,3,3,3,3,3,3,3,3,3,3,3,3,3,3,3,3,3,3,3,3,3,3,3,3,3,3,3,3,3,3,3,3,3,3,3,3,3,3,3,3,3,3,3,3,3,3,3,3,3,3,3,3,3,3,3,3,3,3,3,3,3,3,3,3,3,3,3,3,3,3,3,3,3,3,3,3,3,3,3,3,3,3,3,3,3,3,3,3,3,3,3,3,3,3,3,3,3,3,3,3,3,3,3,3,3,3,3,3,3,3,3,3,3,3,3,3,3,3,3,3,3,3,3,3,3,3,3,3,3,3,3,3,3,3,3,3,3,3,3,3,3,3,3,3,3,3,3,3,3,3,3,3,3,3,3,3,3,3,3,3,3,3,3,3,3,3,3,3,3,3,3,3,3,3,3,3,3,3,3,3,3,3,3,3,3,3,3,3,3,3,3,3,3,3,3,3,3,3,3,3,3,3,3,3,3,3,3,3,3,3,3,3,3,3,3,3,3,3,3,3,3,3,3,3,3,3,3,3,3,3,3,3,3,3,3,3,3,3,3,3,3,3,3,3,3,3,3,3,3,3,3,3,3,3,3,3,3,3,3,3,3,3,3,3,3,3,3,3,3,3,3,3,3,3,3,3,3,3,3,3,3,3,3,3,3,3,3,3,3,3,3,3,3,3,3,3,3,3,3,3,3,3,3,3,3,3,3,3,3,3,3,3,3,3,3,3,3,3,3,3,3,3,3,3,3,3,3,3,3,3,3,3,3,3,3,3,3,3,3,3,3,3,3,3,3,3,3,3,3,3,3,3,3,3,3,3,3,3,3,3,3,3,3,3,3,3,3,3,3,3,3,3,3,3,3,3,3,3,3,3,3,3,3,3,3,3,3,3,3,3,3,3,3,3,3,3,3,3,3,3,3,3,3,3,3,3,3,3,3,3,3,3,3,3,3,3,3,3,3,3,3,3,3,3,3,3,3,3,3,3,3,3,3,3,3,3,3,3,3,3,3,3,3,3,3,3,3,3,3,3,3,3,3,3,3,3,3,3,3,3,3,3,3,3,3,3,3,3,3,3,3,3,3,3,3,3,3,3,3,3,3,3,3,3,3,3,3,3,3,3,3,3,3,3,3,3,3,3,3,3,3,3,3,3,3,3,3,3,3,3,3,3,3,3,3,3,3,3,3,3,3,3,3,3,3,3,3,3,3,3,3,3,3,3,3,3,3,3,3,3,3,3,3,3,3,3,3,3,3,3,3,3,3,3,3,3,3,3,3,3,3,3,3,3,3,3,3,3,3,3,3,3,3,3,3,3,3,3,3,3,3,3,3,3,3,3,3,3,3,3,3,3,3,3,3,3,3,3,3,3,3,3,3,3,3,3,3,3,3,3,3,3,3,3,3,3,3,3,3,3,3,3,3,3,3,3,3,3,3,3,3,3,3,3,3,3,3,3,3,3,3,3,3,3,3,3,3,3,3,3,3,3,3,3,3,3,3,3,3,3,3,3,3,3,3,3,3,3,3,3,3,3,3,3,3,3,3,3,3,3,3,3,3,3,3,3,3,3,3,3,3,3,3,3,3,3,3,3,3,3,3,3,3,3,3,3,3,3,3,3,3,3,3,3,3,3,3,3,3,3,3,3,3,3,3,3,3,3,3,3,3,3,3,3,3,3,3,3,3,3,3,3,3,3,3,3,3,3,3,3,3,3,3,3,3,3,3,3,3,3,3,3,3,3,3,3,3,3,3,3,3,3,3,3,3,3,3,3,3,3,3,3,3,3,3,3,3,3,3,3,3,3,3,3,3,3,3,3,3,3,3,3,3,3,3,3,3,3,3,3,3,3,3,3,3,3,3,3,3,3,3,3,3,3,3,3,3,3,3,3,3,3,3,3,3,3,3,3,3,3,3,3,3,3,3,3,3,3,3,3,3,3,3,3,3,3,3,3,3,3,3,3,3,3,3,3,3,3,3,3,3,3,3,3,3,3,3,3,3,3,3,3,3,3,3,3,3,3,3,3,3,3,3,3,3,3,3,3,3,3,3,3,3,3,3,3,3,3,3,3,3,3,3,3,3,3,3,3,3,3,3,3,3,3,3,3,3,3,3,3,3,3,3,3,3,3,3,3,3,3,3,3,3,3,3,3,3,3,3,3,3,3,3,3,3,3,3,3,3,3,3,3,3,3,3,3,3,3,3,3,3,3,3,3,3,3,3,3,3,3,3,3,3,3,3,3,3,3,3,3,3,3,3,3,3,3,3,3,3,3,3,3,3,3,3,3,3,3,3,3,3,3,3,3,3,3,3,3,3,3,3,3,3,3,3,3,3,3,3,3,3,3,3,3,3,3,3,3,3,3,3,3,3,3,3,3,3,3,3,3,3,3,3,3,3,3,3,3,3,3,3,3,3,3,3,3,3,3,3,3,3,3,3,3,3,3,3,3,3,3,3,3,3,3,3,3,3,3,3,3,3,3,3,3,3,3,3,3,3,3,3,3,3,3,3,3,3,3,3,3,3,3,3,3,3,3,3,3,3,3,3,3,3,3,3,3,3,3,3,3,3,3,3,3,3,3,3,3,3,3,3,3,3,3,3,3,3,3,3,3,3,3,3,3,3,3,3,3,3,3,3,3,3,3,3,3,3,3,3,3,3,3,3,3,3,3,3,3,3,3,3,3,3,3,3,3,3,3,3,3,3,3,3,3,3,3,3,3,3,3,3,3,3,3,3,3,3,3,3,3,3,3,3,3,3,3,3,3,3,3,3,3,3,3,3,3,3,3,3,3,3,3,3,3,3,3,3,3,3,3,3,3,3,3,3,3,3,3,3,3,3,3,3,3,3,3,3,3,3,3,3,3,3,3,3,3,3,3,3,3,3,3,3,3,3,3,3,3,3,3,3,3,3,3,3,3,3,3,3,3,3,3,3,3,3,3,3,3,3,3,3,3,3,3,3,3,3,3,3,3,3,3,3,3,3,3,3,3,3,3,3,3,3,3,3,3,3,3,3,3,3,3,3,3,3,3,3,3,3,3,3,3,3,3,3,3,3,3,3,3,3,3,3,3,3,3,3,3,3,3,3,3,3,3,3,3,3,3,3,3,3,3,3,3,3,3,3,3,3,3,3,3,3,3,3,3,3,3,3,3,3,3,3,3,3,3,3,3,3,3,3,3,3,3,3,3,3,3,3,3,3,3,3,3,3,3,3,3,3,3,3,3,3,3,3,3,3,3,3,3,3,3,3,3,3,3,3,3,3,3,3,3,3,3,3,3,3,3,3,3,3,3,3,3,3,3,3,3,3,3,3,3,3,3,3,3,3,3,3,3,3,3,3,3,3,3,3,3,3,3,3,3,3,3,3,3,3,3,3,3,3,3,3,3,3,3,3,3,3,3,3,3,3,3,3,3,3,3,3,3,3,3,3,3,3,3,3,3,3,3,3,3,3,3,3,3,3,3,3,3,3,3,3,3,3,3,3,3,3,3,3,3,3,3,3,3,3,3,3,3,3,3,3,3,3,3,3,3,3,3,3,3,3,3,3,3,3,3,3,3,3,3,3,3,3,3,3,3,3,3,3,3,3,3,3,3,3,3,3,3,3,3,3,3,3,3,3,3,3,3,3,3,3,3,3,3,3,3,3,3,3,3,3,3,3,3,3,3,3,3,3,3,3,3,3,3,3,3,3,3,3,3,3,3,3,3,3,3,3,3,3,3,3,3,3,3,3,3,3,3,3,3,3,3,3,3,3,3,3,3,3,3,3,3,3,3,3,3,3,3,3,3,3,3,3,3,3,3,3,3,3,3,3,3,3,3,3,3,3,3,3,3,3,3,3,3,3,3,3,3,3,3,3,3,3,3,3,3,3,3,3,3,3,3,3,3,3,3,3,3,3,3,3,3,3,3,3,3,3,3,3,3,3,3,3,3,3,3,3,3,3,3,3,3,3,3,3,3,3,3,3,3,3,3,3,3,3,3,3,3,3,3,3,3,3,3,3,3,3,3,3,3,3,3,3,3,3,3,3,3,3,3,3,3,3,3,3,3,3,3,3,3,3,3,3,3,3,3,3,3,3,3,3,3,3,3,3,3,3,3,3,3,3,3,3,3,3,3,3,3,3,3,3,3,3,3,3,3,3,3,3,3,3,3,3,3,3,3,3,3,3,3,3,3,3,3,3,3,3,3,3,3,3,3,3,3,3,3,3,3,3,3,3,3,3,3,3,3,3,3,3,3,3,3,3,3,3,3,3,3,3,3,3,3,3,3,3,3,3,3,3,3,3,3,3,3,3,3,3,3,3,3,3,3,3,3,3,3,3,3,3,3,3,3,3,3,3,3,3,3,3,3,3,3,3,3,3,3,3,3,3,3,3,3,3,3,3,3,3,3,3,3,3,3,3,3,3,3,3,3,3,3,3,3,3,3,3,3,3,3,3,3,3,3,3,3,3,3,3,3,3,3,3,3,3,3,3,3,3,3,3,3,3,3,3,3,3,3,3,3,3,3,3,3,3,3,3,3,3,3,3,3,3,3,3,3,3,3,3,3,3,3,3,3,3,3,3,3,3,3,3,3,3,3,3,3,3,3,3,3,3,3,3,3,3,3,3,3,3,3,3,3,3,3,3,3,3,3,3,3,3,3,3,3,3,3,3,3,3,3,3,3,3,3,3,3,3,3,3,3,3,3,3,3,3,3,3,3,3,3,3,3,3,3,3,3,3,3,3,3,3,3,3,3,3,3,3,3,3,3,3,3,3,3,3,3,3,3,3,3,3,3,3,3,3,3,3,3,3,3,3,3,3,3,3,3,3,3,3,3,3,3,3,3,3,3,3,3,3,3,3,3,3,3,3,3,3,3,3,3,3,3,3,3,3,3,3,3,3,3,3,3,3,3,3,3,3,3,3,3,3,3,3,3,3,3,3,3,3,3,3,3,3,3,3,3,3,3,3,3,3,3,3,3,3,3,3,3,3,3,3,3,3,3,3,3,3,3,3,3,3,3,3,3,3,3,3,3,3,3,3,3,3,3,3,3,3,3,3,3,3,3,3,3,3,3,3,3,3,3,3,3,3,3,3,3,3,3,3,3,3,3,3,3,3,3,3,3,3,3,3,3,3,3,3,3,3,3,3,3,3,3,3,3,3,3,3,3,3,3,3,3,3,3,3,3,3,3,3,3,3,3,3,3,3,3,3,3,3,3,3,3,3,3,3,3,3,3,3,3,3,3,3,3,3,3,3,3,3,3,3,3,3,3,3,3,3,3,3,3,3,3,3,3,3,3,3,3,3,3,3,3,3,3,3,3,3,3,3,3,3,3,3,3,3,3,3,3,3,3,3,3,3,3,3,3,3,3,3,3,3,3,3,3,3,3,3,3,3,3,3,3,3,3,3,3,3,3,3,3,3,3,3,3,3,3,3,3,3,3,3,3,3,3,3,3,3,3,3,3,3,3,3,3,3,3,3,3,3,3,3,3,3,3,3,3,3,3,3,3,3,3,3,3,3,3,3,3,3,3,3,3,3,3,3,3,3,3,3,3,3,3,3,3,3,3,3,3,3,3,3,3,3,3,3,3,3,3,3,3,3,3,3,3,3,3,3,3,3,3,3,3,3,3,3,3,3,3,3,3,3,3,3,3,3,3,3,3,3,3,3,3,3,3,3,3,3,3,3,3,3,3,3,3,3,3,3,3,3,3,3,3,3,3,3,3,3,3,3,3,3,3,3,3,3,3,3,3,3,3,3,3,3,3,3,3,3,3,3,3,3,3,3,3,3,3,3,3,3,3,3,3,3,3,3,3,3,3,3,3,3,3,3,3,3,3,3,3,3,3,3,3,3,3,3,3,3,3,3,3,3,3,3,3,3,3,3,3,3,3,3,3,3,3,3,3,3,3,3,3,3,3,3,3,3,3,3,3,3,3,3,3,3,3,3,3,3,3,3,3,3,3,3,3,3,3,3,3,3,3,3,3,3,3,3,3,3,3,3,3,3,3,3,3,3,3,3,3,3,3,3,3,3,3,3,3,3,3,3,3,3,3,3,3,3,3,3,3,3,3,3,3,3,3,3,3,3,3,3,3,3,3,3,3,3,3,3,3,3,3,3,3,3,3,3,3,3,3,3,3,3,3,3,3,3,3,3,3,3,3,3,3,3,3,3,3,3,3,3,3,3,3,3,3,3,3,3,3,3,3,3,3,3,3,3,3,3,3,3,3,3,3,3,3,3,3,3,3,3,3,3,3,3,3,3,3,3,3,3,3,3,3,3,3,3,3,3,3,3,3,3,3,3,3,3,3,3,3,3,3,3,3,3,3,3,3,3,3,3,3,3,3,3,3,3,3,3,3,3,3,3,3,3,3,3,3,3,3,3,3,3,3,3,3,3,3,3,3,3,3,3,3,3,3,3,3,3,3,3,3,3,3,3,3,3,3,3,3,3,3,3,3,3,3,3,3,3,3,3,3,3,3,3,3,3,3,3,3,3,3,3,3,3,3,3,3,3,3,3,3,3,3,3,3,3,3,3,3,3,3,3,3,3,3,3,3,3,3,3,3,3,3,3,3,3,3,3,3,3,3,3,3,3,3,3,3,3,3,3,3,3,3,3,3,3,3,3,3,3,3,3,3,3,3,3,3,3,3,3,3,3,3,3,3,3,3,3,3,3,3,3,3,3,3,3,3,3,3,3,3,3,3,3,3,3,3,3,3,3,3,3,3,3,3,3,3,3,3,3,3,3,3,3,3,3,3,3,3,3,3,3,3,3,3,3,3,3,3,3,3,3,3,3,3,3,3,3,3,3,3,3,3,3,3,3,3,3,3,3,3,3,3,3,3,3,3,3,3,3,3,3,3,3,3,3,3,3,3,3,3,3,3,3,3,3,3,3,3,3,3,3,3,3,3,3,3,3,3,3,3,3,3,3,3,3,3,3,3,3,3,3,3,3,3,3,3,3,3,3,3,3,3,3,3,3,3,3,3,3,3,3,3,3,3,3,3,3,3,3,3,3,3,3,3,3,3,3,3,3,3,3,3,3,3,3,3,3,3,3,3,3,3,3,3,3,3,3,3,3,3,3,3,3,3,3,3,3,3,3,3,3,3,3,3,3,3,3,3,3,3,3,3,3,3,3,3,3,3,3,3,3,3,3,3,3,3,3,3,3,3,3,3,3,3,3,3,3,3,3,3,3,3,3,3,3,3,3,3,3,3,3,3,3,3,3,3,3,3,3,3,3,3,3,3,3,3,3,3,3,3,3,3,3,3,3,3,3,3,3,3,3,3,3,3,3,3,3,3,3,3,3,3,3,3,3,3,3,3,3,3,3,3,3,3,3,3,3,3,3,3,3,3,3,3,3,3,3,3,3,3,3,3,3,3,3,3,3,3,3,3,3,3,3,3,3,3,3,3,3,3,3,3,3,3,3,3,3,3,3,3,3,3,3,3,3,3,3,3,3,3,3,3,3,3,3,3,3,3,3,3,3,3,3,3,3,3,3,3,3,3,3,3,3,3,3,3,3,3,3,3,3,3,3,3,3,3,3,3,3,3,3,3,3,3,3,3,3,3,3,3,3,3,3,3,3,3,3,3,3,3,3,3,3,3,3,3,3,3,3,3,3,3,3,3,3,3,3,3,3,3,3,3,3,3,3,3,3,3,3,3,3,3,3,3,3,3,3,3,3,3,3,3,3,3,3,3,3,3,3,3,3,3,3,3,3,3,3,3,3,3,3,3,3,3,3,3,3,3,3,3,3,3,3,3,3,3,3,3,3,3,3,3,3,3,3,3,3,3,3,3,3,3,3,3,3,3,3,3,3,3,3,3,3,3,3,3,3,3,3,3,3,3,3,3,3,3,3,3,3,3,3,3,3,3,3,3,3,3,3,3,3,3,3,3,3,3,3,3,3,3,3,3,3,3,3,3,3,3,3,3,3,3,3,3,3,3,3,3,3,3,3,3,3,3,3,3,3,3,3,3,3,3,3,3,3,3,3,3,3,3,3,3,3,3,3,3,3,3,3,3,3,3,3,3,3,3,3,3,3,3,3,3,3,3,3,3,3,3,3,3,3,3,3,3,3,3,3,3,3,3,3,3,3,3,3,3,3,3,3,3,3,3,3,3,3,3,3,3,3,3,3,3,3,3,3,3,3,3,3,3,3,3,3,3,3,3,3,3,3,3,3,3,3,3,3,3,3,3,3,3,3,3,3,3,3,3,3,3,3,3,3,3,3,3,3,3,3,3,3,3,3,3,3,3,3,3,3,3,3,3,3,3,3,3,3,3,3,3,3,3,3,3,3,3,3,3,3,3,3,3,3,3,3,3,3,3,3,3,3,3,3,3,3,3,3,3,3,3,3,3,3,3,3,3,3,3,3,3,3,3,3,3,3,3,3,3,3,3,3,3,3,3,3,3,3,3,3,3,3,3,3,3,3,3,3,3,3,3,3,3,3,3,3,3,3,3,3,3,3,3,3,3,3,3,3,3,3,3,3,3,3,3,3,3,3,3,3,3,3,3,3,3,3,3,3,3,3,3,3,3,3,3,3,3,3,3,3,3,3,3,3,3,3,3,3,3,3,3,3,3,3,3,3,3,3,3,3,3,3,3,3,3,3,3,3,3,3,3,3,3,3,3,3,3,3,3,3,3,3,3,3,3,3,3,3,3,3,3,3,3,3,3,3,3,3,3,3,3,3,3,3,3,3,3,3,3,3,3,3,3,3,3,3,3,3,3,3,3,3,3,3,3,3,3,3,3,3,3,3,3,3,3,3,3,3,3,3,3,3,3,3,3,3,3,3,3,3,3,3,3,3,3,3,3,3,3,3,3,3,3,3,3,3,3,3,3,3,3,3,3,3,3,3,3,3,3,3,3,3,3,3,3,3,3,3,3,3,3,3,3,3,3,3,3,3,3,3,3,3,3,3,3,3,3,3,3,3,3,3,3,3,3,3,3,3,3,3,3,3,3,3,3,3,3,3,3,3,3,3,3,3,3,3,3,3,3,3,3,3,3,3,3,3,3,3,3,3,3,3,3,3,3,3,3,3,3,3,3,3,3,3,3,3,3,3,3,3,3,3,3,3,3,3,3,3,3,3,3,3,3,3,3,3,3,3,3,3,3,3,3,3,3,3,3,3,3,3,3,3,3,3,3,3,3,3,3,3,3,3,3,3,3,3,3,3,3,3,3,3,3,3,3,3,3,3,3,3,3,3,3,3,3,3,3,3,3,3,3,3,3,3,3,3,3,3,3,3,3,3,3,3,3,3,3,3,3,3,3,3,3,3,3,3,3,3,3,3,3,3,3,3,3,3,3,3,3,3,3,3,3,3,3,3,3,3,3,3,3,3,3,3,3,3,3,3,3,3,3,3,3,3,3,3,3,3,3,3,3,3,3,3,3,3,3,3,3,3,3,3,3,3,3,3,3,3,3,3,3,3,3,3,3,3,3,3,3,3,3,3,3,3,3,3,3,3,3,3,3,3,3,3,3,3,3,3,3,3,3,3,3,3,3,3,3,3,3,3,3,3,3,3,3,3,3,3,3,3,3,3,3,3,3,3,3,3,3,3,3,3,3,3,3,3,3,3,3,3,3,3,3,3,3,3,3,3,3,3,3,3,3,3,3,3,3,3,3,3,3,3,3,3,3,3,3,3,3,3,3,3,3,3,3,3,3,3,3,3,3,3,3,3,3,3,3,3,3,3,3,3,3,3,3,3,3,3,3,3,3,3,3,3,3,3,3,3,3,3,3,3,3,3,3,3,3,3,3,3,3,3,3,3,3,3,3,3,3,3,3,3,3,3,3,3,3,3,3,3,3,3,3,3,3,3,3,3,3,3,3,3,3,3,3,3,3,3,3,3,3,3,3,3,3,3,3,3,3,3,3,3,3,3,3,3,3,3,3,3,3,3,3,3,3,3,3,3,3,3,3,3,3,3,3,3,3,3,3,3,3,3,3,3,3,3,3,3,3,3,3,3,3,3,3,3,3,3,3,3,3,3,3,3,3,3,3,3,3,3,3,3,3,3,3,3,3,3,3,3,3,3,3,3,3,3,3,3,3,3,3,3,3,3,3,3,3,3,3,3,3,3,3,3,3,3,3,3,3,3,3,3,3,3,3,3,3,3,3,3,3,3,3,3,3,3,3,3,3,3,3,3,3,3,3,3,3,3,3,3,3,3,3,3,3,3,3,3,3,3,3,3,3,3,3,3,3,3,3,3,3,3,3,3,3,3,3,3,3,3,3,3,3,3,3,3,3,3,3,3,3,3,3,3,3,3,3,3,3,3,3,3,3,3,3,3,3,3,3,3,3,3,3,3,3,3,3,3,3,3,3,3,3,3,3,3,3,3,3,3,3,3,3,3,3,3,3,3,3,3,3,3,3,3,3,3,3,3,3,3,3,3,3,3,3,3,3,3,3,3,3,3,3,3,3,3,3,3,3,3,3,3,3,3,3,3,3,3,3,3,3,3,3,3,3,3,3,3,3,3,3,3,3,3,3,3,3,3,3,3,3,3,3,3,3,3,3,3,3,3,3,3,3,3,3,3,3,3,3,3,3,3,3,3,3,3,3,3,3,3,3,3,3,3,3,3,3,3,3,3,3,3,3,3,3,3,3,3,3,3,3,3,3,3,3,3,3,3,3,3,3,3,3,3,3,3,3,3,3,3,3,3,3,3,3,3,3,3,3,3,3,3,3,3,3,3,3,3,3,3,3,3,3,3,3,3,3,3,3,3,3,3,3,3,3,3,3,3,3,3,3,3,3,3,3,3,3,3,3,3,3,3,3,3,3,3,3,3,3,3,3,3,3,3,3,3,3,3,3,3,3,3,3,3,3,3,3,3,3,3,3,3,3,3,3,3,3,3,3,3,3,3,3,3,3,3,3,3,3,3,3,3,3,3,3,3,3,3,3,3,3,3,3,3,3,3,3,3,3,3,3,3,3,3,3,3,3,3,3,3,3,3,3,3,3,3,3,3,3,3,3,3,3,3,3,3,3,3,3,3,3,3,3,3,3,3,3,3,3,3,3,3,3,3,3,3,3,3,3,3,3,3,3,3,3,3,3,3,3,3,3,3,3,3,3,3,3,3,3,3,3,3,3,3,3,3,3,3,3,3,3,3,3,3,3,3,3,3,3,3,3,3,3,3,3,3,3,3,3,3,3,3,3,3,3,3,3,3,3,3,3,3,3,3,3,3,3,3,3,3,3,3,3,3,3,3,3,3,3,3,3,3,3,3,3,3,3,3,3,3,3,3,3,3,3,3,3,3,3,3,3,3,3,3,3,3,3,3,3,3,3,3,3,3,3,3,3,3,3,3,3,3,3,3,3,3,3,3,3,3,3,3,3,3,3,3,3,3,3,3,3,3,3,3,3,3,3,3,3,3,3,3,3,3,3,3,3,3,3,3,3,3,3,3,3,3,3,3,3,3,3,3,3,3,3,3,3,3,3,3,3,3,3,3,3,3,3,3,3,3,3,3,3,3,3,3,3,3,3,3,3,3,3,3,3,3,3,3,3,3,3,3,3,3,3,3,3,3,3,3,3,3,3,3,3,3,3,3,3,3,3,3,3,3,3,3,3,3,3,3,3,3,3,3,3,3,3,3,3,3,3,3,3,3,3,3,3,3,3,3,3,3,3,3,3,3,3,3,3,3,3,3,3,3,3,3,3,3,3,3,3,3,3,3,3,3,3,3,3,3,3,3,3,3,3,3,3,3,3,3,3,3,3,3,3,3,3,3,3,3,3,3,3,3,3,3,3,3,3,3,3,3,3,3,3,3,3,3,3,3,3,3,3,3,3,3,3,3,3,3,3,3,3,3,3,3,3,3,3,3,3,3,3,3,3,3,3,3,3,3,3,3,3,3,3,3,3,3,3,3,3,3,3,3,3,3,3,3,3,3,3,3,3,3,3,3,3,3,3,3,3,3,3,3,3,3,3,3,3,3,3,3,3,3,3,3,3,3,3,3,3,3,3,3,3,3,3,3,3,3,3,3,3,3,3,3,3,3,3,3,3,3,3,3,3,3,3,3,3,3,3,3,3,3,3,3,3,3,3,3,3,3,3,3,3,3,3,3,3,3,3,3,3,3,3,3,3,3,3,3,3,3,3,3,3,3,3,3,3,3,3,3,3,3,3,3,3,3,3,3,3,3,3,3,3,3,3,3,3,3,3,3,3,3,3,3,3,3,3,3,3,3,3,3,3,3,3,3,3,3,3,3,3,3,3,3,3,3,3,3,3,3,3,3,3,3,3,3,3,3,3,3,3,3,3,3,3,3,3,3,3,3,3,3,3,3,3,3,3,3,3,3,3,3,3,3,3,3,3,3,3,3,3,3,3,3,3,3,3,3,3,3,3,3,3,3,3,3,3,3,3,3,3,3,3,3,3,3,3,3,3,3,3,3,3,3,3,3,3,3,3,3,3,3,3,3,3,3,3,3,3,3,3,3,3,3,3,3,3,3,3,3,3,3,3,3,3,3,3,3,3,3,3,3,3,3,3,3,3,3,3,3,3,3,3,3,3,3,3,3,3,3,3,3,3,3,3,3,3,3,3,3,3,3,3,3,3,3,3,3,3,3,3,3,3,3,3,3,3,3,3,3,3,3,3,3,3,3,3,3,3,3,3,3,3,3,3,3,3,3,3,3,3,3,3,3,3,3,3,3,3,3,3,3,3,3,3,3,3,3,3,3,3,3,3,3,3,3,3,3,3,3,3,3,3,3,3,3,3,3,3,3,3,3,3,3,3,3,3,3,3,3,3,3,3,3,3,3,3,3,3,3,3,3,3,3,3,3,3,3,3,3,3,3,3,3,3,3,3,3,3,3,3,3,3,3,3,3,3,3,3,3,3,3,3,3,3,3,3,3,3,3,3,3,3,3,3,3,3,3,3,3,3,3,3,3,3,3,3,3,3,3,3,3,3,3,3,3,3,3,3,3,3,3,3,3,3,3,3,3,3,3,3,3,3,3,3,3,3,3,3,3,3,3,3,3,3,3,3,3,3,3,3,3,3,3,3,3,3,3,3,3,3,3,3,3,3,3,3,3,3,3,3,3,3,3,3,3,3,3,3,3,3,3,3,3,3,3,3,3,3,3,3,3,3,3,3,3,3,3,3,3,3,3,3,3,3,3,3,3,3,3,3,3,3,3,3,3,3,3,3,3,3,3,3,3,3,3,3,3,3,3,3,3,3,3,3,3,3,3,3,3,3,3,3,3,3,3,3,3,3,3,3,3,3,3,3,3,3,3,3,3,3,3,3,3,3,3,3,3,3,3,3,3,3,3,3,3,3,3,3,3,3,3,3,3,3,3,3,3,3,3,3,3,3,3,3,3,3,3,3,3,3,3,3,3,3,3,3,3,3,3,3,3,3,3,3,3,3,3,3,3,3,3,3,3,3,3,3,3,3,3,3,3,3,3,3,3,3,3,3,3,3,3,3,3,3,3,3,3,3,3,3,3,3,3,3,3,3,3,3,3,3,3,3,3,3,3,3,3,3,3,3,3,3,3,3,3,3,3,3,3,3,3,3,3,3,3,3,3,3,3,3,3,3,3,3,3,3,3,3,3,3,3,3,3,3,3,3,3,3,3,3,3,3,3,3,3,3,3,3,3,3,3,3,3,3,3,3,3,3,3,3,3,3,3,3,3,3,3,3,3,3,3,3,3,3,3,3,3,3,3,3,3,3,3,3,3,3,3,3,3,3,3,3,3,3,3,3,3,3,3,3,3,3,3,3,3,3,3,3,3,3,3,3,3,3,3,3,3,3,3,3,3,3,3,3,3,3,3,3,3,3,3,3,3,3,3,3,3,3,3,3,3,3,3,3,3,3,3,3,3,3,3,3,3,3,3,3,3,3,3,3,3,3,3,3,3,3,3,3,3,3,3,3,3,3,3,3,3,3,3,3,3,3,3,3,3,3,3,3,3,3,3,3,3,3,3,3,3,3,3,3,3,3,3,3,3,3,3,3,3,3,3,3,3,3,3,3,3,3,3,3,3,3,3,3,3,3,3,3,3,3,3,3,3,3,3,3,3,3,3,3,3,3,3,3,3,3,3,3,3,3,3,3,3,3,3,3,3,3,3,3,3,3,3,3,3,3,3,3,3,3,3,3,3,3,3,3,3,3,3,3,3,3,3,3,3,3,3,3,3,3,3,3,3,3,3,3,3,3,3,3,3,3,3,3,3,3,3,3,3,3,3,3,3,3,3,3,3,3,3,3,3,3,3,3,3,3,3,3,3,3,3,3,3,3,3,3,3,3,3,3,3,3,3,3,3,3,3,3,3,3,3,3,3,3,3,3,3,3,3,3,3,3,3,3,3,3,3,3,3,3,3,3,3,3,3,3,3,3,3,3,3,3,3,3,3,3,3,3,3,3,3,3,3,3,3,3,3,3,3,3,3,3,3,3,3,3,3,3,3,3,3,3,3,3,3,3,3,3,3,3,3,3,3,3,3,3,3,3,3,3,3,3,3,3,3,3,3,3,3,3,3,3,3,3,3,3,3,3,3,3,3,3,3,3,3,3,3,3,3,3,3,3,3,3,3,3,3,3,3,3,3,3,3,3,3,3,3,3,3,3,3,3,3,3,3,3,3,3,3,3,3,3,3,3,3,3,3,3,3,3,3,3,3,3,3,3,3,3,3,3,3,3,3,3,3,3,3,3,3,3,3,3,3,3,3,3,3,3,3,3,3,3,3,3,3,3,3,3,3,3,3,3,3,3,3,3,3,3,3,3,3,3,3,3,3,3,3,3,3,3,3,3,3,3,3,3,3,3,3,3,3,3,3,3,3,3,3,3,3,3,3,3,3,3,3,3,3,3,3,3,3,3,3,3,3,3,3,3,3,3,3,3,3,3,3,3,3,3,3,3,3,3,3,3,3,3,3,3,3,3,3,3,3,3,3,3,3,3,3,3,3,3,3,3,3,3,3,3,3,3,3,3,3,3,3,3,3,3,3,3,3,3,3,3,3,3,3,3,3,3,3,3,3,3,3,3,3,3,3,3,3,3,3,3,3,3,3,3,3,3,3,3,3,3,3,3,3,3,3,3,3,3,3,3,3,3,3,3,3,3,3,3,3,3,3,3,3,3,3,3,3,3,3,3,3,3,3,3,3,3,3,3,3,3,3,3,3,3,3,3,3,3,3,3,3,3,3,3,3,3,3,3,3,3,3,3,3,3,3,3,3,3,3,3,3,3,3,3,3,3,3,3,3,3,3,3,3,3,3,3,3,3,3,3,3,3,3,3,3,3,3,3,3,3,3,3,3,3,3,3,3,3,3,3,3,3,3,3,3,3,3,3,3,3,3,3,3,3,3,3,3,3,3,3,3,3,3,3,3,3,3,3,3,3,3,3,3,3,3,3,3,3,3,3,3,3,3,3,3,3,3,3,3,3,3,3,3,3,3,3,3,3,3,3,3,3,3,3,3,3,3,3,3,3,3,3,3,3,3,3,3,3,3,3,3,3,3,3,3,3,3,3,3,3,3,3,3,3,3,3,3,3,3,3,3,3,3,3,3,3,3,3,3,3,3,3,3,3,3,3,3,3,3,3,3,3,3,3,3,3,3,3,3,3,3,3,3,3,3,3,3,3,3,3,3,3,3,3,3,3,3,3,3,3,3,3,3,3,3,3,3,3,3,3,3,3,3,3,3,3,3,3,3,3,3,3,3,3,3,3,3,3,3,3,3,3,3,3,3,3,3,3,3,3,3,3,3,3,3,3,3,3,3,3,3,3,3,3,3,3,3,3,3,3,3,3,3,3,3,3,3,3,3,3,3,3,3,3,3,3,3,3,3,3,3,3,3,3,3,3,3,3,3,3,3,3,3,3,3,3,3,3,3,3,3,3,3,3,3,3,3,3,3,3,3,3,3,3,3,3,3,3,3,3,3,3,3,3,3,3,3,3,3,3,3,3,3,3,3,3,3,3,3,3,3,3,3,3,3,3,3,3,3,3,3,3,3,3,3,3,3,3,3,3,3,3,3,3,3,3,3,3,3,3,3,3,3,3,3,3,3,3,3,3,3,3,3,3,3,3,3,3,3,3,3,3,3,3,3,3,3,3,3,3,3,3,3,3,3,3,3,3,3,3,3,3,3,3,3,3,3,3,3,3,3,3,3,3,3,3,3,3,3,3,3,3,3,3,3,3,3,3,3,3,3,3,3,3,3,3,3,3,3,3,3,3,3,3,3,3,3,3,3,3,3,3,3,3,3,3,3,3,3,3,3,3,3,3,3,3,3,3,3,3,3,3,3,3,3,3,3,3,3,3,3,3,3,3,3,3,3,3,3,3,3,3,3,3,3,3,3,3,3,3,3,3,3,3,3,3,3,3,3,3,3,3,3,3,3,3,3,3,3,3,3,3,3,3,3,3,3,3,3,3,3,3,3,3,3,3,3,3,3,3,3,3,3,3,3,3,3,3,3,3,3,3,3,3,3,3,3,3,3,3,3,3,3,3,3,3,3,3,3,3,3,3,3,3,3,3,3,3,3,3,3,3,3,3,3,3,3,3,3,3,3,3,3,3,3,3,3,3,3,3,3,3,3,3,3,3,3,3,3,3,3,3,3,3,3,3,3,3,3,3,3,3,3,3,3,3,3,3,3,3,3,3,3,3,3,3,3,3,3,3,3,3,3,3,3,3,3,3,3,3,3,3,3,3,3,3,3,3,3,3,3,3,3,3,3,3,3,3,3,3,3,3,3,3,3,3,3,3,3,3,3,3,3,3,3,3,3,3,3,3,3,3,3,3,3,3,3,3,3,3,3,3,3,3,3,3,3,3,3,3,3,3,3,3,3,3,3,3,3,3,3,3,3,3,3,3,3,3,3,3,3,3,3,3,3,3,3,3,3,3,3,3,3,3,3,3,3,3,3,3,3,3,3,3,3,3,3,3,3,3,3,3,3,3,3,3,3,3,3,3,3,3,3,3,3,3,3,3,3,3,3,3,3,3,3,3,3,3,3,3,3,3,3,3,3,3,3,3,3,3,3,3,3,3,3,3,3,3,3,3,3,3,3,3,3,3,3,3,3,3,3,3,3,3,3,3,3,3,3,3,3,3,3,3,3,3,3,3,3,3,3,3,3,3,3,3,3,3,3,3,3,3,3,3,3,3,3,3,3,3,3,3,3,3,3,3,3,3,3,3,3,3,3,3,3,3,3,3,3,3,3,3,3,3,3,3,3,3,3,3,3,3,3,3,3,3,3,3,3,3,3,3,3,3,3,3,3,3,3,3,3,3,3,3,3,3,3,3,3,3,3,3,3,3,3,3,3,3,3,3,3,3,3,3,3,3,3,3,3,3,3,3,3,3,3,3,3,3,3,3,3,3,3,3,3,3,3,3,3,3,3,3,3,3,3,3,3,3,3,3,3,3,3,3,3,3,3,3,3,3,3,3,3,3,3,3,3,3,3,3,3,3,3,3,3,3,3,3,3,3,3,3,3,3,3,3,3,3,3,3,3,3,3,3,3,3,3,3,3,3,3,3,3,3,3,3,3,3,3,3,3,3,3,3,3,3,3,3,3,3,3,3,3,3,3,3,3,3,3,3,3,3,3,3,3,3,3,3,3,3,3,3,3,3,3,3,3,3,3,3,3,3,3,3,3,3,3,3,3,3,3,3,3,3,3,3,3,3,3,3,3,3,3,3,3,3,3,3,3,3,3,3,3,3,3,3,3,3,3,3,3,3,3,3,3,3,3,3,3,3,3,3,3,3,3,3,3,3,3,3,3,3,3,3,3,3,3,3,3,3,3,3,3,3,3,3,3,3,3,3,3,3,3,3,3,3,3,3,3,3,3,3,3,3,3,3,3,3,3,3,3,3,3,3,3,3,3,3,3,3,3,3,3,3,3,3,3,3,3,3,3,3,3,3,3,3,3,3,3,3,3,3,3,3,3,3,3,3,3,3,3,3,3,3,3,3,3,3,3,3,3,3,3,3,3,3,3,3,3,3,3,3,3,3,3,3,3,3,3,3,3,3,3,3,3,3,3,3,3,3,3,3,3,3,3,3,3,3,3,3,3,3,3,3,3,3,3,3,3,3,3,3,3,3,3,3,3,3,3,3,3,3,3,3,3,3,3,3,3,3,3,3,3,3,3,3,3,3,3,3,3,3,3,3,3,3,3,3,3,3,3,3,3,3,3,3,3,3,3,3,3,3,3,3,3,3,3,3,3,3,3,3,3,3,3,3,3,3,3,3,3,3,3,3,3,3,3,3,3,3,3,3,3,3,3,3,3,3,3,3,3,3,3,3,3,3,3,3,3,3,3,3,3,3,3,3,3,3,3,3,3,3,3,3,3,3,3,3,3,3,3,3,3,3,3,3,3,3,3,3,3,3,3,3,3,3,3,3,3,3,3,3,3,3,3,3,3,3,3,3,3,3,3,3,3,3,3,3,3,3,3,3,3,3,3,3,3,3,3,3,3,3,3,3,3,3,3,3,3,3,3,3,3,3,3,3,3,3,3,3,3,3,3,3,3,3,3,3,3,3,3,3,3,3,3,3,3,3,3,3,3,3,3,3,3,3,3,3,3,3,3,3,3,3,3,3,3,3,3,3,3,3,3,3,3,3,3,3,3,3,3,3,3,3,3,3,3,3,3,3,3,3,3,3,3,3,3,3,3,3,3,3,3,3,3,3,3,3,3,3,3,3,3,3,3,3,3,3,3,3,3,3,3,3,3,3,3,3,3,3,3,3,3,3,3,3,3,3,3,3,3,3,3,3,3,3,3,3,3,3,3,3,3,3,3,3,3,3,3,3,3,3,3,3,3,3,3,3,3,3,3,3,3,3,3,3,3,3,3,3,3,3,3,3,3,3,3,3,3,3,3,3,3,3,3,3,3,3,3,3,3,3,3,3,3,3,3,3,3,3,3,3,3,3,3,3,3,3,3,3,3,3,3,3,3,3,3,3,3,3,3,3,3,3,3,3,3,3,3,3,3,3,3,3,3,3,3,3,3,3,3,3,3,3,3,3,3,3,3,3,3,3,3,3,3,3,3,3,3,3,3,3,3,3,3,3,3,3,3,3,3,3,3,3,3,3,3,3,3,3,3,3,3,3,3,3,3,3,3,3,3,3,3,3,3,3,3,3,3,3,3,3,3,3,3,3,3,3,3,3,3,3,3,3,3,3,3,3,3,3,3,3,3,3,3,3,3,3,3,3,3,3,3,3,3,3,3,3,3,3,3,3,3,3,3,3,3,3,3,3,3,3,3,3,3,3,3,3,3,3,3,3,3,3,3,3,3,3,3,3,3,3,3,3,3,3,3,3,3,3,3,3,3,3,3,3,3,3,3,3,3,3,3,3,3,3,3,3,3,3,3,3,3,3,3,3,3,3,3,3,3,3,3,3,3,3,3,3,3,3,3,3,3,3,3,3,3,3,3,3,3,3,3,3,3,3,3,3,3,3,3,3,3,3,3,3,3,3,3,3,3,3,3,3,3,3,3,3,3,3,3,3,3,3,3,3,3,3,3,3,3,3,3,3,3,3,3,3,3,3,3,3,3,3,3,3,3,3,3,3,3,3,3,3,3,3,3,3,3,3,3,3,3,3,3,3,3,3,3,3,3,3,3,3,3,3,3,3,3,3,3,3,3,3,3,3,3,3,3,3,3,3,3,3,3,3,3,3,3,3,3,3,3,3,3,3,3,3,3,3,3,3,3,3,3,3,3,3,3,3,3,3,3,3,3,3,3,3,3,3,3,3,3,3,3,3,3,3,3,3,3,3,3,3,3,3,3,3,3,3,3,3,3,3,3,3,3,3,3,3,3,3,3,3,3,3,3,3,3,3,3,3,3,3,3,3,3,3,3,3,3,3,3,3,3,3,3,3,3,3,3,3,3,3,3,3,3,3,3,3,3,3,3,3,3,3,3,3,3,3,3,3,3,3,3,3,3,3,3,3,3,3,3,3,3,3,3,3,3,3,3,3,3,3,3,3,3,3,3,3,3,3,3,3,3,3,3,3,3,3,3,3,3,3,3,3,3,3,3,3,3,3,3,3,3,3,3,3,3,3,3,3,3,3,3,3,3,3,3,3,3,3,3,3,3,3,3,3,3,3,3,3,3,3,3,3,3,3,3,3,3,3,3,3,3,3,3,3,3,3,3,3,3,3,3,3,3,3,3,3,3,3,3,3,3,3,3,3,3,3,3,3,3,3,3,3,3,3,3,3,3,3,3,3,3,3,3,3,3,3,3,3,3,3,3,3,3,3,3,3,3,3,3,3,3,3,3,3,3,3,3,3,3,3,3,3,3,3,3,3,3,3,3,3,3,3,3,3,3,3,3,3,3,3,3,3,3,3,3,3,3,3,3,3,3,3,3,3,3,3,3,3,3,3,3,3,3,3,3,3,3,3,3,3,3,3,3,3,3,3,3,3,3,3,3,3,3,3,3,3,3,3,3,3,3,3,3,3,3,3,3,3,3,3,3,3,3,3,3,3,3,3,3,3,3,3,3,3,3,3,3,3,3,3,3,3,3,3,3,3,3,3,3,3,3,3,3,3,3,3,3,3,3,3,3,3,3,3,3,3,3,3,3,3,3,3,3,3,3,3,3,3,3,3,3,3,3,3,3,3,3,3,3,3,3,3,3,3,3,3,3,3,3,3,3,3,3,3,3,3,3,3,3,3,3,3,3,3,3,3,3,3,3,3,3,3,3,3,3,3,3,3,3,3,3,3,3,3,3,3,3,3,3,3,3,3,3,3,3,3,3,3,3,3,3,3,3,3,3,3,3,3,3,3,3,3,3,3,3,3,3,3,3,3,3,3,3,3,3,3,3,3,3,3,3,3,3,3,3,3,3,3,3,3,3,3,3,3,3,3,3,3,3,3,3,3,3,3,3,3,3,3,3,3,3,3,3,3,3,3,3,3,3,3,3,3,3,3,3,3,3,3,3,3,3,3,3,3,3,3,3,3,3,3,3,3,3,3,3,3,3,3,3,3,3,3,3,3,3,3,3,3,3,3,3,3,3,3,3,3,3,3,3,3,3,3,3,3,3,3,3,3,3,3,3,3,3,3,3,3,3,3,3,3,3,3,3,3,3,3,3,3,3,3,3,3,3,3,3,3,3,3,3,3,3,3,3,3,3,3,3,3,3,3,3,3,3,3,3,3,3,3,3,3,3,3,3,3,3,3,3,3,3,3,3,3,3,3,3,3,3,3,3,3,3,3,3,3,3,3,3,3,3,3,3,3,3,3,3,3,3,3,3,3,3,3,3,3,3,3,3,3,3,3,3,3,3,3,3,3,3,3,3,3,3,3,3,3,3,3,3,3,3,3,3,3,3,3,3,3,3,3,3,3,3,3,3,3,3,3,3,3,3,3,3,3,3,3,3,3,3,3,3,3,3,3,3,3,3,3,3,3,3,3,3,3,3,3,3,3,3,3,3,3,3,3,3,3,3,3,3,3,3,3,3,3,3,3,3,3,3,3,3,3,3,3,3,3,3,3,3,3,3,3,3,3,3,3,3,3,3,3,3,3,3,3,3,3,3,3,3,3,3,3,3,3,3,3,3,3,3,3,3,3,3,3,3,3,3,3,3,3,3,3,3,3,3,3,3,3,3,3,3,3,3,3,3,3,3,3,3,3,3,3,3,3,3,3,3,3,3,3,3,3,3,3,3,3,3,3,3,3,3,3,3,3,3,3,3,3,3,3,3,3,3,3,3,3,3,3,3,3,3,3,3,3,3,3,3,3,3,3,3,3,3,3,3,3,3,3,3,3,3,3,3,3,3,3,3,3,3,3,3,3,3,3,3,3,3,3,3,3,3,3,3,3,3,3,3,3,3,3,3,3,3,3,3,3,3,3,3,3,3,3,3,3,3,3,3,3,3,3,3,3,3,3,3,3,3,3,3,3,3,3,3,3,3,3,3,3,3,3,3,3,3,3,3,3,3,3,3,3,3,3,3,3,3,3,3,3,3,3,3,3,3,3,3,3,3,3,3,3,3,3,3,3,3,3,3,3,3,3,3,3,3,3,3,3,3,3,3,3,3,3,3,3,3,3,3,3,3,3,3,3,3,3,3,3,3,3,3,3,3,3,3,3,3,3,3,3,3,3,3,3,3,3,3,3,3,3,3,3,3,3,3,3,3,3,3,3,3,3,3,3,3,3,3,3,3,3,3,3,3,3,3,3,3,3,3,3,3,3,3,3,3,3,3,3,3,3,3,3,3,3,3,3,3,3,3,3,3,3,3,3,3,3,3,3,3,3,3,3,3,3,3,3,3,3,3,3,3,3,3,3,3,3,3,3,3,3,3,3,3,3,3,3,3,3,3,3,3,3,3,3,3,3,3,3,3,3,3,3,3,3,3,3,3,3,3,3,3,3,3,3,3,3,3,3,3,3,3,3,3,3,3,3,3,3,3,3,3,3,3,3,3,3,3,3,3,3,3,3,3,3,3,3,3,3,3,3,3,3,3,3,3,3,3,3,3,3,3,3,3,3,3,3,3,3,3,3,3,3,3,3,3,3,3,3,3,3,3,3,3,3,3,3,3,3,3,3,3,3,3,3,3,3,3,3,3,3,3,3,3,3,3,3,3,3,3,3,3,3,3,3,3,3,3,3,3,3,3,3,3,3,3,3,3,3,3,3,3,3,3,3,3,3,3,3,3,3,3,3,3,3,3,3,3,3,3,3,3,3,3,3,3,3,3,3,3,3,3,3,3,3,3,3,3,3,3,3,3,3,3,3,3,3,3,3,3,3,3,3,3,3,3,3,3,3,3,3,3,3,3,3,3,3,3,3,3,3,3,3,3,3,3,3,3,3,3,3,3,3,3,3,3,3,3,3,3,3,3,3,3,3,3,3,3,3,3,3,3,3,3,3,3,3,3,3,3,3,3,3,3,3,3,3,3,3,3,3,3,3,3,3,3,3,3,3,3,3,3,3,3,3,3,3,3,3,3,3,3,3,3,3,3,3,3,3,3,3,3,3,3,3,3,3,3,3,3,3,3,3,3,3,3,3,3,3,3,3,3,3,3,3,3,3,3,3,3,3,3,3,3,3,3,3,3,3,3,3,3,3,3,3,3,3,3,3,3,3,3,3,3,3,3,3,3,3,3,3,3,3,3,3,3,3,3,3,3,3,3,3,3,3,3,3,3,3,3,3,3,3,3,3,3,3,3,3,3,3,3,3,3,3,3,3,3,3,3,3,3,3,3,3,3,3,3,3,3,3,3,3,3,3,3,3,3,3,3,3,3,3,3,3,3,3,3,3,3,3,3,3,3,3,3,3,3,3,3,3,3,3,3,3,3,3,3,3,3,3,3,3,3,3,3,3,3,3,3,3,3,3,3,3,3,3,3,3,3,3,3,3,3,3,3,3,3,3,3,3,3,3,3,3,3,3,3,3,3,3,3,3,3,3,3,3,3,3,3,3,3,3,3,3,3,3,3,3,3,3,3,3,3,3,3,3,3,3,3,3,3,3,3,3,3,3,3,3,3,3,3,3,3,3,3,3,3,3,3,3,3,3,3,3,3,3,3,3,3,3,3,3,3,3,3,3,3,3,3,3,3,3,3,3,3,3,3,3,3,3,3,3,3,3,3,3,3,3,3,3,3,3,3,3,3,3,3,3,3,3,3,3,3,3,3,3,3,3,3,3,3,3,3,3,3,3,3,3,3,3,3,3,3,3,3,3,3,3,3,3,3,3,3,3,3,3,3,3,3,3,3,3,3,3,3,3,3,3,3,3,3,3,3,3,3,3,3,3,3,3,3,3,3,3,3,3,3,3,3,3,3,3,3,3,3,3,3,3,3,3,3,3,3,3,3,3,3,3,3,3,3,3,3,3,3,3,3,3,3,3,3,3,3,3,3,3,3,3,3,3,3,3,3,3,3,3,3,3,3,3,3,3,3,3,3,3,3,3,3,3,3,3,3,3,3,3,3,3,3,3,3,3,3,3,3,3,3,3,3,3,3,3,3,3,3,3,3,3,3,3,3,3,3,3,3,3,3,3,3,3,3,3,3,3,3,3,3,3,3,3,3,3,3,3,3,3,3,3,3,3,3,3,3,3,3,3,3,3,3,3,3,3,3,3,3,3,3,3,3,3,3,3,3,3,3,3,3,3,3,3,3,3,3,3,3,3,3,3,3,3,3,3,3,3,3,3,3,3,3,3]
[null,null,null,null,null,null,null,null,null,null,null,null,null,null,null,null,null,null,null,null,null,null,null,null,null,null,null,null,null,4,4,4,4,4,4,4,4,4,4,4,4,4,4,4,4,4,4,4,4,4,4,4,4,4,4,4,4,4,4,4,4,4,4,4,4,4,4,4,4,4,4,4,4,4,4,4,4,4,4,4,4,4,4,4,4,4,4,4,4,4,4,4,4,4,4,4,4,4,4,4,4,4,4,4,4,4,4,4,4,4,4,4,4,4,4,4,4,4,4,4,4,4,4,4,4,4,4,4,4,4,4,4,4,4,4,4,4,4,4,4,4,4,4,4,4,4,4,4,4,4,4,4,4,4,4,4,4,4,4,4,4,4,4,4,4,4,4,4,4,4,4,4,4,4,4,4,4,4,4,4,4,4,4,4,4,4,4,4,4,4,4,4,4,4,4,4,4,4,4,4,4,4,4,4,4,4,4,4,4,4,4,4,4,4,4,4,4,4,4,4,4,4,4,4,4,4,4,4,4,4,4,4,4,4,4,4,4,4,4,4,4,4,4,4,4,4,4,4,4,4,4,4,4,4,4,4,4,4,4,4,4,4,4,4,4,4,4,4,4,4,4,4,4,4,4,4,4,4,4,4,4,4,4,4,4,4,4,4,4,4,4,4,4,4,4,4,4,4,4,4,4,4,4,4,4,4,4,4,4,4,4,4,4,4,4,4,4,4,4,4,4,4,4,4,4,4,4,4,4,4,4,4,4,4,4,4,4,4,4,4,4,4,4,4,4,4,4,4,4,4,4,4,4,4,4,4,4,4,4,4,4,4,4,4,4,4,4,4,4,4,4,4,4,4,4,4,4,4,4,4,4,4,4,4,4,4,4,4,4,4,4,4,4,4,4,4,4,4,4,4,4,4,4,4,4,4,4,4,4,4,4,4,4,4,4,4,4,4,4,4,4,4,4,4,4,4,4,4,4,4,4,4,4,4,4,4,4,4,4,4,4,4,4,4,4,4,4,4,4,4,4,4,4,4,4,4,4,4,4,4,4,4,4,4,4,4,4,4,4,4,4,4,4,4,4,4,4,4,4,4,4,4,4,4,4,4,4,4,4,4,4,4,4,4,4,4,4,4,4,4,4,4,4,4,4,4,4,4,4,4,4,4,4,4,4,4,4,4,4,4,4,4,4,4,4,4,4,4,4,4,4,4,4,4,4,4,4,4,4,4,4,4,4,4,4,4,4,4,4,4,4,4,4,4,4,4,4,4,4,4,4,4,4,4,4,4,4,4,4,4,4,4,4,4,4,4,4,4,4,4,4,4,4,4,4,4,4,4,4,4,4,4,4,4,4,4,4,4,4,4,4,4,4,4,4,4,4,4,4,4,4,4,4,4,4,4,4,4,4,4,4,4,4,4,4,4,4,4,4,4,4,4,4,4,4,4,4,4,4,4,4,4,4,4,4,4,4,4,4,4,4,4,4,4,4,4,4,4,4,4,4,4,4,4,4,4,4,4,4,4,4,4,4,4,4,4,4,4,4,4,4,4,4,4,4,4,4,4,4,4,4,4,4,4,4,4,4,4,4,4,4,4,4,4,4,4,4,4,4,4,4,4,4,4,4,4,4,4,4,4,4,4,4,4,4,4,4,4,4,4,4,4,4,4,4,4,4,4,4,4,4,4,4,4,4,4,4,4,4,4,4,4,4,4,4,4,4,4,4,4,4,4,4,4,4,4,4,4,4,4,4,4,4,4,4,4,4,4,4,4,4,4,4,4,4,4,4,4,4,4,4,4,4,4,4,4,4,4,4,4,4,4,4,4,4,4,4,4,4,4,4,4,4,4,4,4,4,4,4,4,4,4,4,4,4,4,4,4,4,4,4,4,4,4,4,4,4,4,4,4,4,4,4,4,4,4,4,4,4,4,4,4,4,4,4,4,4,4,4,4,4,4,4,4,4,4,4,4,4,4,4,4,4,4,4,4,4,4,4,4,4,4,4,4,4,4,4,4,4,4,4,4,4,4,4,4,4,4,4,4,4,4,4,4,4,4,4,4,4,4,4,4,4,4,4,4,4,4,4,4,4,4,4,4,4,4,4,4,4,4,4,4,4,4,4,4,4,4,4,4,4,4,4,4,4,4,4,4,4,4,4,4,4,4,4,4,4,4,4,4,4,4,4,4,4,4,4,4,4,4,4,4,4,4,4,4,4,4,4,4,4,4,4,4,4,4,4,4,4,4,4,4,4,4,4,4,4,4,4,4,4,4,4,4,4,4,4,4,4,4,4,4,4,4,4,4,4,4,4,4,4,4,4,4,4,4,4,4,4,4,4,4,4,4,4,4,4,4,4,4,4,4,4,4,4,4,4,4,4,4,4,4,4,4,4,4,4,4,4,4,4,4,4,4,4,4,4,4,4,4,4,4,4,4,4,4,4,4,4,4,4,4,4,4,4,4,4,4,4,4,4,4,4,4,4,4,4,4,4,4,4,4,4,4,4,4,4,4,4,4,4,4,4,4,4,4,4,4,4,4,4,4,4,4,4,4,4,4,4,4,4,4,4,4,4,4,4,4,4,4,4,4,4,4,4,4,4,4,4,4,4,4,4,4,4,4,4,4,4,4,4,4,4,4,4,4,4,4,4,4,4,4,4,4,4,4,4,4,4,4,4,4,4,4,4,4,4,4,4,4,4,4,4,4,4,4,4,4,4,4,4,4,4,4,4,4,4,4,4,4,4,4,4,4,4,4,4,4,4,4,4,4,4,4,4,4,4,4,4,4,4,4,4,4,4,4,4,4,4,4,4,4,4,4,4,4,4,4,4,4,4,4,4,4,4,4,4,4,4,4,4,4,4,4,4,4,4,4,4,4,4,4,4,4,4,4,4,4,4,4,4,4,4,4,4,4,4,4,4,4,4,4,4,4,4,4,4,4,4,4,4,4,4,4,4,4,4,4,4,4,4,4,4,4,4,4,4,4,4,4,4,4,4,4,4,4,4,4,4,4,4,4,4,4,4,4,4,4,4,4,4,4,4,4,4,4,4,4,4,4,4,4,4,4,4,4,4,4,4,4,4,4,4,4,4,4,4,4,4,4,4,4,4,4,4,4,4,4,4,4,4,4,4,4,4,4,4,4,4,4,4,4,4,4,4,4,4,4,4,4,4,4,4,4,4,4,4,4,4,4,4,4,4,4,4,4,4,4,4,4,4,4,4,4,4,4,4,4,4,4,4,4,4,4,4,4,4,4,4,4,4,4,4,4,4,4,4,4,4,4,4,4,4,4,4,4,4,4,4,4,4,4,4,4,4,4,4,4,4,4,4,4,4,4,4,4,4,4,4,4,4,4,4,4,4,4,4,4,4,4,4,4,4,4,4,4,4,4,4,4,4,4,4,4,4,4,4,4,4,4,4,4,4,4,4,4,4,4,4,4,4,4,4,4,4,4,4,4,4,4,4,4,4,4,4,4,4,4,4,4,4,4,4,4,4,4,4,4,4,4,4,4,4,4,4,4,4,4,4,4,4,4,4,4,4,4,4,4,4,4,4,4,4,4,4,4,4,4,4,4,4,4,4,4,4,4,4,4,4,4,4,4,4,4,4,4,4,4,4,4,4,4,4,4,4,4,4,4,4,4,4,4,4,4,4,4,4,4,4,4,4,4,4,4,4,4,4,4,4,4,4,4,4,4,4,4,4,4,4,4,4,4,4,4,4,4,4,4,4,4,4,4,4,4,4,4,4,4,4,4,4,4,4,4,4,4,4,4,4,4,4,4,4,4,4,4,4,4,4,4,4,4,4,4,4,4,4,4,4,4,4,4,4,4,4,4,4,4,4,4,4,4,4,4,4,4,4,4,4,4,4,4,4,4,4,4,4,4,4,4,4,4,4,4,4,4,4,4,4,4,4,4,4,4,4,4,4,4,4,4,4,4,4,4,4,4,4,4,4,4,4,4,4,4,4,4,4,4,4,4,4,4,4,4,4,4,4,4,4,4,4,4,4,4,4,4,4,4,4,4,4,4,4,4,4,4,4,4,4,4,4,4,4,4,4,4,4,4,4,4,4,4,4,4,4,4,4,4,4,4,4,4,4,4,4,4,4,4,4,4,4,4,4,4,4,4,4,4,4,4,4,4,4,4,4,4,4,4,4,4,4,4,4,4,4,4,4,4,4,4,4,4,4,4,4,4,4,4,4,4,4,4,4,4,4,4,4,4,4,4,4,4,4,4,4,4,4,4,4,4,4,4,4,4,4,4,4,4,4,4,4,4,4,4,4,4,4,4,4,4,4,4,4,4,4,4,4,4,4,4,4,4,4,4,4,4,4,4,4,4,4,4,4,4,4,4,4,4,4,4,4,4,4,4,4,4,4,4,4,4,4,4,4,4,4,4,4,4,4,4,4,4,4,4,4,4,4,4,4,4,4,4,4,4,4,4,4,4,4,4,4,4,4,4,4,4,4,4,4,4,4,4,4,4,4,4,4,4,4,4,4,4,4,4,4,4,4,4,4,4,4,4,4,4,4,4,4,4,4,4,4,4,4,4,4,4,4,4,4,4,4,4,4,4,4,4,4,4,4,4,4,4,4,4,4,4,4,4,4,4,4,4,4,4,4,4,4,4,4,4,4,4,4,4,4,4,4,4,4,4,4,4,4,4,4,4,4,4,4,4,4,4,4,4,4,4,4,4,4,4,4,4,4,4,4,4,4,4,4,4,4,4,4,4,4,4,4,4,4,4,4,4,4,4,4,4,4,4,4,4,4,4,4,4,4,4,4,4,4,4,4,4,4,4,4,4,4,4,4,4,4,4,4,4,4,4,4,4,4,4,4,4,4,4,4,4,4,4,4,4,4,4,4,4,4,4,4,4,4,4,4,4,4,4,4,4,4,4,4,4,4,4,4,4,4,4,4,4,4,4,4,4,4,4,4,4,4,4,4,4,4,4,4,4,4,4,4,4,4,4,4,4,4,4,4,4,4,4,4,4,4,4,4,4,4,4,4,4,4,4,4,4,4,4,4,4,4,4,4,4,4,4,4,4,4,4,4,4,4,4,4,4,4,4,4,4,4,4,4,4,4,4,4,4,4,4,4,4,4,4,4,4,4,4,4,4,4,4,4,4,4,4,4,4,4,4,4,4,4,4,4,4,4,4,4,4,4,4,4,4,4,4,4,4,4,4,4,4,4,4,4,4,4,4,4,4,4,4,4,4,4,4,4,4,4,4,4,4,4,4,4,4,4,4,4,4,4,4,4,4,4,4,4,4,4,4,4,4,4,4,4,4,4,4,4,4,4,4,4,4,4,4,4,4,4,4,4,4,4,4,4,4,4,4,4,4,4,4,4,4,4,4,4,4,4,4,4,4,4,4,4,4,4,4,4,4,4,4,4,4,4,4,4,4,4,4,4,4,4,4,4,4,4,4,4,4,4,4,4,4,4,4,4,4,4,4,4,4,4,4,4,4,4,4,4,4,4,4,4,4,4,4,4,4,4,4,4,4,4,4,4,4,4,4,4,4,4,4,4,4,4,4,4,4,4,4,4,4,4,4,4,4,4,4,4,4,4,4,4,4,4,4,4,4,4,4,4,4,4,4,4,4,4,4,4,4,4,4,4,4,4,4,4,4,4,4,4,4,4,4,4,4,4,4,4,4,4,4,4,4,4,4,4,4,4,4,4,4,4,4,4,4,4,4,4,4,4,4,4,4,4,4,4,4,4,4,4,4,4,4,4,4,4,4,4,4,4,4,4,4,4,4,4,4,4,4,4,4,4,4,4,4,4,4,4,4,4,4,4,4,4,4,4,4,4,4,4,4,4,4,4,4,4,4,4,4,4,4,4,4,4,4,4,4,4,4,4,4,4,4,4,4,4,4,4,4,4,4,4,4,4,4,4,4,4,4,4,4,4,4,4,4,4,4,4,4,4,4,4,4,4,4,4,4,4,4,4,4,4,4,4,4,4,4,4,4,4,4,4,4,4,4,4,4,4,4,4,4,4,4,4,4,4,4,4,4,4,4,4,4,4,4,4,4,4,4,4,4,4,4,4,4,4,4,4,4,4,4,4,4,4,4,4,4,4,4,4,4,4,4,4,4,4,4,4,4,4,4,4,4,4,4,4,4,4,4,4,4,4,4,4,4,4,4,4,4,4,4,4,4,4,4,4,4,4,4,4,4,4,4,4,4,4,4,4,4,4,4,4,4,4,4,4,4,4,4,4,4,4,4,4,4,4,4,4,4,4,4,4,4,4,4,4,4,4,4,4,4,4,4,4,4,4,4,4,4,4,4,4,4,4,4,4,4,4,4,4,4,4,4,4,4,4,4,4,4,4,4,4,4,4,4,4,4,4,4,4,4,4,4,4,4,4,4,4,4,4,4,4,4,4,4,4,4,4,4,4,4,4,4,4,4,4,4,4,4,4,4,4,4,4,4,4,4,4,4,4,4,4,4,4,4,4,4,4,4,4,4,4,4,4,4,4,4,4,4,4,4,4,4,4,4,4,4,4,4,4,4,4,4,4,4,4,4,4,4,4,4,4,4,4,4,4,4,4,4,4,4,4,4,4,4,4,4,4,4,4,4,4,4,4,4,4,4,4,4,4,4,4,4,4,4,4,4,4,4,4,4,4,4,4,4,4,4,4,4,4,4,4,4,4,4,4,4,4,4,4,4,4,4,4,4,4,4,4,4,4,4,4,4,4,4,4,4,4,4,4,4,4,4,4,4,4,4,4,4,4,4,4,4,4,4,4,4,4,4,4,4,4,4,4,4,4,4,4,4,4,4,4,4,4,4,4,4,4,4,4,4,4,4,4,4,4,4,4,4,4,4,4,4,4,4,4,4,4,4,4,4,4,4,4,4,4,4,4,4,4,4,4,4,4,4,4,4,4,4,4,4,4,4,4,4,4,4,4,4,4,4,4,4,4,4,4,4,4,4,4,4,4,4,4,4,4,4,4,4,4,4,4,4,4,4,4,4,4,4,4,4,4,4,4,4,4,4,4,4,4,4,4,4,4,4,4,4,4,4,4,4,4,4,4,4,4,4,4,4,4,4,4,4,4,4,4,4,4,4,4,4,4,4,4,4,4,4,4,4,4,4,4,4,4,4,4,4,4,4,4,4,4,4,4,4,4,4,4,4,4,4,4,4,4,4,4,4,4,4,4,4,4,4,4,4,4,4,4,4,4,4,4,4,4,4,4,4,4,4,4,4,4,4,4,4,4,4,4,4,4,4,4,4,4,4,4,4,4,4,4,4,4,4,4,4,4,4,4,4,4,4,4,4,4,4,4,4,4,4,4,4,4,4,4,4,4,4,4,4,4,4,4,4,4,4,4,4,4,4,4,4,4,4,4,4,4,4,4,4,4,4,4,4,4,4,4,4,4,4,4,4,4,4,4,4,4,4,4,4,4,4,4,4,4,4,4,4,4,4,4,4,4,4,4,4,4,4,4,4,4,4,4,4,4,4,4,4,4,4,4,4,4,4,4,4,4,4,4,4,4,4,4,4,4,4,4,4,4,4,4,4,4,4,4,4,4,4,4,4,4,4,4,4,4,4,4,4,4,4,4,4,4,4,4,4,4,4,4,4,4,4,4,4,4,4,4,4,4,4,4,4,4,4,4,4,4,4,4,4,4,4,4,4,4,4,4,4,4,4,4,4,4,4,4,4,4,4,4,4,4,4,4,4,4,4,4,4,4,4,4,4,4,4,4,4,4,4,4,4,4,4,4,4,4,4,4,4,4,4,4,4,4,4,4,4,4,4,4,4,4,4,4,4,4,4,4,4,4,4,4,4,4,4,4,4,4,4,4,4,4,4,4,4,4,4,4,4,4,4,4,4,4,4,4,4,4,4,4,4,4,4,4,4,4,4,4,4,4,4,4,4,4,4,4,4,4,4,4,4,4,4,4,4,4,4,4,4,4,4,4,4,4,4,4,4,4,4,4,4,4,4,4,4,4,4,4,4,4,4,4,4,4,4,4,4,4,4,4,4,4,4,4,4,4,4,4,4,4,4,4,4,4,4,4,4,4,4,4,4,4,4,4,4,4,4,4,4,4,4,4,4,4,4,4,4,4,4,4,4,4,4,4,4,4,4,4,4,4,4,4,4,4,4,4,4,4,4,4,4,4,4,4,4,4,4,4,4,4,4,4,4,4,4,4,4,4,4,4,4,4,4,4,4,4,4,4,4,4,4,4,4,4,4,4,4,4,4,4,4,4,4,4,4,4,4,4,4,4,4,4,4,4,4,4,4,4,4,4,4,4,4,4,4,4,4,4,4,4,4,4,4,4,4,4,4,4,4,4,4,4,4,4,4,4,4,4,4,4,4,4,4,4,4,4,4,4,4,4,4,4,4,4,4,4,4,4,4,4,4,4,4,4,4,4,4,4,4,4,4,4,4,4,4,4,4,4,4,4,4,4,4,4,4,4,4,4,4,4,4,4,4,4,4,4,4,4,4,4,4,4,4,4,4,4,4,4,4,4,4,4,4,4,4,4,4,4,4,4,4,4,4,4,4,4,4,4,4,4,4,4,4,4,4,4,4,4,4,4,4,4,4,4,4,4,4,4,4,4,4,4,4,4,4,4,4,4,4,4,4,4,4,4,4,4,4,4,4,4,4,4,4,4,4,4,4,4,4,4,4,4,4,4,4,4,4,4,4,4,4,4,4,4,4,4,4,4,4,4,4,4,4,4,4,4,4,4,4,4,4,4,4,4,4,4,4,4,4,4,4,4,4,4,4,4,4,4,4,4,4,4,4,4,4,4,4,4,4,4,4,4,4,4,4,4,4,4,4,4,4,4,4,4,4,4,4,4,4,4,4,4,4,4,4,4,4,4,4,4,4,4,4,4,4,4,4,4,4,4,4,4,4,4,4,4,4,4,4,4,4,4,4,4,4,4,4,4,4,4,4,4,4,4,4,4,4,4,4,4,4,4,4,4,4,4,4,4,4,4,4,4,4,4,4,4,4,4,4,4,4,4,4,4,4,4,4,4,4,4,4,4,4,4,4,4,4,4,4,4,4,4,4,4,4,4,4,4,4,4,4,4,4,4,4,4,4,4,4,4,4,4,4,4,4,4,4,4,4,4,4,4,4,4,4,4,4,4,4,4,4,4,4,4,4,4,4,4,4,4,4,4,4,4,4,4,4,4,4,4,4,4,4,4,4,4,4,4,4,4,4,4,4,4,4,4,4,4,4,4,4,4,4,4,4,4,4,4,4,4,4,4,4,4,4,4,4,4,4,4,4,4,4,4,4,4,4,4,4,4,4,4,4,4,4,4,4,4,4,4,4,4,4,4,4,4,4,4,4,4,4,4,4,4,4,4,4,4,4,4,4,4,4,4,4,4,4,4,4,4,4,4,4,4,4,4,4,4,4,4,4,4,4,4,4,4,4,4,4,4,4,4,4,4,4,4,4,4,4,4,4,4,4,4,4,4,4,4,4,4,4,4,4,4,4,4,4,4,4,4,4,4,4,4,4,4,4,4,4,4,4,4,4,4,4,4,4,4,4,4,4,4,4,4,4,4,4,4,4,4,4,4,4,4,4,4,4,4,4,4,4,4,4,4,4,4,4,4,4,4,4,4,4,4,4,4,4,4,4,4,4,4,4,4,4,4,4,4,4,4,4,4,4,4,4,4,4,4,4,4,4,4,4,4,4,4,4,4,4,4,4,4,4,4,4,4,4,4,4,4,4,4,4,4,4,4,4,4,4,4,4,4,4,4,4,4,4,4,4,4,4,4,4,4,4,4,4,4,4,4,4,4,4,4,4,4,4,4,4,4,4,4,4,4,4,4,4,4,4,4,4,4,4,4,4,4,4,4,4,4,4,4,4,4,4,4,4,4,4,4,4,4,4,4,4,4,4,4,4,4,4,4,4,4,4,4,4,4,4,4,4,4,4,4,4,4,4,4,4,4,4,4,4,4,4,4,4,4,4,4,4,4,4,4,4,4,4,4,4,4,4,4,4,4,4,4,4,4,4,4,4,4,4,4,4,4,4,4,4,4,4,4,4,4,4,4,4,4,4,4,4,4,4,4,4,4,4,4,4,4,4,4,4,4,4,4,4,4,4,4,4,4,4,4,4,4,4,4,4,4,4,4,4,4,4,4,4,4,4,4,4,4,4,4,4,4,4,4,4,4,4,4,4,4,4,4,4,4,4,4,4,4,4,4,4,4,4,4,4,4,4,4,4,4,4,4,4,4,4,4,4,4,4,4,4,4,4,4,4,4,4,4,4,4,4,4,4,4,4,4,4,4,4,4,4,4,4,4,4,4,4,4,4,4,4,4,4,4,4,4,4,4,4,4,4,4,4,4,4,4,4,4,4,4,4,4,4,4,4,4,4,4,4,4,4,4,4,4,4,4,4,4,4,4,4,4,4,4,4,4,4,4,4,4,4,4,4,4,4,4,4,4,4,4,4,4,4,4,4,4,4,4,4,4,4,4,4,4,4,4,4,4,4,4,4,4,4,4,4,4,4,4,4,4,4,4,4,4,4,4,4,4,4,4,4,4,4,4,4,4,4,4,4,4,4,4,4,4,4,4,4,4,4,4,4,4,4,4,4,4,4,4,4,4,4,4,4,4,4,4,4,4,4,4,4,4,4,4,4,4,4,4,4,4,4,4,4,4,4,4,4,4,4,4,4,4,4,4,4,4,4,4,4,4,4,4,4,4,4,4,4,4,4,4,4,4,4,4,4,4,4,4,4,4,4,4,4,4,4,4,4,4,4,4,4,4,4,4,4,4,4,4,4,4,4,4,4,4,4,4,4,4,4,4,4,4,4,4,4,4,4,4,4,4,4,4,4,4,4,4,4,4,4,4,4,4,4,4,4,4,4,4,4,4,4,4,4,4,4,4,4,4,4,4,4,4,4,4,4,4,4,4,4,4,4,4,4,4,4,4,4,4,4,4,4,4,4,4,4,4,4,4,4,4,4,4,4,4,4,4,4,4,4,4,4,4,4,4,4,4,4,4,4,4,4,4,4,4,4,4,4,4,4,4,4,4,4,4,4,4,4,4,4,4,4,4,4,4,4,4,4,4,4,4,4,4,4,4,4,4,4,4,4,4,4,4,4,4,4,4,4,4,4,4,4,4,4,4,4,4,4,4,4,4,4,4,4,4,4,4,4,4,4,4,4,4,4,4,4,4,4,4,4,4,4,4,4,4,4,4,4,4,4,4,4,4,4,4,4,4,4,4,4,4,4,4,4,4,4,4,4,4,4,4,4,4,4,4,4,4,4,4,4,4,4,4,4,4,4,4,4,4,4,4,4,4,4,4,4,4,4,4,4,4,4,4,4,4,4,4,4,4,4,4,4,4,4,4,4,4,4,4,4,4,4,4,4,4,4,4,4,4,4,4,4,4,4,4,4,4,4,4,4,4,4,4,4,4,4,4,4,4,4,4,4,4,4,4,4,4,4,4,4,4,4,4,4,4,4,4,4,4,4,4,4,4,4,4,4,4,4,4,4,4,4,4,4,4,4,4,4,4,4,4,4,4,4,4,4,4,4,4,4,4,4,4,4,4,4,4,4,4,4,4,4,4,4,4,4,4,4,4,4,4,4,4,4,4,4,4,4,4,4,4,4,4,4,4,4,4,4,4,4,4,4,4,4,4,4,4,4,4,4,4,4,4,4,4,4,4,4,4,4,4,4,4,4,4,4,4,4,4,4,4,4,4,4,4,4,4,4,4,4,4,4,4,4,4,4,4,4,4,4,4,4,4,4,4,4,4,4,4,4,4,4,4,4,4,4,4,4,4,4,4,4,4,4,4,4,4,4,4,4,4,4,4,4,4,4,4,4,4,4,4,4,4,4,4,4,4,4,4,4,4,4,4,4,4,4,4,4,4,4,4,4,4,4,4,4,4,4,4,4,4,4,4,4,4,4,4,4,4,4,4,4,4,4,4,4,4,4,4,4,4,4,4,4,4,4,4,4,4,4,4,4,4,4,4,4,4,4,4,4,4,4,4,4,4,4,4,4,4,4,4,4,4,4,4,4,4,4,4,4,4,4,4,4,4,4,4,4,4,4,4,4,4,4,4,4,4,4,4,4,4,4,4,4,4,4,4,4,4,4,4,4,4,4,4,4,4,4,4,4,4,4,4,4,4,4,4,4,4,4,4,4,4,4,4,4,4,4,4,4,4,4,4,4,4,4,4,4,4,4,4,4,4,4,4,4,4,4,4,4,4,4,4,4,4,4,4,4,4,4,4,4,4,4,4,4,4,4,4,4,4,4,4,4,4,4,4,4,4,4,4,4,4,4,4,4,4,4,4,4,4,4,4,4,4,4,4,4,4,4,4,4,4,4,4,4,4,4,4,4,4,4,4,4,4,4,4,4,4,4,4,4,4,4,4,4,4,4,4,4,4,4,4,4,4,4,4,4,4,4,4,4,4,4,4,4,4,4,4,4,4,4,4,4,4,4,4,4,4,4,4,4,4,4,4,4,4,4,4,4,4,4,4,4,4,4,4,4,4,4,4,4,4,4,4,4,4,4,4,4,4,4,4,4,4,4,4,4,4,4,4,4,4,4,4,4,4,4,4,4,4,4,4,4,4,4,4,4,4,4,4,4,4,4,4,4,4,4,4,4,4,4,4,4,4,4,4,4,4,4,4,4,4,4,4,4,4,4,4,4,4,4,4,4,4,4,4,4,4,4,4,4,4,4,4,4,4,4,4,4,4,4,4,4,4,4,4,4,4,4,4,4,4,4,4,4,4,4,4,4,4,4,4,4,4,4,4,4,4,4,4,4,4,4,4,4,4,4,4,4,4,4,4,4,4,4,4,4,4,4,4,4,4,4,4,4,4,4,4,4,4,4,4,4,4,4,4,4,4,4,4,4,4,4,4,4,4,4,4,4,4,4,4,4,4,4,4,4,4,4,4,4,4,4,4,4,4,4,4,4,4,4,4,4,4,4,4,4,4,4,4,4,4,4,4,4,4,4,4,4,4,4,4,4,4,4,4,4,4,4,4,4,4,4,4,4,4,4,4,4,4,4,4,4,4,4,4,4,4,4,4,4,4,4,4,4,4,4,4,4,4,4,4,4,4,4,4,4,4,4,4,4,4,4,4,4,4,4,4,4,4,4,4,4,4,4,4,4,4,4,4,4,4,4,4,4,4,4,4,4,4,4,4,4,4,4,4,4,4,4,4,4,4,4,4,4,4,4,4,4,4,4,4,4,4,4,4,4,4,4,4,4,4,4,4,4,4,4,4,4,4,4,4,4,4,4,4,4,4,4,4,4,4,4,4,4,4,4,4,4,4,4,4,4,4,4,4,4,4,4,4,4,4,4,4,4,4,4,4,4,4,4,4,4,4,4,4,4,4,4,4,4,4,4,4,4,4,4,4,4,4,4,4,4,4,4,4,4,4,4,4,4,4,4,4,4,4,4,4,4,4,4,4,4,4,4,4,4,4,4,4,4,4,4,4,4,4,4,4,4,4,4,4,4,4,4,4,4,4,4,4,4,4,4,4,4,4,4,4,4,4,4,4,4,4,4,4,4,4,4,4,4,4,4,4,4,4,4,4,4,4,4,4,4,4,4,4,4,4,4,4,4,4,4,4,4,4,4,4,4,4,4,4,4,4,4,4,4,4,4,4,4,4,4,4,4,4,4,4,4,4,4,4,4,4,4,4,4,4,4,4,4,4,4,4,4,4,4,4,4,4,4,4,4,4,4,4,4,4,4,4,4,4,4,4,4,4,4,4,4,4,4,4,4,4,4,4,4,4,4,4,4,4,4,4,4,4,4,4,4,4,4,4,4,4,4,4,4,4,4,4,4,4,4,4,4,4,4,4,4,4,4,4,4,4,4,4,4,4,4,4,4,4,4,4,4,4,4,4,4,4,4,4,4,4,4,4,4,4,4,4,4,4,4,4,4,4,4,4,4,4,4,4,4,4,4,4,4,4,4,4,4,4,4,4,4,4,4,4,4,4,4,4,4,4,4,4,4,4,4,4,4,4,4,4,4,4,4,4,4,4,4,4,4,4,4,4,4,4,4,4,4,4,4,4,4,4,4,4,4,4,4,4,4,4,4,4,4,4,4,4,4,4,4,4,4,4,4,4,4,4,4,4,4,4,4,4,4,4,4,4,4,4,4,4,4,4,4,4,4,4,4,4,4,4,4,4,4,4,4,4,4,4,4,4,4,4,4,4,4,4,4,4,4,4,4,4,4,4,4,4,4,4,4,4,4,4,4,4,4,4,4,4,4,4,4,4,4,4,4,4,4,4,4,4,4,4,4,4,4,4,4,4,4,4,4,4,4,4,4,4,4,4,4,4,4,4,4,4,4,4,4,4,4,4,4,4,4,4,4,4,4,4,4,4,4,4,4,4,4,4,4,4,4,4,4,4,4,4,4,4,4,4,4,4,4,4,4,4,4,4,4,4,4,4,4,4,4,4,4,4,4,4,4,4,4,4,4,4,4,4,4,4,4,4,4,4,4,4,4,4,4,4,4,4,4,4,4,4,4,4,4,4,4,4,4,4,4,4,4,4,4,4,4,4,4,4,4,4,4,4,4,4,4,4,4,4,4,4,4,4,4,4,4,4,4,4,4,4,4,4,4,4,4,4,4,4,4,4,4,4,4,4,4,4,4,4,4,4,4,4,4,4,4,4,4,4,4,4,4,4,4,4,4,4,4,4,4,4,4,4,4,4,4,4,4,4,4,4,4,4,4,4,4,4,4,4,4,4,4,4,4,4,4,4,4,4,4,4,4,4,4,4,4,4,4,4,4,4,4,4,4,4,4,4,4,4,4,4,4,4,4,4,4,4,4,4,4,4,4,4,4,4,4,4,4,4,4,4,4,4,4,4,4,4,4,4,4,4,4,4,4,4,4,4,4,4,4,4,4,4,4,4,4,4,4,4,4,4,4,4,4,4,4,4,4,4,4,4,4,4,4,4,4,4,4,4,4,4,4,4,4,4,4,4,4,4,4,4,4,4,4,4,4,4,4,4,4,4,4,4,4,4,4,4,4,4,4,4,4,4,4,4,4,4,4,4,4,4,4,4,4,4,4,4,4,4,4,4,4,4,4,4,4,4,4,4,4,4,4,4,4,4,4,4,4,4,4,4,4,4,4,4,4,4,4,4,4,4,4,4,4,4,4,4,4,4,4,4,4,4,4,4,4,4,4,4,4,4,4,4,4,4,4,4,4,4,4,4,4,4,4,4,4,4,4,4,4,4,4,4,4,4,4,4,4,4,4,4,4,4,4,4,4,4,4,4,4,4,4,4,4,4,4,4,4,4,4,4,4,4,4,4,4,4,4,4,4,4,4,4,4,4,4,4,4,4,4,4,4,4,4,4,4,4,4,4,4,4,4,4,4,4,4,4,4,4,4,4,4,4,4,4,4,4,4,4,4,4,4,4,4,4,4,4,4,4,4,4,4,4,4,4,4,4,4,4,4,4,4,4,4,4,4,4,4,4,4,4,4,4,4,4,4,4,4,4,4,4,4,4,4,4,4,4,4,4,4,4,4,4,4,4,4,4,4,4,4,4,4,4,4,4,4,4,4,4,4,4,4,4,4,4,4,4,4,4,4,4,4,4,4,4,4,4,4,4,4,4,4,4,4,4,4,4,4,4,4,4,4,4,4,4,4,4,4,4,4,4,4,4,4,4,4,4,4,4,4,4,4,4,4,4,4,4,4,4,4,4,4,4,4,4,4,4,4,4,4,4,4,4,4,4,4,4,4,4,4,4,4,4,4,4,4,4,4,4,4,4,4,4,4,4,4,4,4,4,4,4,4,4,4,4,4,4,4,4,4,4,4,4,4,4,4,4,4,4,4,4,4,4,4,4,4,4,4,4,4,4,4,4,4,4,4,4,4,4,4,4,4,4,4,4,4,4,4,4,4,4,4,4,4,4,4,4,4,4,4,4,4,4,4,4,4,4,4,4,4,4,4,4,4,4,4,4,4,4,4,4,4,4,4,4,4,4,4,4,4,4,4,4,4,4,4,4,4,4,4,4,4,4,4,4,4,4,4,4,4,4,4,4,4,4,4,4,4,4,4,4,4,4,4,4,4,4,4,4,4,4,4,4,4,4,4,4,4,4,4,4,4,4,4,4,4,4,4,4,4,4,4,4,4,4,4,4,4,4,4,4,4,4,4,4,4,4,4,4,4,4,4,4,4,4,4,4,4,4,4,4,4,4,4,4,4,4,4,4,4,4,4,4,4,4,4,4,4,4,4,4,4,4,4,4,4,4,4,4,4,4,4,4,4,4,4,4,4,4,4,4,4,4,4,4,4,4,4,4,4,4,4,4,4,4,4,4,4,4,4,4,4,4,4,4,4,4,4,4,4,4,4,4,4,4,4,4,4,4,4,4,4,4,4,4,4,4,4,4,4,4,4,4,4,4,4,4,4,4,4,4,4,4,4,4,4,4,4,4,4,4,4,4,4,4,4,4,4,4,4,4,4,4,4,4,4,4,4,4,4,4,4,4,4,4,4,4,4,4,4,4,4,4,4,4,4,4,4,4,4,4,4,4,4,4,4,4,4,4,4,4,4,4,4,4,4,4,4,4,4,4,4,4,4,4,4,4,4,4,4,4,4,4,4,4,4,4,4,4,4,4,4,4,4,4,4,4,4,4,4,4,4,4,4,4,4,4,4,4,4,4,4,4,4,4,4,4,4,4,4,4,4,4,4,4,4,4,4,4,4,4,4,4,4,4,4,4,4,4,4,4,4,4,4,4,4,4,4,4,4,4,4,4,4,4,4,4,4,4,4,4,4,4,4,4,4,4,4,4,4,4,4,4,4,4,4,4,4,4,4,4,4,4,4,4,4,4,4,4,4,4,4,4,4,4,4,4,4,4,4,4,4,4,4,4,4,4,4,4,4,4,4,4,4,4,4,4,4,4,4,4,4,4,4,4,4,4,4,4,4,4,4,4,4,4,4,4,4,4,4,4,4,4,4,4,4,4,4,4,4,4,4,4,4,4,4,4,4,4,4,4,4,4,4,4,4,4,4,4,4,4,4,4,4,4,4,4,4,4,4,4,4,4,4,4,4,4,4,4,4,4,4,4,4,4,4,4,4,4,4,4,4,4,4,4,4,4,4,4,4,4,4,4,4,4,4,4,4,4,4,4,4,4,4,4,4,4,4,4,4,4,4,4,4,4,4,4,4,4,4,4,4,4,4,4,4,4,4,4,4,4,4,4,4,4,4,4,4,4,4,4,4,4,4,4,4,4,4,4,4,4,4,4,4,4,4,4,4,4,4,4,4,4,4,4,4,4,4,4,4,4,4,4,4,4,4,4,4,4,4,4,4,4,4,4,4,4,4,4,4,4,4,4,4,4,4,4,4,4,4,4,4,4,4,4,4,4,4,4,4,4,4,4,4,4,4,4,4,4,4,4,4,4,4,4,4,4,4,4,4,4,4,4,4,4,4,4,4,4,4,4,4,4,4,4,4,4,4,4,4,4,4,4,4,4,4,4,4,4,4,4,4,4,4,4,4,4,4,4,4,4,4,4,4,4,4,4,4,4,4,4,4,4,4,4,4,4,4,4,4,4,4,4,4,4,4,4,4,4,4,4,4,4,4,4,4,4,4,4,4,4,4,4,4,4,4,4,4,4,4,4,4,4,4,4,4,4,4,4,4,4,4,4,4,4,4,4,4,4,4,4,4,4,4,4,4,4,4,4,4,4,4,4,4,4,4,4,4,4,4,4,4,4,4,4,4,4,4,4,4,4,4,4,4,4,4,4,4,4,4,4,4,4,4,4,4,4,4,4,4,4,4,4,4,4,4,4,4,4,4,4,4,4,4,4,4,4,4,4,4,4,4,4,4,4,4,4,4,4,4,4,4,4,4,4,4,4,4,4,4,4,4,4,4,4,4,4,4,4,4,4,4,4,4,4,4,4,4,4,4,4,4,4,4,4,4,4,4,4,4,4,4,4,4,4,4,4,4,4,4,4,4,4,4,4,4,4,4,4,4,4,4,4,4,4,4,4,4,4,4,4,4,4,4,4,4,4,4,4,4,4,4,4,4,4,4,4,4,4,4,4,4,4,4,4,4,4,4,4,4,4,4,4,4,4,4,4,4,4,4,4,4,4,4,4,4,4,4,4,4,4,4,4,4,4,4,4,4,4,4,4,4,4,4,4,4,4,4,4,4,4,4,4,4,4,4,4,4,4,4,4,4,4,4,4,4,4,4,4,4,4,4,4,4,4,4,4,4,4,4,4,4,4,4,4,4,4,4,4,4,4,4,4,4,4,4,4,4,4,4,4,4,4,4,4,4,4,4,4,4,4,4,4,4,4,4,4,4,4,4,4,4,4,4,4,4,4,4,4,4,4,4,4,4,4,4,4,4,4,4,4,4,4,4,4,4,4,4,4,4,4,4,4,4,4,4,4,4,4,4,4,4,4,4,4,4,4,4,4,4,4,4,4,4,4,4,4,4,4,4,4,4,4,4,4,4,4,4,4,4,4,4,4,4,4,4,4,4,4,4,4,4,4,4,4,4,4,4,4,4,4,4,4,4,4,4,4,4,4,4,4,4,4,4,4,4,4,4,4,4,4,4,4,4,4,4,4,4,4,4,4,4,4,4,4,4,4,4,4,4,4,4,4,4,4,4,4,4,4,4,4,4,4,4,4,4,4,4,4,4,4,4,4,4,4,4,4,4,4,4,4,4,4,4,4,4,4,4,4,4,4,4,4,4,4,4,4,4,4,4,4,4,4,4,4,4,4,4,4,4,4,4,4,4,4,4,4,4,4,4,4,4,4,4,4,4,4,4,4,4,4,4,4,4,4,4,4,4,4,4,4,4,4,4,4,4,4,4,4,4,4,4,4,4,4,4,4,4,4,4,4,4,4,4,4,4,4,4,4,4,4,4,4,4,4,4,4,4,4,4,4,4,4,4,4,4,4,4,4,4,4,4,4,4,4,4,4,4,4,4,4,4,4,4,4,4,4,4,4,4,4,4,4,4,4,4,4,4,4,4,4,4,4,4,4,4,4,4,4,4,4,4,4,4,4,4,4,4,4,4,4,4,4,4,4,4,4,4,4,4,4,4,4,4,4,4,4,4,4,4,4,4,4,4,4,4,4,4,4,4,4,4,4,4,4,4,4,4,4,4,4,4,4,4,4,4,4,4,4,4,4,4,4,4,4,4,4,4,4,4,4,4,4,4,4,4,4,4,4,4,4,4,4,4,4,4,4,4,4,4,4,4,4,4,4,4,4,4,4,4,4,4,4,4,4,4,4,4,4,4,4,4,4,4,4,4,4,4,4,4,4,4,4,4,4,4,4,4,4,4,4,4,4,4,4,4,4,4,4,4,4,4,4,4,4,4,4,4,4,4,4,4,4,4,4,4,4,4,4,4,4,4,4,4,4,4,4,4,4,4,4,4,4,4,4,4,4,4,4,4,4,4,4,4,4,4,4,4,4,4,4,4,4,4,4,4,4,4,4,4,4,4,4,4,4,4,4,4,4,4,4,4,4,4,4,4,4,4,4,4,4,4,4,4,4,4,4,4,4,4,4,4,4,4,4,4,4,4,4,4,4,4,4,4,4,4,4,4,4,4,4,4,4,4,4,4,4,4,4,4,4,4,4,4,4,4,4,4,4,4,4,4,4,4,4,4,4,4,4,4,4,4,4,4,4,4,4,4,4,4,4,4,4,4,4,4,4,4,4,4,4,4,4,4,4,4,4,4,4,4,4,4,4,4,4,4,4,4,4,4,4,4,4,4,4,4,4,4,4,4,4,4,4,4,4,4,4,4,4,4,4,4,4,4,4,4,4,4,4,4,4,4,4,4,4,4,4,4,4,4,4,4,4,4,4,4,4,4,4,4,4,4,4,4,4,4,4,4,4,4,4,4,4,4,4,4,4,4,4,4,4,4,4,4,4,4,4,4,4,4,4,4,4,4,4,4,4,4,4,4,4,4,4,4,4,4,4,4,4,4,4,4,4,4,4,4,4,4,4,4,4,4,4,4,4,4,4,4,4,4,4,4,4,4,4,4,4,4,4,4,4,4,4,4,4,4,4,4,4,4,4,4,4,4,4,4,4,4,4,4,4,4,4,4,4,4,4,4,4,4,4,4,4,4,4,4,4,4,4,4,4,4,4,4,4,4,4,4,4,4,4,4,4,4,4,4,4,4,4,4,4,4,4,4,4,4,4,4,4,4,4,4,4,4,4,4,4,4,4,4,4,4,4,4,4,4,4,4,4,4,4,4,4,4,4,4,4,4,4,4,4,4,4,4,4,4,4,4,4,4,4,4,4,4,4,4,4,4,4,4,4,4,4,4,4,4,4,4,4,4,4,4,4,4,4,4,4,4,4,4,4,4,4,4,4,4,4,4,4,4,4,4,4,4,4,4,4,4,4,4,4,4,4,4,4,4,4,4,4,4,4,4,4,4,4,4,4,4,4,4,4,4,4,4,4,4,4,4,4,4,4,4,4,4,4,4,4,4,4,4,4,4,4,4,4,4,4,4,4,4,4,4,4,4,4,4,4,4,4,4,4,4,4,4,4,4,4,4,4,4,4,4,4,4,4,4,4,4,4,4,4,4,4,4,4,4,4,4,4,4,4,4,4,4,4,4,4,4,4,4,4,4,4,4,4,4,4,4,4,4,4,4,4,4,4,4,4,4,4,4,4,4,4,4,4,4,4,4,4,4,4,4,4,4,4,4,4,4,4,4,4,4,4,4,4,4,4,4,4,4,4,4,4,4,4,4,4,4,4,4,4,4,4,4,4,4,4,4,4,4,4,4,4,4,4,4,4,4,4,4,4,4,4,4,4,4,4,4,4,4,4,4,4,4,4,4,4,4,4,4,4,4,4,4,4,4,4,4,4,4,4,4,4,4,4,4,4,4,4,4,4,4,4,4,4,4,4,4,4,4,4,4,4,4,4,4,4,4,4,4,4,4,4,4,4,4,4,4,4,4,4,4,4,4,4,4,4,4,4,4,4,4,4,4,4,4,4,4,4,4,4,4,4,4,4,4,4,4,4,4,4,4,4,4,4,4,4,4,4,4,4,4,4,4,4,4,4,4,4,4,4,4,4,4,4,4,4,4,4,4,4,4,4,4,4,4,4,4,4,4,4,4,4,4,4,4,4,4,4,4,4,4,4,4,4,4,4,4,4,4,4,4,4,4,4,4,4,4,4,4,4,4,4,4,4,4,4,4,4,4,4,4,4,4,4,4,4,4,4,4,4,4,4,4,4,4,4,4,4,4,4,4,4,4,4,4,4,4,4,4,4,4,4,4,4,4,4,4,4,4,4,4,4,4,4,4,4,4,4,4,4,4,4,4,4,4,4,4,4,4,4,4,4,4,4,4,4,4,4,4,4,4,4,4,4,4,4,4,4,4,4,4,4,4,4,4,4,4,4,4,4,4,4,4,4,4,4,4,4,4,4,4,4,4,4,4,4,4,4,4,4,4,4,4,4,4,4,4,4,4,4,4,4,4,4,4,4,4,4,4,4,4,4,4,4,4,4,4,4,4,4,4,4,4,4,4,4,4,4,4,4,4,4,4,4,4,4,4,4,4,4,4,4,4,4,4,4,4,4,4,4,4,4,4,4,4,4,4,4,4,4,4,4,4,4,4,4,4,4,4,4,4,4,4,4,4,4,4,4,4,4,4,4,4,4,4,4,4,4,4,4,4,4,4,4,4,4,4,4,4,4,4,4,4,4,4,4,4,4,4,4,4,4,4,4,4,4,4,4,4,4,4,4,4,4,4,4,4,4,4,4,4,4,4,4,4,4,4,4,4,4,4,4,4,4,4,4,4,4,4,4,4,4,4,4,4,4,4,4,4,4,4,4,4,4,4,4,4,4,4,4,4,4,4,4,4,4,4,4,4,4,4,4,4,4,4,4,4,4,4,4,4,4,4,4,4,4,4,4,4,4,4,4,4,4,4,4,4,4,4,4,4,4,4,4,4,4,4,4,4,4,4,4,4,4,4,4,4,4,4,4,4,4,4,4,4,4,4,4,4,4,4,4,4,4,4,4,4,4,4,4,4,4,4,4,4,4,4,4,4,4,4,4,4,4,4,4,4,4,4,4,4,4,4,4,4,4,4,4,4,4,4,4,4,4,4,4,4,4,4,4,4,4,4,4,4,4,4,4,4,4,4,4,4,4,4,4,4,4,4,4,4,4,4,4,4,4,4,4,4,4,4,4,4,4,4,4,4,4,4,4,4,4,4,4,4,4,4,4,4,4,4,4,4,4,4,4,4,4,4,4,4,4,4,4,4,4,4,4,4,4,4,4,4,4,4,4,4,4,4,4,4,4,4,4,4,4,4,4,4,4,4,4,4,4,4,4,4,4,4,4,4,4,4,4,4,4,4,4,4,4,4,4,4,4,4,4,4,4,4,4,4,4,4,4,4,4,4,4,4,4,4,4,4,4,4,4,4,4,4,4,4,4,4,4,4,4,4,4,4,4,4,4,4,4,4,4,4,4,4,4,4,4,4,4,4,4,4,4,4,4,4,4,4,4,4,4,4,4,4,4,4,4,4,4,4,4,4,4,4,4,4,4,4,4,4,4,4,4,4,4,4,4,4,4,4,4,4,4,4,4,4,4,4,4,4,4,4,4,4,4,4,4,4,4,4,4,4,4,4,4,4,4,4,4,4,4,4,4,4,4,4,4,4,4,4,4,4,4,4,4,4,4,4,4,4,4,4,4,4,4,4,4,4,4,4,4,4,4,4,4,4,4,4,4,4,4,4,4,4,4,4,4,4,4,4,4,4,4,4,4,4,4,4,4,4,4,4,4,4,4,4,4,4,4,4,4,4,4,4,4,4,4,4,4,4,4,4,4,4,4,4,4,4,4,4,4,4,4,4,4,4,4,4,4,4,4,4,4,4,4,4,4,4,4,4,4,4,4,4,4,4,4,4,4,4,4,4,4,4,4,4,4,4,4,4,4,4,4,4,4,4,4,4,4,4,4,4,4,4,4,4,4,4,4,4,4,4,4,4,4,4,4,4,4,4,4,4,4,4,4,4,4,4,4,4,4,4,4,4,4,4,4,4,4,4,4,4,4,4,4,4,4,4,4,4,4,4,4,4,4,4,4,4,4,4,4,4,4,4,4,4,4,4,4,4,4,4,4,4,4,4,4,4,4,4,4,4,4,4,4,4,4,4,4,4,4,4,4,4,4,4,4,4,4,4,4,4,4,4,4,4,4,4,4,4,4,4,4,4,4,4,4,4,4,4,4,4,4,4,4,4,4,4,4,4,4,4,4,4,4,4,4,4,4,4,4,4,4,4,4,4,4,4,4,4,4,4,4,4,4,4,4,4,4,4,4,4,4,4,4,4,4,4,4,4,4,4,4,4,4,4,4,4,4,4,4,4,4,4,4,4,4,4,4,4,4,4,4,4,4,4,4,4,4,4,4,4,4,4,4,4,4,4,4,4,4,4,4,4,4,4,4,4,4,4,4,4,4,4,4,4,4,4,4,4,4,4,4,4,4,4,4,4,4,4,4,4,4,4,4,4,4,4,4,4,4,4,4,4,4,4,4,4,4,4,4,4,4,4,4,4,4,4,4,4,4,4,4,4,4,4,4,4,4,4,4,4,4,4,4,4,4,4,4,4,4,4,4,4,4,4,4,4,4,4,4,4,4,4,4,4,4,4,4,4,4,4,4,4,4,4,4,4,4,4,4,4,4,4,4,4,4,4,4,4,4,4,4,4,4,4,4,4,4,4,4,4,4,4,4,4,4,4,4,4,4,4,4,4,4,4,4,4,4,4,4,4,4,4,4,4,4,4,4,4,4,4,4,4,4,4,4,4,4,4,4,4,4,4,4,4,4,4,4,4,4,4,4,4,4,4,4,4,4,4,4,4,4,4,4,4,4,4,4,4,4,4,4,4,4,4,4,4,4,4,4,4,4,4,4,4,4,4,4,4,4,4,4,4,4,4,4,4,4,4,4,4,4,4,4,4,4,4,4,4,4,4,4,4,4,4,4,4,4,4,4,4,4,4,4,4,4,4,4,4,4,4,4,4,4,4,4,4,4,4,4,4,4,4,4,4,4,4,4,4,4,4,4,4,4,4,4,4,4,4,4,4,4,4,4,4,4,4,4,4,4,4,4,4,4,4,4,4,4,4,4,4,4,4,4,4,4,4,4,4,4,4,4,4,4,4,4,4,4,4,4,4,4,4,4,4,4,4,4,4,4,4,4,4,4,4,4,4,4,4,4,4,4,4,4,4,4,4,4,4,4,4,4,4,4,4,4,4,4,4,4,4,4,4,4,4,4,4,4,4,4,4,4,4,4,4,4,4,4,4,4,4,4,4,4,4,4,4,4,4,4,4,4,4,4,4,4,4,4,4,4,4,4,4,4,4,4,4,4,4,4,4,4,4,4,4,4,4,4,4,4,4,4,4,4,4,4,4,4,4,4,4,4,4,4,4,4,4,4,4,4,4,4,4,4,4,4,4,4,4,4,4,4,4,4,4,4,4,4,4,4,4,4,4,4,4,4,4,4,4,4,4,4,4,4,4,4,4,4,4,4,4,4,4,4,4,4,4,4,4,4,4,4,4,4,4,4,4,4,4,4,4,4,4,4,4,4,4,4,4,4,4,4,4,4,4,4,4,4,4,4,4,4,4,4,4,4,4,4,4,4,4,4,4,4,4,4,4,4,4,4,4,4,4,4,4,4,4,4,4,4,4,4,4,4,4,4,4,4,4,4,4,4,4,4,4,4,4,4,4,4,4,4,4,4,4,4,4,4,4,4,4,4,4,4,4,4,4,4,4,4,4,4,4,4,4,4,4,4,4,4,4,4,4,4,4,4,4,4,4,4,4,4,4,4,4,4,4,4,4,4,4,4,4,4,4,4,4,4,4,4,4,4,4,4,4,4,4,4,4,4,4,4,4,4,4,4,4,4,4,4,4,4,4,4,4,4,4,4,4,4,4,4,4,4,4,4,4,4,4,4,4,4,4,4,4,4,4,4,4,4,4,4,4,4,4,4,4,4,4,4,4,4,4,4,4,4,4,4,4,4,4,4,4,4,4,4,4,4,4,4,4,4,4,4,4,4,4,4,4,4,4,4,4,4,4,4,4,4,4,4,4,4,4,4,4,4,4,4,4,4,4,4,4,4,4,4,4,4,4,4,4,4,4,4,4,4,4,4,4,4,4,4,4,4,4,4,4,4,4,4,4,4,4,4,4,4,4,4,4,4,4,4,4,4,4,4,4,4,4,4,4,4,4,4,4,4,4,4,4,4,4,4,4,4,4,4,4,4,4,4,4,4,4,4,4,4,4,4,4,4,4,4,4,4,4,4,4,4,4,4,4,4,4,4,4,4,4,4,4,4,4,4,4,4,4,4,4,4,4,4,4,4,4,4,4,4,4,4,4,4,4,4,4,4,4,4,4,4,4,4,4,4,4,4,4,4,4,4,4,4,4,4,4,4,4,4,4,4,4,4,4,4,4,4,4,4,4,4,4,4,4,4,4,4,4,4,4,4,4,4,4,4,4,4,4,4,4,4,4,4,4,4,4,4,4,4,4,4,4,4,4,4,4,4,4,4,4,4,4,4,4,4,4,4,4,4,4,4,4,4,4,4,4,4,4,4,4,4,4,4,4,4,4,4,4,4,4,4,4,4,4,4,4,4,4,4,4,4,4,4,4,4,4,4,4,4,4,4,4,4,4,4,4,4,4,4,4,4,4,4,4,4,4,4,4,4,4,4,4,4,4,4,4,4,4,4,4,4,4,4,4,4,4,4,4,4,4,4,4,4,4,4,4,4,4,4,4,4,4,4,4,4,4,4,4,4,4,4,4,4,4,4,4,4,4,4,4,4,4,4,4,4,4,4,4,4,4,4,4,4,4,4,4,4,4,4,4,4,4,4,4,4,4,4,4,4,4,4,4,4,4,4,4,4,4,4,4,4,4,4,4,4,4,4,4,4,4,4,4,4,4,4,4,4,4,4,4,4,4,4,4,4,4,4,4,4,4,4,4,4,4,4,4,4,4,4,4,4,4,4,4,4,4,4,4,4,4,4,4,4,4,4,4,4,4,4,4,4,4,4,4,4,4,4,4,4,4,4,4,4,4,4,4,4,4,4,4,4,4,4,4,4,4,4,4,4,4,4,4,4,4,4,4,4,4,4,4,4,4,4,4,4,4,4,4,4,4,4,4,4,4,4,4,4,4,4,4,4,4,4,4,4,4,4,4,4,4,4,4,4,4,4,4,4,4,4,4,4,4,4,4,4,4,4,4,4,4,4,4,4,4,4,4,4,4,4,4,4,4,4,4,4,4,4,4,4,4,4,4,4,4,4,4,4,4,4,4,4,4,4,4,4,4,4,4,4,4,4,4,4,4,4,4,4,4,4,4,4,4,4,4,4,4,4,4,4,4,4,4,4,4,4,4,4,4,4,4,4,4,4,4,4,4,4,4,4,4,4,4,4,4,4,4,4,4,4,4,4,4,4,4,4,4,4,4,4,4,4,4,4,4,4,4,4,4,4,4,4,4,4,4,4,4,4,4,4,4,4,4,4,4,4,4,4,4,4,4,4,4,4,4,4,4,4,4,4,4,4,4,4,4,4,4,4,4,4,4,4,4,4,4,4,4,4,4,4,4,4,4,4,4,4,4,4,4,4,4,4,4,4,4,4,4,4,4,4,4,4,4,4,4,4,4,4,4,4,4,4,4,4,4,4,4,4,4,4,4,4,4,4,4,4,4,4,4,4,4,4,4,4,4,4,4,4,4,4,4,4,4,4,4,4,4,4,4,4,4,4,4,4,4,4,4,4,4,4,4,4,4,4,4,4,4,4,4,4,4,4,4,4,4,4,4,4,4,4,4,4,4,4,4,4,4,4,4,4,4,4,4,4,4,4,4,4,4,4,4,4,4,4,4,4,4,4,4,4,4,4,4,4,4,4,4,4,4,4,4,4,4,4,4,4,4,4,4,4,4,4,4,4,4,4,4,4,4,4,4,4,4,4,4,4,4,4,4,4,4,4,4,4,4,4,4,4,4,4,4,4,4,4,4,4,4,4,4,4,4,4,4,4,4,4,4,4,4,4,4,4,4,4,4,4,4,4,4,4,4,4,4,4,4,4,4,4,4,4,4,4,4,4,4,4,4,4,4,4,4,4,4,4,4,4,4,4,4,4,4,4,4,4,4,4,4,4,4,4,4,4,4,4,4,4,4,4,4,4,4,4,4,4,4,4,4,4,4,4,4,4,4,4,4,4,4,4,4,4,4,4,4,4,4,4,4,4,4,4,4,4,4,4,4,4,4,4,4,4,4,4,4,4,4,4,4,4,4,4,4,4,4,4,4,4,4,4,4,4,4,4,4,4,4,4,4,4,4,4,4,4,4,4,4,4,4,4,4,4,4,4,4,4,4,4,4,4,4,4,4,4,4,4,4,4,4,4,4,4,4,4,4,4,4,4,4,4,4,4,4,4,4,4,4,4,4,4,4,4,4,4,4,4,4,4,4,4,4,4,4,4,4,4,4,4,4,4,4,4,4,4,4,4,4,4,4,4,4,4,4,4,4,4,4,4,4,4,4,4,4,4,4,4,4,4,4,4,4,4,4,4,4,4,4,4,4,4,4,4,4,4,4,4,4,4,4,4,4,4,4,4,4,4,4,4,4,4,4,4,4,4,4,4,4,4,4,4,4,4,4,4,4,4,4,4,4,4,4,4,4,4,4,4,4,4,4,4,4,4,4,4,4,4,4,4,4,4,4,4,4,4,4,4,4,4,4,4,4,4,4,4,4,4,4,4,4,4,4,4,4,4,4,4,4,4,4,4,4,4,4,4,4,4,4,4,4,4,4,4,4,4,4,4,4,4,4,4,4,4,4,4,4,4,4,4,4,4,4,4,4,4,4,4,4,4,4,4,4,4,4,4,4,4,4,4,4,4,4,4,4,4,4,4,4,4,4,4,4,4,4,4,4,4,4,4,4,4,4,4,4,4,4,4,4,4,4,4,4,4,4,4,4,4,4,4,4,4,4,4,4,4,4,4,4,4,4,4,4,4,4,4,4,4,4,4,4,4,4,4,4,4,4,4,4,4,4,4,4,4,4,4,4,4,4,4,4,4,4,4,4,4,4,4,4,4,4,4,4,4,4,4,4,4,4,4,4,4,4,4,4,4,4,4,4,4,4,4,4,4,4,4,4,4,4,4,4,4,4,4,4,4,4,4,4,4,4,4,4,4,4,4,4,4,4,4,4,4,4,4,4,4,4,4,4,4,4,4,4,4,4,4,4,4,4,4,4,4,4,4,4,4,4,4,4,4,4,4,4,4,4,4,4,4,4,4,4,4,4,4,4,4,4,4,4,4,4,4,4,4,4,4,4,4,4,4,4,4,4,4,4,4,4,4,4,4,4,4,4,4,4,4,4,4,4,4,4,4,4,4,4,4,4,4,4,4,4,4,4,4,4,4,4,4,4,4,4,4,4,4,4,4,4,4,4,4,4,4,4,4,4,4,4,4,4,4,4,4,4,4,4,4,4,4,4,4,4,4,4,4,4,4,4,4,4,4,4,4,4,4,4,4,4,4,4,4,4,4,4,4,4,4,4,4,4,4,4,4,4,4,4,4,4,4,4,4,4,4,4,4,4,4,4,4,4,4,4,4,4,4,4,4,4,4,4,4,4,4,4,4,4,4,4,4,4,4,4,4,4,4,4,4,4,4,4,4,4,4,4,4,4,4,4,4,4,4,4,4,4,4,4,4,4,4,4,4,4,4,4,4,4,4,4,4,4,4,4,4,4,4,4,4,4,4,4,4,4,4,4,4,4,4,4,4,4,4,4,4,4,4,4,4,4,4,4,4,4,4,4,4,4,4,4,4,4,4,4,4,4,4,4,4,4,4,4,4,4,4,4,4,4,4,4,4,4,4,4,4,4,4,4,4,4,4,4,4,4,4,4,4,4,4,4,4,4,4,4,4,4,4,4,4,4,4,4,4,4,4,4,4,4,4,4,4,4,4,4,4,4,4,4,4,4,4,4,4,4,4,4,4,4,4,4,4,4,4,4,4,4,4,4,4,4,4,4,4,4,4,4,4,4,4,4,4,4,4,4,4,4,4,4,4,4,4,4,4,4,4,4,4,4,4,4,4,4,4,4,4,4,4,4,4,4,4,4,4,4,4,4,4,4,4,4,4,4,4,4,4,4,4,4,4,4,4,4,4,4,4,4,4,4,4,4,4,4,4,4,4,4,4,4,4,4,4,4,4,4,4,4,4,4,4,4,4,4,4,4,4,4,4,4,4,4,4,4,4,4,4,4,4,4,4,4,4,4,4,4,4,4,4,4,4,4,4,4,4,4,4,4,4,4,4,4,4,4,4,4,4,4,4,4,4,4,4,4,4,4,4,4,4,4,4,4,4,4,4,4,4,4,4,4,4,4,4,4,4,4,4,4,4,4,4,4,4,4,4,4,4,4,4,4,4,4,4,4,4,4,4,4,4,4,4,4,4,4,4,4,4,4,4,4,4,4,4,4,4,4,4,4,4,4,4,4,4,4,4,4,4,4,4,4,4,4,4,4,4,4,4,4,4,4,4,4,4,4,4,4,4,4,4,4,4,4,4,4,4,4,4,4,4,4,4,4,4,4,4,4,4,4,4,4,4,4,4,4,4,4,4,4,4,4,4,4,4,4,4,4,4,4,4,4,4,4,4,4,4,4,4,4,4,4,4,4,4,4,4,4,4,4,4,4,4,4,4,4,4,4,4,4,4,4,4,4,4,4,4,4,4,4,4,4,4,4,4,4,4,4,4,4,4,4,4,4,4,4,4,4,4,4,4,4,4,4,4,4,4,4,4,4,4,4,4,4,4,4,4,4,4,4,4,4,4,4,4,4,4,4,4,4,4,4,4,4,4,4,4,4,4,4,4,4,4,4,4,4,4,4,4,4,4,4,4,4,4,4,4,4,4,4,4,4,4,4,4,4,4,4,4,4,4,4,4,4,4,4,4,4,4,4,4,4,4,4,4,4,4,4,4,4,4,4,4,4,4,4,4,4,4,4,4,4,4,4,4,4,4,4,4,4,4,4,4,4,4,4,4,4,4,4,4,4,4,4,4,4,4,4,4,4,4,4,4,4,4,4,4,4,4,4,4,4,4,4,4,4,4,4,4,4,4,4,4,4,4,4,4,4,4,4,4,4,4,4,4,4,4,4,4,4,4,4,4,4,4,4,4,4,4,4,4,4,4,4,4,4,4,4,4,4,4,4,4,4,4,4,4,4,4,4,4,4,4,4,4,4,4,4,4,4,4,4,4,4,4,4,4,4,4,4,4,4,4,4,4,4,4,4,4,4,4,4,4,4,4,4,4,4,4,4,4,4,4,4,4,4,4,4,4,4,4,4,4,4,4,4,4,4,4,4,4,4,4,4,4,4,4,4,4,4,4,4,4,4,4,4,4,4,4,4,4,4,4,4,4,4,4,4,4,4,4,4,4,4,4,4,4,4,4,4,4,4,4,4,4,4,4,4,4,4,4,4,4,4,4,4,4,4,4,4,4,4,4,4,4,4,4,4,4,4,4,4,4,4,4,4,4,4,4,4,4,4,4,4,4,4,4,4,4,4,4,4,4,4,4,4,4,4,4,4,4,4,4,4,4,4,4,4,4,4,4,4,4,4,4,4,4,4,4,4,4,4,4,4,4,4,4,4,4,4,4,4,4,4,4,4,4,4,4,4,4,4,4,4,4,4,4,4,4,4,4,4,4,4,4,4,4,4,4,4,4,4,4,4,4,4,4,4,4,4,4,4,4,4,4,4,4,4,4,4,4,4,4,4,4,4,4,4,4,4,4,4,4,4,4,4,4,4,4,4,4,4,4,4,4,4,4,4,4,4,4,4,4,4,4,4,4,4,4,4,4,4,4,4,4,4,4,4,4,4,4,4,4,4,4,4,4,4,4,4,4,4,4,4,4,4,4,4,4,4,4,4,4,4,4,4,4,4,4,4,4,4,4,4,4,4,4,4,4,4,4,4,4,4,4,4,4,4,4,4,4,4,4,4,4,4,4,4,4,4,4,4,4,4,4,4,4,4,4,4,4,4,4,4,4,4,4,4,4,4,4,4,4,4,4,4,4,4,4,4,4,4,4,4,4,4,4,4,4,4,4,4,4,4,4,4,4,4,4,4,4,4,4,4,4,4,4,4,4,4,4,4,4,4,4,4,4,4,4,4,4,4,4,4,4,4,4,4,4,4,4,4,4,4,4,4,4,4,4,4,4,4,4,4,4,4,4,4,4,4,4,4,4,4,4,4,4,4,4,4,4,4,4,4,4,4,4,4,4,4,4,4,4,4,4,4,4,4,4,4,4,4,4,4,4,4,4,4,4,4,4,4,4,4,4,4,4,4,4,4,4,4,4,4,4,4,4,4,4,4,4,4,4,4,4,4,4,4,4,4,4,4,4,4,4,4,4,4,4,4,4,4,4,4,4,4,4,4,4,4,4,4,4,4,4,4,4,4,4,4,4,4,4,4,4,4,4,4,4,4,4,4,4,4,4,4,4,4,4,4,4,4,4,4,4,4,4,4,4,4,4,4,4,4,4,4,4,4,4,4,4,4,4,4,4,4,4,4,4,4,4,4,4,4,4,4,4,4,4,4,4,4,4,4,4,4,4,4,4,4,4,4,4,4,4,4,4,4,4,4,4,4,4,4,4,4,4,4,4,4,4,4,4,4,4,4,4,4,4,4,4,4,4,4,4,4,4,4,4,4,4,4,4,4,4,4,4,4,4,4,4,4,4,4,4,4,4,4,4,4,4,4,4,4,4,4,4,4,4,4,4,4,4,4,4,4,4,4,4,4,4,4,4,4,4,4,4,4,4,4,4,4,4,4,4,4,4,4,4,4,4,4,4,4,4,4,4,4,4,4,4,4,4,4,4,4,4,4,4,4,4,4,4,4,4,4,4,4,4,4,4,4,4,4,4,4,4,4,4,4,4,4,4,4,4,4,4,4,4,4,4,4,4,4,4,4,4,4,4,4,4,4,4,4,4,4,4,4,4,4,4,4,4,4,4,4,4,4,4,4,4,4,4,4,4,4,4,4,4,4,4,4,4,4,4,4,4,4,4,4,4,4,4,4,4,4,4,4,4,4,4,4,4,4,4,4,4,4,4,4,4,4,4,4,4,4,4,4,4,4,4,4,4,4,4,4,4,4,4,4,4,4,4,4,4,4,4,4,4,4,4,4,4,4,4,4,4,4,4,4,4,4,4,4,4,4,4,4,4,4,4,4,4,4,4,4,4,4,4,4,4,4,4,4,4,4,4,4,4,4,4,4,4,4,4,4,4,4,4,4,4,4,4,4,4,4,4,4,4,4,4,4,4,4,4,4,4,4,4,4,4,4,4,4,4,4,4,4,4,4,4,4,4,4,4,4,4,4,4,4,4,4,4,4,4,4,4,4,4,4,4,4,4,4,4,4,4,4,4,4,4,4,4,4,4,4,4,4,4,4,4,4,4,4,4,4,4,4,4,4,4,4,4,4,4,4,4,4,4,4,4,4,4,4,4,4,4,4,4,4,4,4,4,4,4,4,4,4,4,4,4,4,4,4,4,4,4,4,4,4,4,4,4,4,4,4,4,4,4,4,4,4,4,4,4,4,4,4,4,4,4,4,4,4,4,4,4,4,4,4,4,4,4,4,4,4,4,4,4,4,4,4,4,4,4,4,4,4,4,4,4,4,4,4,4,4,4,4,4,4,4,4,4,4,4,4,4,4,4,4,4,4,4,4,4,4,4,4,4,4,4,4,4,4,4,4,4,4,4,4,4,4,4,4,4,4,4,4,4,4,4,4,4,4,4,4,4,4,4,4,4,4,4,4,4,4,4,4,4,4,4,4,4,4,4,4,4,4,4,4,4,4,4,4,4,4,4,4,4,4,4,4,4,4,4,4,4,4,4,4,4,4,4,4,4,4,4,4,4,4,4,4,4,4,4,4,4,4,4,4,4,4,4,4,4,4,4,4,4,4,4,4,4,4,4,4,4,4,4,4,4,4,4,4,4,4,4,4,4,4,4,4,4,4,4,4,4,4,4,4,4,4,4,4,4,4,4,4,4,4,4,4,4,4,4,4,4,4,4,4,4,4,4,4,4,4,4,4,4,4,4,4,4,4,4,4,4,4,4,4,4,4,4,4,4,4,4,4,4,4,4,4,4,4,4,4,4,4,4,4,4,4,4,4,4,4,4,4,4,4,4,4,4,4,4,4,4,4,4,4,4,4,4,4,4,4,4,4,4,4,4,4,4,4,4,4,4,4,4,4,4,4,4,4,4,4,4,4,4,4,4,4,4,4,4,4,4,4,4,4,4,4,4,4,4,4,4,4,4,4,4,4,4,4,4,4,4,4,4,4,4,4,4,4,4,4,4,4,4,4,4,4,4,4,4,4,4,4,4,4,4,4,4,4,4,4,4,4,4,4,4,4,4,4,4,4,4,4,4,4,4,4,4,4,4,4,4,4,4,4,4,4,4,4,4,4,4,4,4,4,4,4,4,4,4,4,4,4,4,4,4,4,4,4,4,4,4,4,4,4,4,4,4,4,4,4,4,4,4,4,4,4,4,4,4,4,4,4,4,4,4,4,4,4,4,4,4,4,4,4,4,4,4,4,4,4,4,4,4,4,4,4,4,4,4,4,4,4,4,4,4,4,4,4,4,4,4,4,4,4,4,4,4,4,4,4,4,4,4,4,4,4,4,4,4,4,4,4,4,4,4,4,4,4,4,4,4,4,4,4,4,4,4,4,4,4,4,4,4,4,4,4,4,4,4,4,4,4,4,4,4,4,4,4,4,4,4,4,4,4,4,4,4,4,4,4,4,4,4,4,4,4,4,4,4,4,4,4,4,4,4,4,4,4,4,4,4,4,4,4,4,4,4,4,4,4,4,4,4,4,4,4,4,4,4,4,4,4,4,4,4,4,4,4,4,4,4,4,4,4,4,4,4,4,4,4,4,4,4,4,4,4,4,4,4,4,4,4,4,4,4,4,4,4,4,4,4,4,4,4,4,4,4,4,4,4,4,4,4,4,4,4,4,4,4,4,4,4,4,4,4,4,4,4,4,4,4,4,4,4,4,4,4,4,4,4,4,4,4,4,4,4,4,4,4,4,4,4,4,4,4,4,4,4,4,4,4,4,4,4,4,4,4,4,4,4,4,4,4,4,4,4,4,4,4,4,4,4,4,4,4,4,4,4,4,4,4,4,4,4,4,4,4,4,4,4,4,4,4,4,4,4,4,4,4,4,4,4,4,4,4,4,4,4,4,4,4,4,4,4,4,4,4,4,4,4,4,4,4,4,4,4,4,4,4,4,4,4,4,4,4,4,4,4,4,4,4,4,4,4,4,4,4,4,4,4,4,4,4,4,4,4,4,4,4,4,4,4,4,4,4,4,4,4,4,4,4,4,4,4,4,4,4,4,4,4,4,4,4,4,4,4,4,4,4,4,4,4,4,4,4,4,4,4,4,4,4,4,4,4,4,4,4,4,4,4,4,4,4,4,4,4,4,4,4,4,4,4,4,4,4,4,4,4,4,4,4,4,4,4,4,4,4,4,4,4,4,4,4,4,4,4,4,4,4,4,4,4,4,4,4,4,4,4,4,4,4,4,4,4,4,4,4,4,4,4,4,4,4,4,4,4,4,4,4,4,4,4,4,4,4,4,4,4,4,4,4,4,4,4,4,4,4,4,4,4,4,4,4,4,4,4,4,4,4,4,4,4,4,4,4,4,4,4,4,4,4,4,4,4,4,4,4,4,4,4,4,4,4,4,4,4,4,4,4,4,4,4,4,4,4,4,4,4,4,4,4,4,4,4,4,4,4,4,4,4,4,4,4,4,4,4,4,4,4,4,4,4,4,4,4,4,4,4,4,4,4,4,4,4,4,4,4,4,4,4,4,4,4,4,4,4,4,4,4,4,4,4,4,4,4,4,4,4,4,4,4,4,4,4,4,4,4,4,4,4,4,4,4,4,4,4,4,4,4,4,4,4,4,4,4,4,4,4,4,4,4,4,4,4,4,4,4,4,4,4,4,4,4,4,4,4,4,4,4,4,4,4,4,4,4,4,4,4,4,4,4,4,4,4,4,4,4,4,4,4,4,4,4,4,4,4,4,4,4,4,4,4,4,4,4,4,4,4,4,4,4,4,4,4,4,4,4,4,4,4,4,4,4,4,4,4,4,4,4,4,4,4,4,4,4,4,4,4,4,4,4,4,4,4,4,4,4,4,4,4,4,4,4,4,4,4,4,4,4,4,4,4,4,4,4,4,4,4,4,4,4,4,4,4,4,4,4,4,4,4,4,4,4,4,4,4,4,4,4,4,4,4,4,4,4,4,4,4,4,4,4,4,4,4,4,4,4,4,4,4,4,4,4,4,4,4,4,4,4,4,4,4,4,4,4,4,4,4,4,4,4,4,4,4,4,4,4,4,4,4,4,4,4,4,4,4,4,4,4,4,4,4,4,4,4,4,4,4,4,4,4,4,4,4,4,4,4,4,4,4,4,4,4,4,4,4,4,4,4,4,4,4,4,4,4,4,4,4,4,4,4,4,4,4,4,4,4,4,4,4,4,4,4,4,4,4,4,4,4,4,4,4,4,4,4,4,4,4,4,4,4,4,4,4,4,4,4,4,4,4,4,4,4,4,4,4,4,4,4,4,4,4,4,4,4,4,4,4,4,4,4,4,4,4,4,4,4,4,4,4,4,4,4,4,4,4,4,4,4,4,4,4,4,4,4,4,4,4,4,4,4,4,4,4,4,4,4,4,4,4,4,4,4,4,4,4,4,4,4,4,4,4,4,4,4,4,4,4,4,4,4,4,4,4,4,4,4,4,4,4,4,4,4,4,4,4,4,4,4,4,4,4,4,4,4,4,4,4,4,4,4,4,4,4,4,4,4,4,4,4,4,4,4,4,4,4,4,4,4,4,4,4,4,4,4,4,4,4,4,4,4,4,4,4,4,4,4,4,4,4,4,4,4,4,4,4,4,4,4,4,4,4,4,4,4,4,4,4,4,4,4,4,4,4,4,4,4,4,4,4,4,4,4,4,4,4,4,4,4,4,4,4,4,4,4,4,4,4,4,4,4,4,4,4,4,4,4,4,4,4,4,4,4,4,4,4,4,4,4,4,4,4,4,4,4,4,4,4,4,4,4,4,4,4,4,4,4,4,4,4,4,4,4,4,4,4,4,4,4,4,4,4,4,4,4,4,4,4,4,4,4,4,4,4,4,4,4,4,4,4,4,4,4,4,4,4,4,4,4,4,4,4,4,4,4,4,4,4,4,4,4,4,4,4,4,4,4,4,4,4,4,4,4,4,4,4,4,4,4,4,4,4,4,4,4,4,4,4,4,4,4,4,4,4,4,4,4,4,4,4,4,4,4,4,4,4,4,4,4,4,4,4,4,4,4,4,4,4,4,4,4,4,4,4,4,4,4,4,4,4,4,4,4,4,4,4,4,4,4,4,4,4,4,4,4,4,4,4,4,4,4,4,4,4,4,4,4,4,4,4,4,4,4,4,4,4,4,4,4,4,4,4,4,4,4,4,4,4,4,4,4,4,4,4,4,4,4,4,4,4,4,4,4,4,4,4,4,4,4,4,4,4,4,4,4,4,4,4,4,4,4,4,4,4,4,4,4,4,4,4,4,4,4,4,4,4,4,4,4,4,4,4,4,4,4,4,4,4,4,4,4,4,4,4,4,4,4,4,4,4,4,4,4,4,4,4,4,4,4,4,4,4,4,4,4,4,4,4,4,4,4,4,4,4,4,4,4,4,4,4,4,4,4,4,4,4,4,4,4,4,4,4,4,4,4,4,4,4,4,4]

{"sheet":"１回目ボタン入力","index":5,"n_rows":61,"n_cols":24,"rows_kept":61,"cut":false,"hidden":false,"merged":[[0,2,24,21]]}
[{"$f":"B1","v":1},1,1]
[{"$f":"IF(B2=5,0,B2)","v":3},3,null,null,null,null,null,null,null,null,null,null,null,null,null,null,null,null,null,null,null,null,null,1]
[{"$f":"IF(B3=5,0,B3)","v":3},3,null,null,null,null,null,null,null,null,null,null,null,null,null,null,null,null,null,null,null,null,null,2]
[3,3,null,null,null,null,null,null,null,null,null,null,null,null,null,null,null,null,null,null,null,null,null,3]
[3,3,null,null,null,null,null,null,null,null,null,null,null,null,null,null,null,null,null,null,null,null,null,4]
[3,3,null,null,null,null,null,null,null,null,null,null,null,null,null,null,null,null,null,null,null,null,null,5]
[{"$f":"IF(B7=1,4,IF(B7=2,3,IF(B7=3,2,IF(B7=4,1,IF(B7=5,0,B7)))))","v":2},3,null,null,null,null,null,null,null,null,null,null,null,null,null,null,null,null,null,null,null,null,null,6]
[{"$f":"IF(B8=1,4,IF(B8=2,3,IF(B8=3,2,IF(B8=4,1,IF(B8=5,0,B8)))))","v":2},3,null,null,null,null,null,null,null,null,null,null,null,null,null,null,null,null,null,null,null,null,null,7]
[{"$f":"IF(B9=1,4,IF(B9=2,3,IF(B9=3,2,IF(B9=4,1,IF(B9=5,0,B9)))))","v":2},3,null,null,null,null,null,null,null,null,null,null,null,null,null,null,null,null,null,null,null,null,null,8]
[3,3,null,null,null,null,null,null,null,null,null,null,null,null,null,null,null,null,null,null,null,null,null,9]
[3,3,null,null,null,null,null,null,null,null,null,null,null,null,null,null,null,null,null,null,null,null,null,10]
[3,3,null,null,null,null,null,null,null,null,null,null,null,null,null,null,null,null,null,null,null,null,null,11]
[3,3,null,null,null,null,null,null,null,null,null,null,null,null,null,null,null,null,null,null,null,null,null,12]
[3,3,null,null,null,null,null,null,null,null,null,null,null,null,null,null,null,null,null,null,null,null,null,13]
[{"$f":"IF(B15=1,4,IF(B15=2,3,IF(B15=3,2,IF(B15=4,1,IF(B15=5,0,B15)))))","v":2},3,null,null,null,null,null,null,null,null,null,null,null,null,null,null,null,null,null,null,null,null,null,14]
[3,3,null,null,null,null,null,null,null,null,null,null,null,null,null,null,null,null,null,null,null,null,null,15]
[3,3,null,null,null,null,null,null,null,null,null,null,null,null,null,null,null,null,null,null,null,null,null,16]
[3,3,null,null,null,null,null,null,null,null,null,null,null,null,null,null,null,null,null,null,null,null,null,17]
[3,3,null,null,null,null,null,null,null,null,null,null,null,null,null,null,null,null,null,null,null,null,null,18]
[3,3,null,null,null,null,null,null,null,null,null,null,null,null,null,null,null,null,null,null,null,null,null,19]
[{"$f":"IF(B21=1,4,IF(B21=2,3,IF(B21=3,2,IF(B21=4,1,IF(B21=5,0,B21)))))","v":2},3,null,null,null,null,null,null,null,null,null,null,null,null,null,null,null,null,null,null,null,null,null,20]
[3,3,null,null,null,null,null,null,null,null,null,null,null,null,null,null,null,null,null,null,null,null,null,21]
[3,3,null,null,null,null,null,null,null,null,null,null,null,null,null,null,null,null,null,null,null,null,null,22]
[3,3,null,null,null,null,null,null,null,null,null,null,null,null,null,null,null,null,null,null,null,null,null,23]
[3,3,null,null,null,null,null,null,null,null,null,null,null,null,null,null,null,null,null,null,null,null,null,24]
[3,3,null,null,null,null,null,null,null,null,null,null,null,null,null,null,null,null,26,null,null,null,null,25]
[{"$f":"IF(B27=1,4,IF(B27=2,3,IF(B27=3,2,IF(B27=4,1,IF(B27=5,0,B27)))))","v":2},3,null,null,null,null,null,null,null,null,null,null,null,null,null,null,null,null,27,null,null,null,null,26]
[{"$f":"IF(B28=1,4,IF(B28=2,3,IF(B28=3,2,IF(B28=4,1,IF(B28=5,0,B28)))))","v":2},3,null,null,null,null,null,null,null,null,null,null,null,null,null,null,null,null,28,null,null,null,null,27]
[2,3,null,null,null,null,null,null,null,null,null,null,null,null,null,null,null,null,29,null,null,null,null,28]
[null,null,null,null,null,null,null,null,null,null,null,null,null,null,null,null,null,null,30,null,null,null,null,29]
[null,null,null,null,null,null,null,null,null,null,null,null,null,null,null,null,null,null,31,null,null,null,null,30]
[null,null,null,null,null,null,null,null,null,null,null,null,null,null,null,null,null,null,32,null,null,null,null,31]
[null,null,null,null,null,null,null,null,null,null,null,null,null,null,null,null,null,null,33,null,null,null,null,32]
[null,null,null,null,null,null,null,null,null,null,null,null,null,null,null,null,null,null,34,null,null,null,null,33]
[null,null,null,null,null,null,null,null,null,null,null,null,null,null,null,null,null,null,35,null,null,null,null,34]
[null,null,null,null,null,null,null,null,null,null,null,null,null,null,null,null,null,null,36,null,null,null,null,35]
[null,null,null,null,null,null,null,null,null,null,null,null,null,null,null,null,null,null,37,null,null,null,null,36]
[null,null,null,null,null,null,null,null,null,null,null,null,null,null,null,null,null,null,38,null,null,null,null,37]
[null,null,null,null,null,null,null,null,null,null,null,null,null,null,null,null,null,null,39,null,null,null,null,38]
[null,null,null,null,null,null,null,null,null,null,null,null,null,null,null,null,null,null,40,null,null,null,null,39]
[null,null,null,null,null,null,null,null,null,null,null,null,null,null,null,null,null,null,41,null,null,null,null,40]
[null,null,null,null,null,null,null,null,null,null,null,null,null,null,null,null,null,null,42,null,null,null,null,41]
[null,null,null,null,null,null,null,null,null,null,null,null,null,null,null,null,null,null,43,null,null,null,null,42]
[null,null,null,null,null,null,null,null,null,null,null,null,null,null,null,null,null,null,44,null,null,null,null,43]
[null,null,null,null,null,null,null,null,null,null,null,null,null,null,null,null,null,null,45,null,null,null,null,44]
[null,null,null,null,null,null,null,null,null,null,null,null,null,null,null,null,null,null,null,null,null,null,null,45]
[null,null,null,null,null,null,null,null,null,null,null,null,null,null,null,null,null,null,null,null,null,null,null,46]
[null,null,null,null,null,null,null,null,null,null,null,null,null,null,null,null,null,null,null,null,null,null,null,47]
[null,null,null,null,null,null,null,null,null,null,null,null,null,null,null,null,null,null,null,null,null,null,null,48]
[null,null,null,null,null,null,null,null,null,null,null,null,null,null,null,null,null,null,null,null,null,null,null,49]
[null,null,null,null,null,null,null,null,null,null,null,null,null,null,null,null,null,null,null,null,null,null,null,50]
[null,null,null,null,null,null,null,null,null,null,null,null,null,null,null,null,null,null,null,null,null,null,null,51]
[null,null,null,null,null,null,null,null,null,null,null,null,null,null,null,null,null,null,null,null,null,null,null,52]
[null,null,null,null,null,null,null,null,null,null,null,null,null,null,null,null,null,null,null,null,null,null,null,53]
[null,null,null,null,null,null,null,null,null,null,null,null,null,null,null,null,null,null,null,null,null,null,null,54]
[null,null,null,null,null,null,null,null,null,null,null,null,null,null,null,null,null,null,null,null,null,null,null,55]
[null,null,null,null,null,null,null,null,null,null,null,null,null,null,null,null,null,null,null,null,null,null,null,56]
[null,null,null,null,null,null,null,null,null,null,null,null,null,null,null,null,null,null,null,null,null,null,null,57]
[null,null,null,null,null,null,null,null,null,null,null,null,null,null,null,null,null,null,null,null,null,null,null,58]
[null,null,null,null,null,null,null,null,null,null,null,null,null,null,null,null,null,null,null,null,null,null,null,59]
[null,null,null,null,null,null,null,null,null,null,null,null,null,null,null,null,null,null,null,null,null,null,null,60]

{"sheet":"１回目ボタン出力","index":6,"n_rows":2,"n_cols":29,"rows_kept":2,"cut":false,"hidden":false,"merged":[]}
[null,"1回目出力表"]
["出席番号","（1）","（2）","（3）","（4）","（5）","（6）","（7）","（8）","（9）","（10）","（11）","（12）","（13）","（14）","（15）","（16）","（17）","（18）","（19）","（20）","（21）","（22）","（23）","（24）","（25）","（26）","（27）","（28）"]

{"sheet":"1回目集計表","index":7,"n_rows":150,"n_cols":45,"rows_kept":150,"cut":false,"hidden":false,"merged":[[77,1,79,1],[2,2,4,2],[2,3,4,3],[3,11,4,11],[72,1,72,2],[67,1,67,2],[68,1,68,2],[69,1,69,2],[70,1,70,2],[71,1,71,2],[2,1,4,1],[3,18,4,18],[3,19,4,19],[3,20,4,20],[3,21,4,21],[3,22,4,22],[2,32,2,37],[3,4,4,4],[3,5,4,5],[3,6,4,6],[3,7,4,7],[3,8,4,8],[3,9,4,9],[3,10,4,10],[3,12,4,12],[3,13,4,13],[3,14,4,14],[3,15,4,15],[3,16,4,16],[3,17,4,17],[3,28,4,28],[3,29,4,29],[77,32,77,37],[78,7,79,7],[78,8,79,8],[78,9,79,9],[78,12,79,12],[78,22,79,22],[78,23,79,23],[78,14,79,14],[78,15,79,15],[78,17,79,17],[78,18,79,18],[78,19,79,19],[78,20,79,20],[78,29,79,29],[78,21,79,21],[78,27,79,27],[145,1,145,2],[144,1,144,2],[147,1,147,2],[78,30,79,30],[140,1,140,2],[141,1,141,2],[142,1,142,2],[146,1,146,2],[78,13,79,13],[143,1,143,2],[78,25,79,25],[78,26,79,26],[78,24,79,24],[78,16,79,16],[78,10,79,10],[78,28,79,28],[3,31,4,31],[78,11,79,11],[78,31,79,31],[77,2,79,2],[78,4,79,4],[78,5,79,5],[78,6,79,6],[77,3,79,3],[3,30,4,30],[65,1,65,2],[66,1,66,2],[3,23,4,23],[3,24,4,24],[3,25,4,25],[3,26,4,26],[3,27,4,27]]}
[null,null,null,1,2,3,4,5,6,7,8,9,1,11,12,13,14,15,16,17,18,19,2,21,22,23,24,25,26,27,28,29,3,31,32,33,34,35,36]
[null,null,null,null,null,null,null,null,null,{"$f":"基礎データ!G3","v":0},"年",null,{"$f":"基礎データ!I3","v":0},"組",null,"「学校楽しぃーと」　　一覧表（１回目）"]
[null,"性別","氏名","出席番号",1,2,3,4,5,6,7,8,9,10,11,12,13,14,15,16,17,18,19,20,21,22,23,24,25,26,27,28,"観　点"]
[null,null,null,null,{"$f":"「学校楽しいーと」個票!E19","v":"学校には，お話ができる友達がいますか。"},{"$f":"「学校楽しいーと」個票!Y19","v":"学校には，自分の心配なことを話せる先生がいますか。"},{"$f":"「学校楽しいーと」個票!Y35","v":"学級の中にいると，楽しい気持ちになりますか。"},{"$f":"「学校楽しいーと」個票!Y27","v":"自分の係の仕事は，みんなの役に立っていると思いますか。"},{"$f":"「学校楽しいーと」個票!E27","v":"授業の時，「できた」，「わかった」と思うことがありますか。"},{"$f":"「学校楽しいーと」個票!E35","v":"悲しい気持ちになることがありますか。"},{"$f":"「学校楽しいーと」個票!E44","v":"友達からものを隠されたり，体を叩かれたりして嫌な気持ちになることがありますか。"},{"$f":"「学校楽しいーと」個票!E48","v":"友達がものを隠されたり，体を叩かれたりしたことを見たり聞いたりしたことがありますか。"},{"$f":"「学校楽しいーと」個票!E21","v":"学級には，一緒にお話をしたり，遊んだりする友達がいますか。"},{"$f":"「学校楽しいーと」個票!Y21","v":"学校には，自分の気持ちを分かってくれる先生がいますか。"},{"$f":"「学校楽しいーと」個票!Y37","v":"学級のみんなと一緒にいるのは，楽しいですか。"},{"$f":"「学校楽しいーと」個票!Y29","v":"授業や給食当番で「自分は，よく頑張ったなあ」と思うことがありますか。"},{"$f":"「学校楽しいーと」個票!E29","v":"授業の時，先生のお話をよく聞いていますか。"},{"$f":"「学校楽しいーと」個票!E37","v":"お腹が痛くなるときがありますか。"},{"$f":"「学校楽しいーと」個票!E23","v":"学校には，自分の気持ちを話せる友達がいますか。"},{"$f":"「学校楽しいーと」個票!Y23","v":"学校には，間違いや失敗をしても，きちんと理由を聞いてくれる先生がいますか。"},{"$f":"「学校楽しいーと」個票!Y39","v":"自分は，この学級でよかったと思いますか。"},{"$f":"「学校楽しいーと」個票!Y31","v":"自分には，自分のいいところがあると思いますか。"},{"$f":"「学校楽しいーと」個票!E31","v":"授業の時，よく発表していますか。"},{"$f":"「学校楽しいーと」個票!E39","v":"頭が痛くなるときがありますか。"},{"$f":"「学校楽しいーと」個票!E25","v":"自分が困っているときに，お手伝いをしてくれる友達がいますか。"},{"$f":"「学校楽しいーと」個票!Y25","v":"学校の先生は，ひいきをせずにみんなと同じようにあなたにお話をしてくれますか。"},{"$f":"「学校楽しいーと」個票!Y41","v":"学級では，安心して過ごすことができますか。"},{"$f":"「学校楽しいーと」個票!Y33","v":"他の人から好かれていると思いますか。"},{"$f":"「学校楽しいーと」個票!E33","v":"授業で習ったことができるようになろうと頑張っていますか。"},{"$f":"「学校楽しいーと」個票!E41","v":"気分が悪くなることがありますか。"},{"$f":"「学校楽しいーと」個票!E46","v":"友達から悪口を言われたり，無視をされたりして嫌な気持ちになることがありますか。"},{"$f":"「学校楽しいーと」個票!E50","v":"友達が悪口を言われたり，無視をされたりしたことを見たり聞いたりしたことがありますか。"},"友達との関係","教師との関係","学習意欲","自己肯定感","心身の状態","学級集団における適応感","いじめ"]
[null,null,null,null,null,null,null,null,null,null,null,null,null,null,null,null,null,null,null,null,null,null,null,null,null,null,null,null,null,null,null,null,null,null,null,null,null,null,null,null,null,4,3,2,1]
[null,{"$f":"IF(D6=0,\"\",VLOOKUP(D6,基礎データ!$B$5:$D$64,3))","v":""},{"$f":"IF(D6=0,\"\",VLOOKUP(D6,基礎データ!$B$5:$D$64,2))","v":""},0,0,0,0,0,0,0,0,0,0,0,0,0,0,0,0,0,0,0,0,0,0,0,0,0,0,0,0,0,{"$f":"E6+M6+S6+Y6","v":0},{"$f":"F6+N6+T6+Z6","v":0},{"$f":"I6+Q6+W6+AC6","v":0},{"$f":"H6+P6+V6+AB6","v":0},{"$f":"J6+R6+X6+AD6","v":0},{"$f":"G6+O6+U6+AA6","v":0},{"$f":"AE6+L6+K6+AF6","v":0},null,null,{"$f":"COUNTIF(E6:AF6,4)","v":0},{"$f":"COUNTIF(E6:AF6,3)","v":0},{"$f":"COUNTIF(E6:AF6,2)","v":0},{"$f":"COUNTIF(E6:AF6,1)","v":0}]
[null,{"$f":"IF(D7=0,\"\",VLOOKUP(D7,基礎データ!$B$5:$D$64,3))","v":""},{"$f":"IF(D7=0,\"\",VLOOKUP(D7,基礎データ!$B$5:$D$64,2))","v":""},0,0,0,0,0,0,0,0,0,0,0,0,0,0,0,0,0,0,0,0,0,0,0,0,0,0,0,0,0,0,0,0,0,0,0,0,null,null,{"$f":"COUNTIF(E7:AF7,4)","v":0},{"$f":"COUNTIF(E7:AF7,3)","v":0},{"$f":"COUNTIF(E7:AF7,2)","v":0},{"$f":"COUNTIF(E7:AF7,1)","v":0}]
[null,{"$f":"IF(D8=0,\"\",VLOOKUP(D8,基礎データ!$B$5:$D$64,3))","v":""},{"$f":"IF(D8=0,\"\",VLOOKUP(D8,基礎データ!$B$5:$D$64,2))","v":""},0,0,0,0,0,0,0,0,0,0,0,0,0,0,0,0,0,0,0,0,0,0,0,0,0,0,0,0,0,0,0,0,0,0,0,0,null,null,0,0,0,0]
[null,{"$f":"IF(D9=0,\"\",VLOOKUP(D9,基礎データ!$B$5:$D$64,3))","v":""},{"$f":"IF(D9=0,\"\",VLOOKUP(D9,基礎データ!$B$5:$D$64,2))","v":""},0,0,0,0,0,0,0,0,0,0,0,0,0,0,0,0,0,0,0,0,0,0,0,0,0,0,0,0,0,0,0,0,0,0,0,0,null,null,0,0,0,0]
[null,{"$f":"IF(D10=0,\"\",VLOOKUP(D10,基礎データ!$B$5:$D$64,3))","v":""},{"$f":"IF(D10=0,\"\",VLOOKUP(D10,基礎データ!$B$5:$D$64,2))","v":""},0,0,0,0,0,0,0,0,0,0,0,0,0,0,0,0,0,0,0,0,0,0,0,0,0,0,0,0,0,0,0,0,0,0,0,0,null,null,0,0,0,0]
[null,{"$f":"IF(D11=0,\"\",VLOOKUP(D11,基礎データ!$B$5:$D$64,3))","v":""},{"$f":"IF(D11=0,\"\",VLOOKUP(D11,基礎データ!$B$5:$D$64,2))","v":""},0,0,0,0,0,0,0,0,0,0,0,0,0,0,0,0,0,0,0,0,0,0,0,0,0,0,0,0,0,0,0,0,0,0,0,0,null,null,0,0,0,0]
[null,{"$f":"IF(D12=0,\"\",VLOOKUP(D12,基礎データ!$B$5:$D$64,3))","v":""},{"$f":"IF(D12=0,\"\",VLOOKUP(D12,基礎データ!$B$5:$D$64,2))","v":""},0,0,0,0,0,0,0,0,0,0,0,0,0,0,0,0,0,0,0,0,0,0,0,0,0,0,0,0,0,0,0,0,0,0,0,0,null,null,0,0,0,0]
[null,{"$f":"IF(D13=0,\"\",VLOOKUP(D13,基礎データ!$B$5:$D$64,3))","v":""},{"$f":"IF(D13=0,\"\",VLOOKUP(D13,基礎データ!$B$5:$D$64,2))","v":""},0,0,0,0,0,0,0,0,0,0,0,0,0,0,0,0,0,0,0,0,0,0,0,0,0,0,0,0,0,0,0,0,0,0,0,0,null,null,0,0,0,0]
[null,{"$f":"IF(D14=0,\"\",VLOOKUP(D14,基礎データ!$B$5:$D$64,3))","v":""},{"$f":"IF(D14=0,\"\",VLOOKUP(D14,基礎データ!$B$5:$D$64,2))","v":""},0,0,0,0,0,0,0,0,0,0,0,0,0,0,0,0,0,0,0,0,0,0,0,0,0,0,0,0,0,0,0,0,0,0,0,0,null,null,0,0,0,0]
[null,{"$f":"IF(D15=0,\"\",VLOOKUP(D15,基礎データ!$B$5:$D$64,3))","v":""},{"$f":"IF(D15=0,\"\",VLOOKUP(D15,基礎データ!$B$5:$D$64,2))","v":""},0,0,0,0,0,0,0,0,0,0,0,0,0,0,0,0,0,0,0,0,0,0,0,0,0,0,0,0,0,0,0,0,0,0,0,0,null,null,0,0,0,0]
[null,{"$f":"IF(D16=0,\"\",VLOOKUP(D16,基礎データ!$B$5:$D$64,3))","v":""},{"$f":"IF(D16=0,\"\",VLOOKUP(D16,基礎データ!$B$5:$D$64,2))","v":""},0,0,0,0,0,0,0,0,0,0,0,0,0,0,0,0,0,0,0,0,0,0,0,0,0,0,0,0,0,0,0,0,0,0,0,0,null,null,0,0,0,0]
[null,{"$f":"IF(D17=0,\"\",VLOOKUP(D17,基礎データ!$B$5:$D$64,3))","v":""},{"$f":"IF(D17=0,\"\",VLOOKUP(D17,基礎データ!$B$5:$D$64,2))","v":""},0,0,0,0,0,0,0,0,0,0,0,0,0,0,0,0,0,0,0,0,0,0,0,0,0,0,0,0,0,0,0,0,0,0,0,0,null,null,0,0,0,0]
[null,{"$f":"IF(D18=0,\"\",VLOOKUP(D18,基礎データ!$B$5:$D$64,3))","v":""},{"$f":"IF(D18=0,\"\",VLOOKUP(D18,基礎データ!$B$5:$D$64,2))","v":""},0,0,0,0,0,0,0,0,0,0,0,0,0,0,0,0,0,0,0,0,0,0,0,0,0,0,0,0,0,0,0,0,0,0,0,0,null,null,0,0,0,0]
[null,{"$f":"IF(D19=0,\"\",VLOOKUP(D19,基礎データ!$B$5:$D$64,3))","v":""},{"$f":"IF(D19=0,\"\",VLOOKUP(D19,基礎データ!$B$5:$D$64,2))","v":""},0,0,0,0,0,0,0,0,0,0,0,0,0,0,0,0,0,0,0,0,0,0,0,0,0,0,0,0,0,0,0,0,0,0,0,0,null,null,0,0,0,0]
[null,{"$f":"IF(D20=0,\"\",VLOOKUP(D20,基礎データ!$B$5:$D$64,3))","v":""},{"$f":"IF(D20=0,\"\",VLOOKUP(D20,基礎データ!$B$5:$D$64,2))","v":""},0,0,0,0,0,0,0,0,0,0,0,0,0,0,0,0,0,0,0,0,0,0,0,0,0,0,0,0,0,0,0,0,0,0,0,0,null,null,0,0,0,0]
[null,{"$f":"IF(D21=0,\"\",VLOOKUP(D21,基礎データ!$B$5:$D$64,3))","v":""},{"$f":"IF(D21=0,\"\",VLOOKUP(D21,基礎データ!$B$5:$D$64,2))","v":""},0,0,0,0,0,0,0,0,0,0,0,0,0,0,0,0,0,0,0,0,0,0,0,0,0,0,0,0,0,0,0,0,0,0,0,0,null,null,0,0,0,0]
[null,{"$f":"IF(D22=0,\"\",VLOOKUP(D22,基礎データ!$B$5:$D$64,3))","v":""},{"$f":"IF(D22=0,\"\",VLOOKUP(D22,基礎データ!$B$5:$D$64,2))","v":""},0,0,0,0,0,0,0,0,0,0,0,0,0,0,0,0,0,0,0,0,0,0,0,0,0,0,0,0,0,0,0,0,0,0,0,0,null,null,0,0,0,0]
[null,{"$f":"IF(D23=0,\"\",VLOOKUP(D23,基礎データ!$B$5:$D$64,3))","v":""},{"$f":"IF(D23=0,\"\",VLOOKUP(D23,基礎データ!$B$5:$D$64,2))","v":""},0,0,0,0,0,0,0,0,0,0,0,0,0,0,0,0,0,0,0,0,0,0,0,0,0,0,0,0,0,0,0,0,0,0,0,0,null,null,0,0,0,0]
[null,{"$f":"IF(D24=0,\"\",VLOOKUP(D24,基礎データ!$B$5:$D$64,3))","v":""},{"$f":"IF(D24=0,\"\",VLOOKUP(D24,基礎データ!$B$5:$D$64,2))","v":""},0,0,0,0,0,0,0,0,0,0,0,0,0,0,0,0,0,0,0,0,0,0,0,0,0,0,0,0,0,0,0,0,0,0,0,0,null,null,0,0,0,0]
[null,{"$f":"IF(D25=0,\"\",VLOOKUP(D25,基礎データ!$B$5:$D$64,3))","v":""},{"$f":"IF(D25=0,\"\",VLOOKUP(D25,基礎データ!$B$5:$D$64,2))","v":""},0,0,0,0,0,0,0,0,0,0,0,0,0,0,0,0,0,0,0,0,0,0,0,0,0,0,0,0,0,0,0,0,0,0,0,0,null,null,0,0,0,0]
[null,{"$f":"IF(D26=0,\"\",VLOOKUP(D26,基礎データ!$B$5:$D$64,3))","v":""},{"$f":"IF(D26=0,\"\",VLOOKUP(D26,基礎データ!$B$5:$D$64,2))","v":""},0,0,0,0,0,0,0,0,0,0,0,0,0,0,0,0,0,0,0,0,0,0,0,0,0,0,0,0,0,0,0,0,0,0,0,0,null,null,0,0,0,0]
[null,{"$f":"IF(D27=0,\"\",VLOOKUP(D27,基礎データ!$B$5:$D$64,3))","v":""},{"$f":"IF(D27=0,\"\",VLOOKUP(D27,基礎データ!$B$5:$D$64,2))","v":""},0,0,0,0,0,0,0,0,0,0,0,0,0,0,0,0,0,0,0,0,0,0,0,0,0,0,0,0,0,0,0,0,0,0,0,0,null,null,0,0,0,0]
[null,{"$f":"IF(D28=0,\"\",VLOOKUP(D28,基礎データ!$B$5:$D$64,3))","v":""},{"$f":"IF(D28=0,\"\",VLOOKUP(D28,基礎データ!$B$5:$D$64,2))","v":""},0,0,0,0,0,0,0,0,0,0,0,0,0,0,0,0,0,0,0,0,0,0,0,0,0,0,0,0,0,0,0,0,0,0,0,0,null,null,0,0,0,0]
[null,{"$f":"IF(D29=0,\"\",VLOOKUP(D29,基礎データ!$B$5:$D$64,3))","v":""},{"$f":"IF(D29=0,\"\",VLOOKUP(D29,基礎データ!$B$5:$D$64,2))","v":""},0,0,0,0,0,0,0,0,0,0,0,0,0,0,0,0,0,0,0,0,0,0,0,0,0,0,0,0,0,0,0,0,0,0,0,0,null,null,0,0,0,0]
[null,{"$f":"IF(D30=0,\"\",VLOOKUP(D30,基礎データ!$B$5:$D$64,3))","v":""},{"$f":"IF(D30=0,\"\",VLOOKUP(D30,基礎データ!$B$5:$D$64,2))","v":""},0,0,0,0,0,0,0,0,0,0,0,0,0,0,0,0,0,0,0,0,0,0,0,0,0,0,0,0,0,0,0,0,0,0,0,0,null,null,0,0,0,0]
[null,{"$f":"IF(D31=0,\"\",VLOOKUP(D31,基礎データ!$B$5:$D$64,3))","v":""},{"$f":"IF(D31=0,\"\",VLOOKUP(D31,基礎データ!$B$5:$D$64,2))","v":""},0,0,0,0,0,0,0,0,0,0,0,0,0,0,0,0,0,0,0,0,0,0,0,0,0,0,0,0,0,0,0,0,0,0,0,0,null,null,0,0,0,0]
[null,{"$f":"IF(D32=0,\"\",VLOOKUP(D32,基礎データ!$B$5:$D$64,3))","v":""},{"$f":"IF(D32=0,\"\",VLOOKUP(D32,基礎データ!$B$5:$D$64,2))","v":""},0,0,0,0,0,0,0,0,0,0,0,0,0,0,0,0,0,0,0,0,0,0,0,0,0,0,0,0,0,0,0,0,0,0,0,0,null,null,0,0,0,0]
[null,{"$f":"IF(D33=0,\"\",VLOOKUP(D33,基礎データ!$B$5:$D$64,3))","v":""},{"$f":"IF(D33=0,\"\",VLOOKUP(D33,基礎データ!$B$5:$D$64,2))","v":""},0,0,0,0,0,0,0,0,0,0,0,0,0,0,0,0,0,0,0,0,0,0,0,0,0,0,0,0,0,0,0,0,0,0,0,0,null,null,0,0,0,0]
[null,{"$f":"IF(D34=0,\"\",VLOOKUP(D34,基礎データ!$B$5:$D$64,3))","v":""},{"$f":"IF(D34=0,\"\",VLOOKUP(D34,基礎データ!$B$5:$D$64,2))","v":""},0,0,0,0,0,0,0,0,0,0,0,0,0,0,0,0,0,0,0,0,0,0,0,0,0,0,0,0,0,0,0,0,0,0,0,0,null,null,0,0,0,0]
[null,{"$f":"IF(D35=0,\"\",VLOOKUP(D35,基礎データ!$B$5:$D$64,3))","v":""},{"$f":"IF(D35=0,\"\",VLOOKUP(D35,基礎データ!$B$5:$D$64,2))","v":""},0,0,0,0,0,0,0,0,0,0,0,0,0,0,0,0,0,0,0,0,0,0,0,0,0,0,0,0,0,0,0,0,0,0,0,0,null,null,0,0,0,0]
[null,{"$f":"IF(D36=0,\"\",VLOOKUP(D36,基礎データ!$B$5:$D$64,3))","v":""},{"$f":"IF(D36=0,\"\",VLOOKUP(D36,基礎データ!$B$5:$D$64,2))","v":""},0,0,0,0,0,0,0,0,0,0,0,0,0,0,0,0,0,0,0,0,0,0,0,0,0,0,0,0,0,0,0,0,0,0,0,0,null,null,0,0,0,0]
[null,{"$f":"IF(D37=0,\"\",VLOOKUP(D37,基礎データ!$B$5:$D$64,3))","v":""},{"$f":"IF(D37=0,\"\",VLOOKUP(D37,基礎データ!$B$5:$D$64,2))","v":""},0,0,0,0,0,0,0,0,0,0,0,0,0,0,0,0,0,0,0,0,0,0,0,0,0,0,0,0,0,0,0,0,0,0,0,0,null,null,0,0,0,0]
[null,{"$f":"IF(D38=0,\"\",VLOOKUP(D38,基礎データ!$B$5:$D$64,3))","v":""},{"$f":"IF(D38=0,\"\",VLOOKUP(D38,基礎データ!$B$5:$D$64,2))","v":""},0,0,0,0,0,0,0,0,0,0,0,0,0,0,0,0,0,0,0,0,0,0,0,0,0,0,0,0,0,{"$f":"E38+M38+S38+Y38","v":0},{"$f":"F38+N38+T38+Z38","v":0},{"$f":"I38+Q38+W38+AC38","v":0},{"$f":"H38+P38+V38+AB38","v":0},{"$f":"J38+R38+X38+AD38","v":0},{"$f":"G38+O38+U38+AA38","v":0},{"$f":"AE38+L38+K38+AF38","v":0},null,null,0,0,0,0]
[null,{"$f":"IF(D39=0,\"\",VLOOKUP(D39,基礎データ!$B$5:$D$64,3))","v":""},{"$f":"IF(D39=0,\"\",VLOOKUP(D39,基礎データ!$B$5:$D$64,2))","v":""},0,0,0,0,0,0,0,0,0,0,0,0,0,0,0,0,0,0,0,0,0,0,0,0,0,0,0,0,0,0,0,0,0,0,0,0,null,null,0,0,0,0]
[null,{"$f":"IF(D40=0,\"\",VLOOKUP(D40,基礎データ!$B$5:$D$64,3))","v":""},{"$f":"IF(D40=0,\"\",VLOOKUP(D40,基礎データ!$B$5:$D$64,2))","v":""},0,0,0,0,0,0,0,0,0,0,0,0,0,0,0,0,0,0,0,0,0,0,0,0,0,0,0,0,0,0,0,0,0,0,0,0,null,null,0,0,0,0]
[null,{"$f":"IF(D41=0,\"\",VLOOKUP(D41,基礎データ!$B$5:$D$64,3))","v":""},{"$f":"IF(D41=0,\"\",VLOOKUP(D41,基礎データ!$B$5:$D$64,2))","v":""},0,0,0,0,0,0,0,0,0,0,0,0,0,0,0,0,0,0,0,0,0,0,0,0,0,0,0,0,0,0,0,0,0,0,0,0,null,null,0,0,0,0]
[null,{"$f":"IF(D42=0,\"\",VLOOKUP(D42,基礎データ!$B$5:$D$64,3))","v":""},{"$f":"IF(D42=0,\"\",VLOOKUP(D42,基礎データ!$B$5:$D$64,2))","v":""},0,0,0,0,0,0,0,0,0,0,0,0,0,0,0,0,0,0,0,0,0,0,0,0,0,0,0,0,0,0,0,0,0,0,0,0,null,null,0,0,0,0]
[null,{"$f":"IF(D43=0,\"\",VLOOKUP(D43,基礎データ!$B$5:$D$64,3))","v":""},{"$f":"IF(D43=0,\"\",VLOOKUP(D43,基礎データ!$B$5:$D$64,2))","v":""},0,0,0,0,0,0,0,0,0,0,0,0,0,0,0,0,0,0,0,0,0,0,0,0,0,0,0,0,0,0,0,0,0,0,0,0,null,null,0,0,0,0]
[null,{"$f":"IF(D44=0,\"\",VLOOKUP(D44,基礎データ!$B$5:$D$64,3))","v":""},{"$f":"IF(D44=0,\"\",VLOOKUP(D44,基礎データ!$B$5:$D$64,2))","v":""},0,0,0,0,0,0,0,0,0,0,0,0,0,0,0,0,0,0,0,0,0,0,0,0,0,0,0,0,0,0,0,0,0,0,0,0,null,null,0,0,0,0]
[null,{"$f":"IF(D45=0,\"\",VLOOKUP(D45,基礎データ!$B$5:$D$64,3))","v":""},{"$f":"IF(D45=0,\"\",VLOOKUP(D45,基礎データ!$B$5:$D$64,2))","v":""},0,0,0,0,0,0,0,0,0,0,0,0,0,0,0,0,0,0,0,0,0,0,0,0,0,0,0,0,0,0,0,0,0,0,0,0,null,null,0,0,0,0]
[null,{"$f":"IF(D46=0,\"\",VLOOKUP(D46,基礎データ!$B$5:$D$64,3))","v":""},{"$f":"IF(D46=0,\"\",VLOOKUP(D46,基礎データ!$B$5:$D$64,2))","v":""},0,0,0,0,0,0,0,0,0,0,0,0,0,0,0,0,0,0,0,0,0,0,0,0,0,0,0,0,0,0,0,0,0,0,0,0,null,null,0,0,0,0]
[null,{"$f":"IF(D47=0,\"\",VLOOKUP(D47,基礎データ!$B$5:$D$64,3))","v":""},{"$f":"IF(D47=0,\"\",VLOOKUP(D47,基礎データ!$B$5:$D$64,2))","v":""},0,0,0,0,0,0,0,0,0,0,0,0,0,0,0,0,0,0,0,0,0,0,0,0,0,0,0,0,0,0,0,0,0,0,0,0,null,null,0,0,0,0]
[null,{"$f":"IF(D48=0,\"\",VLOOKUP(D48,基礎データ!$B$5:$D$64,3))","v":""},{"$f":"IF(D48=0,\"\",VLOOKUP(D48,基礎データ!$B$5:$D$64,2))","v":""},0,0,0,0,0,0,0,0,0,0,0,0,0,0,0,0,0,0,0,0,0,0,0,0,0,0,0,0,0,0,0,0,0,0,0,0,null,null,0,0,0,0]
[null,{"$f":"IF(D49=0,\"\",VLOOKUP(D49,基礎データ!$B$5:$D$64,3))","v":""},{"$f":"IF(D49=0,\"\",VLOOKUP(D49,基礎データ!$B$5:$D$64,2))","v":""},0,0,0,0,0,0,0,0,0,0,0,0,0,0,0,0,0,0,0,0,0,0,0,0,0,0,0,0,0,0,0,0,0,0,0,0,null,null,0,0,0,0]
[null,{"$f":"IF(D50=0,\"\",VLOOKUP(D50,基礎データ!$B$5:$D$64,3))","v":""},{"$f":"IF(D50=0,\"\",VLOOKUP(D50,基礎データ!$B$5:$D$64,2))","v":""},0,0,0,0,0,0,0,0,0,0,0,0,0,0,0,0,0,0,0,0,0,0,0,0,0,0,0,0,0,0,0,0,0,0,0,0,null,null,0,0,0,0]
[null,{"$f":"IF(D51=0,\"\",VLOOKUP(D51,基礎データ!$B$5:$D$64,3))","v":""},{"$f":"IF(D51=0,\"\",VLOOKUP(D51,基礎データ!$B$5:$D$64,2))","v":""},0,0,0,0,0,0,0,0,0,0,0,0,0,0,0,0,0,0,0,0,0,0,0,0,0,0,0,0,0,0,0,0,0,0,0,0,null,null,0,0,0,0]
[null,{"$f":"IF(D52=0,\"\",VLOOKUP(D52,基礎データ!$B$5:$D$64,3))","v":""},{"$f":"IF(D52=0,\"\",VLOOKUP(D52,基礎データ!$B$5:$D$64,2))","v":""},0,0,0,0,0,0,0,0,0,0,0,0,0,0,0,0,0,0,0,0,0,0,0,0,0,0,0,0,0,0,0,0,0,0,0,0,null,null,0,0,0,0]
[null,{"$f":"IF(D53=0,\"\",VLOOKUP(D53,基礎データ!$B$5:$D$64,3))","v":""},{"$f":"IF(D53=0,\"\",VLOOKUP(D53,基礎データ!$B$5:$D$64,2))","v":""},0,0,0,0,0,0,0,0,0,0,0,0,0,0,0,0,0,0,0,0,0,0,0,0,0,0,0,0,0,0,0,0,0,0,0,0,null,null,0,0,0,0]
[null,{"$f":"IF(D54=0,\"\",VLOOKUP(D54,基礎データ!$B$5:$D$64,3))","v":""},{"$f":"IF(D54=0,\"\",VLOOKUP(D54,基礎データ!$B$5:$D$64,2))","v":""},0,0,0,0,0,0,0,0,0,0,0,0,0,0,0,0,0,0,0,0,0,0,0,0,0,0,0,0,0,0,0,0,0,0,0,0,null,null,0,0,0,0]
[null,{"$f":"IF(D55=0,\"\",VLOOKUP(D55,基礎データ!$B$5:$D$64,3))","v":""},{"$f":"IF(D55=0,\"\",VLOOKUP(D55,基礎データ!$B$5:$D$64,2))","v":""},0,0,0,0,0,0,0,0,0,0,0,0,0,0,0,0,0,0,0,0,0,0,0,0,0,0,0,0,0,0,0,0,0,0,0,0,null,null,0,0,0,0]
[null,{"$f":"IF(D56=0,\"\",VLOOKUP(D56,基礎データ!$B$5:$D$64,3))","v":""},{"$f":"IF(D56=0,\"\",VLOOKUP(D56,基礎データ!$B$5:$D$64,2))","v":""},0,0,0,0,0,0,0,0,0,0,0,0,0,0,0,0,0,0,0,0,0,0,0,0,0,0,0,0,0,0,0,0,0,0,0,0,null,null,0,0,0,0]
[null,{"$f":"IF(D57=0,\"\",VLOOKUP(D57,基礎データ!$B$5:$D$64,3))","v":""},{"$f":"IF(D57=0,\"\",VLOOKUP(D57,基礎データ!$B$5:$D$64,2))","v":""},0,0,0,0,0,0,0,0,0,0,0,0,0,0,0,0,0,0,0,0,0,0,0,0,0,0,0,0,0,0,0,0,0,0,0,0,null,null,0,0,0,0]
[null,{"$f":"IF(D58=0,\"\",VLOOKUP(D58,基礎データ!$B$5:$D$64,3))","v":""},{"$f":"IF(D58=0,\"\",VLOOKUP(D58,基礎データ!$B$5:$D$64,2))","v":""},0,0,0,0,0,0,0,0,0,0,0,0,0,0,0,0,0,0,0,0,0,0,0,0,0,0,0,0,0,0,0,0,0,0,0,0,null,null,0,0,0,0]
[null,{"$f":"IF(D59=0,\"\",VLOOKUP(D59,基礎データ!$B$5:$D$64,3))","v":""},{"$f":"IF(D59=0,\"\",VLOOKUP(D59,基礎データ!$B$5:$D$64,2))","v":""},0,0,0,0,0,0,0,0,0,0,0,0,0,0,0,0,0,0,0,0,0,0,0,0,0,0,0,0,0,0,0,0,0,0,0,0,null,null,0,0,0,0]
[null,{"$f":"IF(D60=0,\"\",VLOOKUP(D60,基礎データ!$B$5:$D$64,3))","v":""},{"$f":"IF(D60=0,\"\",VLOOKUP(D60,基礎データ!$B$5:$D$64,2))","v":""},0,0,0,0,0,0,0,0,0,0,0,0,0,0,0,0,0,0,0,0,0,0,0,0,0,0,0,0,0,0,0,0,0,0,0,0,null,null,0,0,0,0]
[null,{"$f":"IF(D61=0,\"\",VLOOKUP(D61,基礎データ!$B$5:$D$64,3))","v":""},{"$f":"IF(D61=0,\"\",VLOOKUP(D61,基礎データ!$B$5:$D$64,2))","v":""},0,0,0,0,0,0,0,0,0,0,0,0,0,0,0,0,0,0,0,0,0,0,0,0,0,0,0,0,0,0,0,0,0,0,0,0,null,null,0,0,0,0]
[null,{"$f":"IF(D62=0,\"\",VLOOKUP(D62,基礎データ!$B$5:$D$64,3))","v":""},{"$f":"IF(D62=0,\"\",VLOOKUP(D62,基礎データ!$B$5:$D$64,2))","v":""},0,0,0,0,0,0,0,0,0,0,0,0,0,0,0,0,0,0,0,0,0,0,0,0,0,0,0,0,0,0,0,0,0,0,0,0,null,null,0,0,0,0]
[null,{"$f":"IF(D63=0,\"\",VLOOKUP(D63,基礎データ!$B$5:$D$64,3))","v":""},{"$f":"IF(D63=0,\"\",VLOOKUP(D63,基礎データ!$B$5:$D$64,2))","v":""},0,0,0,0,0,0,0,0,0,0,0,0,0,0,0,0,0,0,0,0,0,0,0,0,0,0,0,0,0,0,0,0,0,0,0,0,null,null,0,0,0,0]
[null,{"$f":"IF(D64=0,\"\",VLOOKUP(D64,基礎データ!$B$5:$D$64,3))","v":""},{"$f":"IF(D64=0,\"\",VLOOKUP(D64,基礎データ!$B$5:$D$64,2))","v":""},0,0,0,0,0,0,0,0,0,0,0,0,0,0,0,0,0,0,0,0,0,0,0,0,0,0,0,0,0,0,0,0,0,0,0,0,null,null,0,0,0,0]
[null,{"$f":"IF(D65=0,\"\",VLOOKUP(D65,基礎データ!$B$5:$D$64,3))","v":""},{"$f":"IF(D65=0,\"\",VLOOKUP(D65,基礎データ!$B$5:$D$64,2))","v":""},0,0,0,0,0,0,0,0,0,0,0,0,0,0,0,0,0,0,0,0,0,0,0,0,0,0,0,0,0,0,0,0,0,0,0,0,null,null,0,0,0,0]
[null,"④ の数",null,null,{"$f":"COUNTIF(E$6:E$65,4)","v":0},{"$f":"COUNTIF(F$6:F$65,4)","v":0},0,0,0,0,0,0,0,0,0,0,0,0,0,0,0,0,0,0,0,0,0,0,0,0,0,0,{"$f":"E66+M66+S66+Y66","v":0},{"$f":"F66+N66+T66+Z66","v":0},{"$f":"I66+Q66+W66+AC66","v":0},{"$f":"H66+P66+V66+AB66","v":0},{"$f":"J66+R66+X66+AD66","v":0},{"$f":"G66+O66+U66+AA66","v":0},{"$f":"AE66+L66+K66+AF66","v":0}]
[null,"③ の数",null,null,{"$f":"COUNTIF(E$6:E$65,3)","v":0},{"$f":"COUNTIF(F$6:F$65,3)","v":0},0,{"$f":"COUNTIF(H$6:H$65,3)","v":0},0,0,0,0,0,0,0,0,0,0,0,0,0,0,0,0,0,0,0,0,0,0,0,0,{"$f":"E67+M67+S67+Y67","v":0},0,0,0,0,0,0]
[null,"② の数",null,null,{"$f":"COUNTIF(E$6:E$65,2)","v":0},{"$f":"COUNTIF(F$6:F$65,2)","v":0},0,0,0,0,0,0,0,0,0,0,0,0,0,0,0,0,0,0,0,0,0,0,0,0,0,0,{"$f":"E68+M68+S68+Y68","v":0},0,0,0,0,0,0]
[null,"① の数",null,null,{"$f":"COUNTIF(E$6:E$65,1)","v":0},{"$f":"COUNTIF(F$6:F$65,1)","v":0},0,0,0,0,0,0,0,0,0,0,0,0,0,0,0,0,0,0,0,0,0,0,0,0,0,0,{"$f":"E69+M69+S69+Y69","v":0},0,0,0,0,0,0]
[null,"合計",null,null,{"$f":"SUM(E66:E69)","v":0},{"$f":"SUM(F66:F69)","v":0},0,0,0,0,0,0,0,0,0,0,0,0,0,0,0,0,0,0,0,0,0,0,0,0,0,0,0,{"$f":"SUM(AH66:AH69)","v":0},0,0,0,0,0]
[null,"男子平均",null,{"$f":"COUNTIF($B$81:$B$140,\"男\")","v":0},{"$f":"IF(ISERROR(SUMIF($B6:$B65,\"男\",E6:E65)/COUNTIF($B6:$B65,\"男\")),0,SUMIF($B6:$B65,\"男\",E6:E65)/COUNTIF($B6:$B65,\"男\"))","v":0},{"$f":"IF(ISERROR(SUMIF($B6:$B65,\"男\",F6:F65)/COUNTIF($B6:$B65,\"男\")),0,SUMIF($B6:$B65,\"男\",F6:F65)/COUNTIF($B6:$B65,\"男\"))","v":0},{"$f":"IF(ISERROR(SUMIF($B6:$B65,\"男\",G6:G65)/COUNTIF($B6:$B65,\"男\")),0,SUMIF($B6:$B65,\"男\",G6:G65)/COUNTIF($B6:$B65,\"男\"))","v":0},0,0,0,0,0,0,0,0,0,0,0,0,0,0,0,0,0,0,0,0,0,0,0,0,{"$f":"IF(ISERROR(SUMIF($B6:$B65,\"男\",AF6:AF65)/COUNTIF($B6:$B65,\"男\")),0,SUMIF($B6:$B65,\"男\",AF6:AF65)/COUNTIF($B6:$B65,\"男\"))","v":0},{"$f":"IF(ISERROR(SUMIF($B6:$B65,\"男\",AG6:AG65)/COUNTIF($B6:$B65,\"男\")),0,SUMIF($B6:$B65,\"男\",AG6:AG65)/COUNTIF($B6:$B65,\"男\"))","v":0},{"$f":"IF(ISERROR(SUMIF($B6:$B65,\"男\",AH6:AH65)/COUNTIF($B6:$B65,\"男\")),0,SUMIF($B6:$B65,\"男\",AH6:AH65)/COUNTIF($B6:$B65,\"男\"))","v":0},0,0,0,0,{"$f":"IF(ISERROR(SUMIF($B6:$B65,\"男\",AM6:AM65)/COUNTIF($B6:$B65,\"男\")),0,SUMIF($B6:$B65,\"男\",AM6:AM65)/COUNTIF($B6:$B65,\"男\"))","v":0}]
[null,"女子平均",null,{"$f":"COUNTIF($B$81:$B$140,\"女\")","v":0},{"$f":"IF(ISERROR(SUMIF($B6:$B65,\"女\",E6:E65)/COUNTIF($B6:$B65,\"女\")),0,SUMIF($B6:$B65,\"女\",E6:E65)/COUNTIF($B6:$B65,\"女\"))","v":0},{"$f":"IF(ISERROR(SUMIF($B6:$B65,\"女\",F6:F65)/COUNTIF($B6:$B65,\"女\")),0,SUMIF($B6:$B65,\"女\",F6:F65)/COUNTIF($B6:$B65,\"女\"))","v":0},0,0,0,0,0,0,0,0,0,0,0,0,0,0,0,0,0,0,0,0,0,0,0,0,0,0,0,0,0,0,0,0,0]
[null,"全体平均",null,{"$f":"SUM(D71:D72)","v":0},{"$f":"IF(ISERROR((4*E66+3*E67+2*E68+E69)/E70),0,(4*E66+3*E67+2*E68+E69)/E70)","v":0},{"$f":"IF(ISERROR((4*F66+3*F67+2*F68+F69)/F70),0,(4*F66+3*F67+2*F68+F69)/F70)","v":0},0,0,0,0,0,0,0,0,0,0,0,0,0,0,0,0,0,0,0,0,0,0,0,0,0,0,{"$f":"IF(ISERROR(((4*AG66+3*AG67+2*AG68+AG69)/AG70)*4),0,(4*AG66+3*AG67+2*AG68+AG69)/AG70)*4","v":0},{"$f":"IF(ISERROR(((4*AH66+3*AH67+2*AH68+AH69)/AH70)*4),0,(4*AH66+3*AH67+2*AH68+AH69)/AH70)*4","v":0},0,0,0,0,0]
[null,null,null,"↑"]
[null,null,null,"ここだけ人数"]
[]
[null,null,null,null,null,null,null,null,null,{"$f":"基礎データ!G78","v":0},"年",null,{"$f":"基礎データ!I78","v":0},"組",null,"「学校楽しぃーと」　　一覧表（１回目）"]
[null,"性別","氏名","出席番号",1,2,3,4,5,6,7,8,9,10,11,12,13,14,15,16,17,18,19,20,21,22,23,24,25,26,27,28,"観　点"]
[null,null,null,null,{"$f":"「学校楽しいーと」個票!E19","v":"学校には，お話ができる友達がいますか。"},{"$f":"「学校楽しいーと」個票!Y19","v":"学校には，自分の心配なことを話せる先生がいますか。"},{"$f":"「学校楽しいーと」個票!Y35","v":"学級の中にいると，楽しい気持ちになりますか。"},{"$f":"「学校楽しいーと」個票!Y27","v":"自分の係の仕事は，みんなの役に立っていると思いますか。"},{"$f":"「学校楽しいーと」個票!E27","v":"授業の時，「できた」，「わかった」と思うことがありますか。"},{"$f":"「学校楽しいーと」個票!E35","v":"悲しい気持ちになることがありますか。"},{"$f":"「学校楽しいーと」個票!E44","v":"友達からものを隠されたり，体を叩かれたりして嫌な気持ちになることがありますか。"},{"$f":"「学校楽しいーと」個票!E48","v":"友達がものを隠されたり，体を叩かれたりしたことを見たり聞いたりしたことがありますか。"},{"$f":"「学校楽しいーと」個票!E21","v":"学級には，一緒にお話をしたり，遊んだりする友達がいますか。"},{"$f":"「学校楽しいーと」個票!Y21","v":"学校には，自分の気持ちを分かってくれる先生がいますか。"},{"$f":"「学校楽しいーと」個票!Y37","v":"学級のみんなと一緒にいるのは，楽しいですか。"},{"$f":"「学校楽しいーと」個票!Y29","v":"授業や給食当番で「自分は，よく頑張ったなあ」と思うことがありますか。"},{"$f":"「学校楽しいーと」個票!E29","v":"授業の時，先生のお話をよく聞いていますか。"},{"$f":"「学校楽しいーと」個票!E37","v":"お腹が痛くなるときがありますか。"},{"$f":"「学校楽しいーと」個票!E23","v":"学校には，自分の気持ちを話せる友達がいますか。"},{"$f":"「学校楽しいーと」個票!Y23","v":"学校には，間違いや失敗をしても，きちんと理由を聞いてくれる先生がいますか。"},{"$f":"「学校楽しいーと」個票!Y39","v":"自分は，この学級でよかったと思いますか。"},{"$f":"「学校楽しいーと」個票!Y31","v":"自分には，自分のいいところがあると思いますか。"},{"$f":"「学校楽しいーと」個票!E31","v":"授業の時，よく発表していますか。"},{"$f":"「学校楽しいーと」個票!E39","v":"頭が痛くなるときがありますか。"},{"$f":"「学校楽しいーと」個票!E25","v":"自分が困っているときに，お手伝いをしてくれる友達がいますか。"},{"$f":"「学校楽しいーと」個票!Y25","v":"学校の先生は，ひいきをせずにみんなと同じようにあなたにお話をしてくれますか。"},{"$f":"「学校楽しいーと」個票!Y41","v":"学級では，安心して過ごすことができますか。"},{"$f":"「学校楽しいーと」個票!Y33","v":"他の人から好かれていると思いますか。"},{"$f":"「学校楽しいーと」個票!E33","v":"授業で習ったことができるようになろうと頑張っていますか。"},{"$f":"「学校楽しいーと」個票!E41","v":"気分が悪くなることがありますか。"},{"$f":"「学校楽しいーと」個票!E46","v":"友達から悪口を言われたり，無視をされたりして嫌な気持ちになることがありますか。"},{"$f":"「学校楽しいーと」個票!E50","v":"友達が悪口を言われたり，無視をされたりしたことを見たり聞いたりしたことがありますか。"},"友達との関係","教師との関係","学習意欲","自己肯定感","心身の状態","学級集団における適応感","いじめ"]
[]
[null,{"$f":"IF(D81=0,\"\",VLOOKUP(D81,基礎データ!$B$5:$D$64,3))","v":""},{"$f":"IF(D81=0,\"\",VLOOKUP(D81,基礎データ!$B$5:$D$64,2))","v":""},{"$f":"D6","v":0},{"$f":"IF(E6=4,\"😄\",IF(E6=3,\"😊\",IF(E6=2,\"😢\",IF(E6=1,\"😭\",\"\"))))","v":""},"","","","","","",{"$f":"IF(L6=4,\"😄\",IF(L6=3,\"😊\",IF(L6=2,\"😢\",IF(L6=1,\"😭\",\"\"))))","v":""},"",{"$f":"IF(N6=4,\"😄\",IF(N6=3,\"😊\",IF(N6=2,\"😢\",IF(N6=1,\"😭\",\"\"))))","v":""},"","","","","","","","","","","","","","","","","",{"$f":"IF(AF6=4,\"😄\",IF(AF6=3,\"😊\",IF(AF6=2,\"😢\",IF(AF6=1,\"😭\",\"\"))))","v":""},{"$f":"AG6","v":0},0,0,0,0,0,0]
[null,{"$f":"IF(D82=0,\"\",VLOOKUP(D82,基礎データ!$B$5:$D$64,3))","v":""},{"$f":"IF(D82=0,\"\",VLOOKUP(D82,基礎データ!$B$5:$D$64,2))","v":""},{"$f":"D7","v":0},{"$f":"IF(E7=4,\"😄\",IF(E7=3,\"😊\",IF(E7=2,\"😢\",IF(E7=1,\"😭\",\"\"))))","v":""},"","","","","","",{"$f":"IF(L7=4,\"😄\",IF(L7=3,\"😊\",IF(L7=2,\"😢\",IF(L7=1,\"😭\",\"\"))))","v":""},"",{"$f":"IF(N7=4,\"😄\",IF(N7=3,\"😊\",IF(N7=2,\"😢\",IF(N7=1,\"😭\",\"\"))))","v":""},"","","","","","","","","","","","","","","","","","",0,0,0,0,0,0,0]
[null,{"$f":"IF(D83=0,\"\",VLOOKUP(D83,基礎データ!$B$5:$D$64,3))","v":""},{"$f":"IF(D83=0,\"\",VLOOKUP(D83,基礎データ!$B$5:$D$64,2))","v":""},0,{"$f":"IF(E8=4,\"😄\",IF(E8=3,\"😊\",IF(E8=2,\"😢\",IF(E8=1,\"😭\",\"\"))))","v":""},"","","","","","","","","","","","","","","","","","","","","","","","","","","",0,0,0,0,0,0,0]
[null,{"$f":"IF(D84=0,\"\",VLOOKUP(D84,基礎データ!$B$5:$D$64,3))","v":""},{"$f":"IF(D84=0,\"\",VLOOKUP(D84,基礎データ!$B$5:$D$64,2))","v":""},0,{"$f":"IF(E9=4,\"😄\",IF(E9=3,\"😊\",IF(E9=2,\"😢\",IF(E9=1,\"😭\",\"\"))))","v":""},"","","","","","","","","","","","","","","","","","","","","","","","","","","",0,0,0,0,0,0,0]
[null,{"$f":"IF(D85=0,\"\",VLOOKUP(D85,基礎データ!$B$5:$D$64,3))","v":""},{"$f":"IF(D85=0,\"\",VLOOKUP(D85,基礎データ!$B$5:$D$64,2))","v":""},0,{"$f":"IF(E10=4,\"😄\",IF(E10=3,\"😊\",IF(E10=2,\"😢\",IF(E10=1,\"😭\",\"\"))))","v":""},"","","","","","","","","","","","","","","","","","","","","","","","","","","",0,0,0,0,0,0,0]
[null,{"$f":"IF(D86=0,\"\",VLOOKUP(D86,基礎データ!$B$5:$D$64,3))","v":""},{"$f":"IF(D86=0,\"\",VLOOKUP(D86,基礎データ!$B$5:$D$64,2))","v":""},0,{"$f":"IF(E11=4,\"😄\",IF(E11=3,\"😊\",IF(E11=2,\"😢\",IF(E11=1,\"😭\",\"\"))))","v":""},"","","","","","","","","","","","","","","","","","","","","","","","","","","",0,0,0,0,0,0,0]
[null,{"$f":"IF(D87=0,\"\",VLOOKUP(D87,基礎データ!$B$5:$D$64,3))","v":""},{"$f":"IF(D87=0,\"\",VLOOKUP(D87,基礎データ!$B$5:$D$64,2))","v":""},0,{"$f":"IF(E12=4,\"😄\",IF(E12=3,\"😊\",IF(E12=2,\"😢\",IF(E12=1,\"😭\",\"\"))))","v":""},"","","","","","","","","","","","","","","","","","","","","","","","","","","",0,0,0,0,0,0,0]
[null,{"$f":"IF(D88=0,\"\",VLOOKUP(D88,基礎データ!$B$5:$D$64,3))","v":""},{"$f":"IF(D88=0,\"\",VLOOKUP(D88,基礎データ!$B$5:$D$64,2))","v":""},0,{"$f":"IF(E13=4,\"😄\",IF(E13=3,\"😊\",IF(E13=2,\"😢\",IF(E13=1,\"😭\",\"\"))))","v":""},"","","","","","","","","","","","","","","","","","","","","","","","","","","",0,0,0,0,0,0,0]
[null,{"$f":"IF(D89=0,\"\",VLOOKUP(D89,基礎データ!$B$5:$D$64,3))","v":""},{"$f":"IF(D89=0,\"\",VLOOKUP(D89,基礎データ!$B$5:$D$64,2))","v":""},0,{"$f":"IF(E14=4,\"😄\",IF(E14=3,\"😊\",IF(E14=2,\"😢\",IF(E14=1,\"😭\",\"\"))))","v":""},"","","","","","","","","","","","","","","","","","","","","","","","","","","",0,0,0,0,0,0,0]
[null,{"$f":"IF(D90=0,\"\",VLOOKUP(D90,基礎データ!$B$5:$D$64,3))","v":""},{"$f":"IF(D90=0,\"\",VLOOKUP(D90,基礎データ!$B$5:$D$64,2))","v":""},0,{"$f":"IF(E15=4,\"😄\",IF(E15=3,\"😊\",IF(E15=2,\"😢\",IF(E15=1,\"😭\",\"\"))))","v":""},"","","","","","","","","","","","","","","","","","","","","","","","","","","",0,0,0,0,0,0,0]
[null,{"$f":"IF(D91=0,\"\",VLOOKUP(D91,基礎データ!$B$5:$D$64,3))","v":""},{"$f":"IF(D91=0,\"\",VLOOKUP(D91,基礎データ!$B$5:$D$64,2))","v":""},0,{"$f":"IF(E16=4,\"😄\",IF(E16=3,\"😊\",IF(E16=2,\"😢\",IF(E16=1,\"😭\",\"\"))))","v":""},"","","","","","","","","","","","","","","","","","","","","","","","","","","",{"$f":"AG16","v":0},0,0,0,0,0,0]
[null,{"$f":"IF(D92=0,\"\",VLOOKUP(D92,基礎データ!$B$5:$D$64,3))","v":""},{"$f":"IF(D92=0,\"\",VLOOKUP(D92,基礎データ!$B$5:$D$64,2))","v":""},0,{"$f":"IF(E17=4,\"😄\",IF(E17=3,\"😊\",IF(E17=2,\"😢\",IF(E17=1,\"😭\",\"\"))))","v":""},"","","","","","","","","","","","","","","","","","","","","","","","","","","",0,0,0,0,0,0,0]
[null,{"$f":"IF(D93=0,\"\",VLOOKUP(D93,基礎データ!$B$5:$D$64,3))","v":""},{"$f":"IF(D93=0,\"\",VLOOKUP(D93,基礎データ!$B$5:$D$64,2))","v":""},0,{"$f":"IF(E18=4,\"😄\",IF(E18=3,\"😊\",IF(E18=2,\"😢\",IF(E18=1,\"😭\",\"\"))))","v":""},"","","","","","","","","","","","","","","","","","","","","","","","","","","",0,0,0,0,0,0,0]
[null,{"$f":"IF(D94=0,\"\",VLOOKUP(D94,基礎データ!$B$5:$D$64,3))","v":""},{"$f":"IF(D94=0,\"\",VLOOKUP(D94,基礎データ!$B$5:$D$64,2))","v":""},0,{"$f":"IF(E19=4,\"😄\",IF(E19=3,\"😊\",IF(E19=2,\"😢\",IF(E19=1,\"😭\",\"\"))))","v":""},"","","","","","","","","","","","","","","","","","","","","","","","","","","",0,0,0,0,0,0,0]
[null,{"$f":"IF(D95=0,\"\",VLOOKUP(D95,基礎データ!$B$5:$D$64,3))","v":""},{"$f":"IF(D95=0,\"\",VLOOKUP(D95,基礎データ!$B$5:$D$64,2))","v":""},0,{"$f":"IF(E20=4,\"😄\",IF(E20=3,\"😊\",IF(E20=2,\"😢\",IF(E20=1,\"😭\",\"\"))))","v":""},"","","","","","","","","","","","","","","","","","","","","","","","","","","",0,0,0,0,0,0,0]
[null,{"$f":"IF(D96=0,\"\",VLOOKUP(D96,基礎データ!$B$5:$D$64,3))","v":""},{"$f":"IF(D96=0,\"\",VLOOKUP(D96,基礎データ!$B$5:$D$64,2))","v":""},0,{"$f":"IF(E21=4,\"😄\",IF(E21=3,\"😊\",IF(E21=2,\"😢\",IF(E21=1,\"😭\",\"\"))))","v":""},"","","","","","","","","","","","","","","","","","","","","","","","","","","",0,0,0,0,0,0,0]
[null,{"$f":"IF(D97=0,\"\",VLOOKUP(D97,基礎データ!$B$5:$D$64,3))","v":""},{"$f":"IF(D97=0,\"\",VLOOKUP(D97,基礎データ!$B$5:$D$64,2))","v":""},0,{"$f":"IF(E22=4,\"😄\",IF(E22=3,\"😊\",IF(E22=2,\"😢\",IF(E22=1,\"😭\",\"\"))))","v":""},"","","","","","","","","","","","","","","","","","","","","","","","","","","",0,0,0,0,0,0,0]
[null,{"$f":"IF(D98=0,\"\",VLOOKUP(D98,基礎データ!$B$5:$D$64,3))","v":""},{"$f":"IF(D98=0,\"\",VLOOKUP(D98,基礎データ!$B$5:$D$64,2))","v":""},0,{"$f":"IF(E23=4,\"😄\",IF(E23=3,\"😊\",IF(E23=2,\"😢\",IF(E23=1,\"😭\",\"\"))))","v":""},"","","","","","","","","","","","","","","","","","","","","","","","","","","",0,0,0,0,0,0,0]
[null,{"$f":"IF(D99=0,\"\",VLOOKUP(D99,基礎データ!$B$5:$D$64,3))","v":""},{"$f":"IF(D99=0,\"\",VLOOKUP(D99,基礎データ!$B$5:$D$64,2))","v":""},0,{"$f":"IF(E24=4,\"😄\",IF(E24=3,\"😊\",IF(E24=2,\"😢\",IF(E24=1,\"😭\",\"\"))))","v":""},"","","","","","","","","","","","","","","","","","","","","","","","","","","",0,0,0,0,0,0,0]
[null,{"$f":"IF(D100=0,\"\",VLOOKUP(D100,基礎データ!$B$5:$D$64,3))","v":""},{"$f":"IF(D100=0,\"\",VLOOKUP(D100,基礎データ!$B$5:$D$64,2))","v":""},0,{"$f":"IF(E25=4,\"😄\",IF(E25=3,\"😊\",IF(E25=2,\"😢\",IF(E25=1,\"😭\",\"\"))))","v":""},"","","","","","","","","","","","","","","","","","","","","","","","","","","",0,0,0,0,0,0,0]
[null,{"$f":"IF(D101=0,\"\",VLOOKUP(D101,基礎データ!$B$5:$D$64,3))","v":""},{"$f":"IF(D101=0,\"\",VLOOKUP(D101,基礎データ!$B$5:$D$64,2))","v":""},0,{"$f":"IF(E26=4,\"😄\",IF(E26=3,\"😊\",IF(E26=2,\"😢\",IF(E26=1,\"😭\",\"\"))))","v":""},"","","","","","","","","","","","","","","","","","","","","","","","","","","",{"$f":"AG26","v":0},0,0,0,0,0,0]
[null,{"$f":"IF(D102=0,\"\",VLOOKUP(D102,基礎データ!$B$5:$D$64,3))","v":""},{"$f":"IF(D102=0,\"\",VLOOKUP(D102,基礎データ!$B$5:$D$64,2))","v":""},0,{"$f":"IF(E27=4,\"😄\",IF(E27=3,\"😊\",IF(E27=2,\"😢\",IF(E27=1,\"😭\",\"\"))))","v":""},"","","","","","","","","","","","","","","","","","","","","","","","","","","",0,0,0,0,0,0,0]
[null,{"$f":"IF(D103=0,\"\",VLOOKUP(D103,基礎データ!$B$5:$D$64,3))","v":""},{"$f":"IF(D103=0,\"\",VLOOKUP(D103,基礎データ!$B$5:$D$64,2))","v":""},0,{"$f":"IF(E28=4,\"😄\",IF(E28=3,\"😊\",IF(E28=2,\"😢\",IF(E28=1,\"😭\",\"\"))))","v":""},"","","","","","","","","","","","","","","","","","","","","","","","","","","",0,0,0,0,0,0,0]
[null,{"$f":"IF(D104=0,\"\",VLOOKUP(D104,基礎データ!$B$5:$D$64,3))","v":""},{"$f":"IF(D104=0,\"\",VLOOKUP(D104,基礎データ!$B$5:$D$64,2))","v":""},0,{"$f":"IF(E29=4,\"😄\",IF(E29=3,\"😊\",IF(E29=2,\"😢\",IF(E29=1,\"😭\",\"\"))))","v":""},"","","","","","","","","","","","","","","","","","","","","","","","","","","",0,0,0,0,0,0,0]
[null,{"$f":"IF(D105=0,\"\",VLOOKUP(D105,基礎データ!$B$5:$D$64,3))","v":""},{"$f":"IF(D105=0,\"\",VLOOKUP(D105,基礎データ!$B$5:$D$64,2))","v":""},0,{"$f":"IF(E30=4,\"😄\",IF(E30=3,\"😊\",IF(E30=2,\"😢\",IF(E30=1,\"😭\",\"\"))))","v":""},"","","","","","","","","","","","","","","","","","","","","","","","","","","",0,0,0,0,0,0,0]
[null,{"$f":"IF(D106=0,\"\",VLOOKUP(D106,基礎データ!$B$5:$D$64,3))","v":""},{"$f":"IF(D106=0,\"\",VLOOKUP(D106,基礎データ!$B$5:$D$64,2))","v":""},0,{"$f":"IF(E31=4,\"😄\",IF(E31=3,\"😊\",IF(E31=2,\"😢\",IF(E31=1,\"😭\",\"\"))))","v":""},"","","","","","","","","","","","","","","","","","","","","","","","","","","",0,0,0,0,0,0,0]
[null,{"$f":"IF(D107=0,\"\",VLOOKUP(D107,基礎データ!$B$5:$D$64,3))","v":""},{"$f":"IF(D107=0,\"\",VLOOKUP(D107,基礎データ!$B$5:$D$64,2))","v":""},0,{"$f":"IF(E32=4,\"😄\",IF(E32=3,\"😊\",IF(E32=2,\"😢\",IF(E32=1,\"😭\",\"\"))))","v":""},"","","","","","","","","","","","","","","","","","","","","","","","","","","",0,0,0,0,0,0,0]
[null,{"$f":"IF(D108=0,\"\",VLOOKUP(D108,基礎データ!$B$5:$D$64,3))","v":""},{"$f":"IF(D108=0,\"\",VLOOKUP(D108,基礎データ!$B$5:$D$64,2))","v":""},0,{"$f":"IF(E33=4,\"😄\",IF(E33=3,\"😊\",IF(E33=2,\"😢\",IF(E33=1,\"😭\",\"\"))))","v":""},"","","","","","","","","","","","","","","","","","","","","","","","","","","",0,0,0,0,0,0,0]
[null,{"$f":"IF(D109=0,\"\",VLOOKUP(D109,基礎データ!$B$5:$D$64,3))","v":""},{"$f":"IF(D109=0,\"\",VLOOKUP(D109,基礎データ!$B$5:$D$64,2))","v":""},0,{"$f":"IF(E34=4,\"😄\",IF(E34=3,\"😊\",IF(E34=2,\"😢\",IF(E34=1,\"😭\",\"\"))))","v":""},"","","","","","","","","","","","","","","","","","","","","","","","","","","",0,0,0,0,0,0,0]
[null,{"$f":"IF(D110=0,\"\",VLOOKUP(D110,基礎データ!$B$5:$D$64,3))","v":""},{"$f":"IF(D110=0,\"\",VLOOKUP(D110,基礎データ!$B$5:$D$64,2))","v":""},0,{"$f":"IF(E35=4,\"😄\",IF(E35=3,\"😊\",IF(E35=2,\"😢\",IF(E35=1,\"😭\",\"\"))))","v":""},"","","","","","","","","","","","","","","","","","","","","","","","","","","",0,0,0,0,0,0,0]
[null,{"$f":"IF(D111=0,\"\",VLOOKUP(D111,基礎データ!$B$5:$D$64,3))","v":""},{"$f":"IF(D111=0,\"\",VLOOKUP(D111,基礎データ!$B$5:$D$64,2))","v":""},0,{"$f":"IF(E36=4,\"😄\",IF(E36=3,\"😊\",IF(E36=2,\"😢\",IF(E36=1,\"😭\",\"\"))))","v":""},"","","","","","","","","","","","","","","","","","","","","","","","","","","",{"$f":"AG36","v":0},0,0,0,0,0,0]
[null,{"$f":"IF(D112=0,\"\",VLOOKUP(D112,基礎データ!$B$5:$D$64,3))","v":""},{"$f":"IF(D112=0,\"\",VLOOKUP(D112,基礎データ!$B$5:$D$64,2))","v":""},0,{"$f":"IF(E37=4,\"😄\",IF(E37=3,\"😊\",IF(E37=2,\"😢\",IF(E37=1,\"😭\",\"\"))))","v":""},"","","","","","","","","","","","","","","","","","","","","","","","","","","",0,0,0,0,0,0,0]
[null,{"$f":"IF(D113=0,\"\",VLOOKUP(D113,基礎データ!$B$5:$D$64,3))","v":""},{"$f":"IF(D113=0,\"\",VLOOKUP(D113,基礎データ!$B$5:$D$64,2))","v":""},0,{"$f":"IF(E38=4,\"😄\",IF(E38=3,\"😊\",IF(E38=2,\"😢\",IF(E38=1,\"😭\",\"\"))))","v":""},"","","","","","","","","","","","","","","","","","","","","","","","","","","",0,0,0,0,0,0,0]
[null,{"$f":"IF(D114=0,\"\",VLOOKUP(D114,基礎データ!$B$5:$D$64,3))","v":""},{"$f":"IF(D114=0,\"\",VLOOKUP(D114,基礎データ!$B$5:$D$64,2))","v":""},0,{"$f":"IF(E39=4,\"😄\",IF(E39=3,\"😊\",IF(E39=2,\"😢\",IF(E39=1,\"😭\",\"\"))))","v":""},"","","","","","","","","","","","","","","","","","","","","","","","","","","",0,0,0,0,0,0,0]
[null,{"$f":"IF(D115=0,\"\",VLOOKUP(D115,基礎データ!$B$5:$D$64,3))","v":""},{"$f":"IF(D115=0,\"\",VLOOKUP(D115,基礎データ!$B$5:$D$64,2))","v":""},0,{"$f":"IF(E40=4,\"😄\",IF(E40=3,\"😊\",IF(E40=2,\"😢\",IF(E40=1,\"😭\",\"\"))))","v":""},"","","","","","","","","","","","","","","","","","","","","","","","","","","",0,0,0,0,0,0,0]
[null,{"$f":"IF(D116=0,\"\",VLOOKUP(D116,基礎データ!$B$5:$D$64,3))","v":""},{"$f":"IF(D116=0,\"\",VLOOKUP(D116,基礎データ!$B$5:$D$64,2))","v":""},0,{"$f":"IF(E41=4,\"😄\",IF(E41=3,\"😊\",IF(E41=2,\"😢\",IF(E41=1,\"😭\",\"\"))))","v":""},"","","","","","","","","","","","","","","","","","","","","","","","","","","",0,0,0,0,0,0,0]
[null,{"$f":"IF(D117=0,\"\",VLOOKUP(D117,基礎データ!$B$5:$D$64,3))","v":""},{"$f":"IF(D117=0,\"\",VLOOKUP(D117,基礎データ!$B$5:$D$64,2))","v":""},0,{"$f":"IF(E42=4,\"😄\",IF(E42=3,\"😊\",IF(E42=2,\"😢\",IF(E42=1,\"😭\",\"\"))))","v":""},"","","","","","","","","","","","","","","","","","","","","","","","","","","",0,0,0,0,0,0,0]
[null,{"$f":"IF(D118=0,\"\",VLOOKUP(D118,基礎データ!$B$5:$D$64,3))","v":""},{"$f":"IF(D118=0,\"\",VLOOKUP(D118,基礎データ!$B$5:$D$64,2))","v":""},0,{"$f":"IF(E43=4,\"😄\",IF(E43=3,\"😊\",IF(E43=2,\"😢\",IF(E43=1,\"😭\",\"\"))))","v":""},"","","","","","","","","","","","","","","","","","","","","","","","","","","",0,0,0,0,0,0,0]
[null,{"$f":"IF(D119=0,\"\",VLOOKUP(D119,基礎データ!$B$5:$D$64,3))","v":""},{"$f":"IF(D119=0,\"\",VLOOKUP(D119,基礎データ!$B$5:$D$64,2))","v":""},0,{"$f":"IF(E44=4,\"😄\",IF(E44=3,\"😊\",IF(E44=2,\"😢\",IF(E44=1,\"😭\",\"\"))))","v":""},"","","","","","","","","","","","","","","","","","","","","","","","","","","",0,0,0,0,0,0,0]
[null,{"$f":"IF(D120=0,\"\",VLOOKUP(D120,基礎データ!$B$5:$D$64,3))","v":""},{"$f":"IF(D120=0,\"\",VLOOKUP(D120,基礎データ!$B$5:$D$64,2))","v":""},0,{"$f":"IF(E45=4,\"😄\",IF(E45=3,\"😊\",IF(E45=2,\"😢\",IF(E45=1,\"😭\",\"\"))))","v":""},"","","","","","","","","","","","","","","","","","","","","","","","","","","",0,0,0,0,0,0,0]
[null,{"$f":"IF(D121=0,\"\",VLOOKUP(D121,基礎データ!$B$5:$D$64,3))","v":""},{"$f":"IF(D121=0,\"\",VLOOKUP(D121,基礎データ!$B$5:$D$64,2))","v":""},0,{"$f":"IF(E46=4,\"😄\",IF(E46=3,\"😊\",IF(E46=2,\"😢\",IF(E46=1,\"😭\",\"\"))))","v":""},"","","","","","","","","","","","","","","","","","","","","","","","","","","",{"$f":"AG46","v":0},0,0,0,0,0,0]
[null,{"$f":"IF(D122=0,\"\",VLOOKUP(D122,基礎データ!$B$5:$D$64,3))","v":""},{"$f":"IF(D122=0,\"\",VLOOKUP(D122,基礎データ!$B$5:$D$64,2))","v":""},0,{"$f":"IF(E47=4,\"😄\",IF(E47=3,\"😊\",IF(E47=2,\"😢\",IF(E47=1,\"😭\",\"\"))))","v":""},"","","","","","","","","","","","","","","","","","","","","","","","","","","",0,0,0,0,0,0,0]
[null,{"$f":"IF(D123=0,\"\",VLOOKUP(D123,基礎データ!$B$5:$D$64,3))","v":""},{"$f":"IF(D123=0,\"\",VLOOKUP(D123,基礎データ!$B$5:$D$64,2))","v":""},0,{"$f":"IF(E48=4,\"😄\",IF(E48=3,\"😊\",IF(E48=2,\"😢\",IF(E48=1,\"😭\",\"\"))))","v":""},"","","","","","","","","","","","","","","","","","","","","","","","","","","",0,0,0,0,0,0,0]
[null,{"$f":"IF(D124=0,\"\",VLOOKUP(D124,基礎データ!$B$5:$D$64,3))","v":""},{"$f":"IF(D124=0,\"\",VLOOKUP(D124,基礎データ!$B$5:$D$64,2))","v":""},0,{"$f":"IF(E49=4,\"😄\",IF(E49=3,\"😊\",IF(E49=2,\"😢\",IF(E49=1,\"😭\",\"\"))))","v":""},"","","","","","","","","","","","","","","","","","","","","","","","","","","",0,0,0,0,0,0,0]
[null,{"$f":"IF(D125=0,\"\",VLOOKUP(D125,基礎データ!$B$5:$D$64,3))","v":""},{"$f":"IF(D125=0,\"\",VLOOKUP(D125,基礎データ!$B$5:$D$64,2))","v":""},0,{"$f":"IF(E50=4,\"😄\",IF(E50=3,\"😊\",IF(E50=2,\"😢\",IF(E50=1,\"😭\",\"\"))))","v":""},"","","","","","","","","","","","","","","","","","","","","","","","","","","",0,0,0,0,0,0,0]
[null,{"$f":"IF(D126=0,\"\",VLOOKUP(D126,基礎データ!$B$5:$D$64,3))","v":""},{"$f":"IF(D126=0,\"\",VLOOKUP(D126,基礎データ!$B$5:$D$64,2))","v":""},0,{"$f":"IF(E51=4,\"😄\",IF(E51=3,\"😊\",IF(E51=2,\"😢\",IF(E51=1,\"😭\",\"\"))))","v":""},"","","","","","","","","","","","","","","","","","","","","","","","","","","",0,0,0,0,0,0,0]
[null,{"$f":"IF(D127=0,\"\",VLOOKUP(D127,基礎データ!$B$5:$D$64,3))","v":""},{"$f":"IF(D127=0,\"\",VLOOKUP(D127,基礎データ!$B$5:$D$64,2))","v":""},0,{"$f":"IF(E52=4,\"😄\",IF(E52=3,\"😊\",IF(E52=2,\"😢\",IF(E52=1,\"😭\",\"\"))))","v":""},"","","","","","","","","","","","","","","","","","","","","","","","","","","",0,0,0,0,0,0,0]
[null,{"$f":"IF(D128=0,\"\",VLOOKUP(D128,基礎データ!$B$5:$D$64,3))","v":""},{"$f":"IF(D128=0,\"\",VLOOKUP(D128,基礎データ!$B$5:$D$64,2))","v":""},0,{"$f":"IF(E53=4,\"😄\",IF(E53=3,\"😊\",IF(E53=2,\"😢\",IF(E53=1,\"😭\",\"\"))))","v":""},"","","","","","","","","","","","","","","","","","","","","","","","","","","",0,0,0,0,0,0,0]
[null,{"$f":"IF(D129=0,\"\",VLOOKUP(D129,基礎データ!$B$5:$D$64,3))","v":""},{"$f":"IF(D129=0,\"\",VLOOKUP(D129,基礎データ!$B$5:$D$64,2))","v":""},0,{"$f":"IF(E54=4,\"😄\",IF(E54=3,\"😊\",IF(E54=2,\"😢\",IF(E54=1,\"😭\",\"\"))))","v":""},"","","","","","","","","","","","","","","","","","","","","","","","","","","",0,0,0,0,0,0,0]
[null,{"$f":"IF(D130=0,\"\",VLOOKUP(D130,基礎データ!$B$5:$D$64,3))","v":""},{"$f":"IF(D130=0,\"\",VLOOKUP(D130,基礎データ!$B$5:$D$64,2))","v":""},0,{"$f":"IF(E55=4,\"😄\",IF(E55=3,\"😊\",IF(E55=2,\"😢\",IF(E55=1,\"😭\",\"\"))))","v":""},"","","","","","","","","","","","","","","","","","","","","","","","","","","",0,0,0,0,0,0,0]
[null,{"$f":"IF(D131=0,\"\",VLOOKUP(D131,基礎データ!$B$5:$D$64,3))","v":""},{"$f":"IF(D131=0,\"\",VLOOKUP(D131,基礎データ!$B$5:$D$64,2))","v":""},0,{"$f":"IF(E56=4,\"😄\",IF(E56=3,\"😊\",IF(E56=2,\"😢\",IF(E56=1,\"😭\",\"\"))))","v":""},"","","","","","","","","","","","","","","","","","","","","","","","","","","",{"$f":"AG56","v":0},0,0,0,0,0,0]
[null,{"$f":"IF(D132=0,\"\",VLOOKUP(D132,基礎データ!$B$5:$D$64,3))","v":""},{"$f":"IF(D132=0,\"\",VLOOKUP(D132,基礎データ!$B$5:$D$64,2))","v":""},0,{"$f":"IF(E57=4,\"😄\",IF(E57=3,\"😊\",IF(E57=2,\"😢\",IF(E57=1,\"😭\",\"\"))))","v":""},"","","","","","","","","","","","","","","","","","","","","","","","","","","",0,0,0,0,0,0,0]
[null,{"$f":"IF(D133=0,\"\",VLOOKUP(D133,基礎データ!$B$5:$D$64,3))","v":""},{"$f":"IF(D133=0,\"\",VLOOKUP(D133,基礎データ!$B$5:$D$64,2))","v":""},0,{"$f":"IF(E58=4,\"😄\",IF(E58=3,\"😊\",IF(E58=2,\"😢\",IF(E58=1,\"😭\",\"\"))))","v":""},"","","","","","","","","","","","","","","","","","","","","","","","","","","",0,0,0,0,0,0,0]
[null,{"$f":"IF(D134=0,\"\",VLOOKUP(D134,基礎データ!$B$5:$D$64,3))","v":""},{"$f":"IF(D134=0,\"\",VLOOKUP(D134,基礎データ!$B$5:$D$64,2))","v":""},0,{"$f":"IF(E59=4,\"😄\",IF(E59=3,\"😊\",IF(E59=2,\"😢\",IF(E59=1,\"😭\",\"\"))))","v":""},"","","","","","","","","","","","","","","","","","","","","","","","","","","",0,0,0,0,0,0,0]
[null,{"$f":"IF(D135=0,\"\",VLOOKUP(D135,基礎データ!$B$5:$D$64,3))","v":""},{"$f":"IF(D135=0,\"\",VLOOKUP(D135,基礎データ!$B$5:$D$64,2))","v":""},0,{"$f":"IF(E60=4,\"😄\",IF(E60=3,\"😊\",IF(E60=2,\"😢\",IF(E60=1,\"😭\",\"\"))))","v":""},"","","","","","","","","","","","","","","","","","","","","","","","","","","",0,0,0,0,0,0,0]
[null,{"$f":"IF(D136=0,\"\",VLOOKUP(D136,基礎データ!$B$5:$D$64,3))","v":""},{"$f":"IF(D136=0,\"\",VLOOKUP(D136,基礎データ!$B$5:$D$64,2))","v":""},0,{"$f":"IF(E61=4,\"😄\",IF(E61=3,\"😊\",IF(E61=2,\"😢\",IF(E61=1,\"😭\",\"\"))))","v":""},"","","","","","","","","","","","","","","","","","","","","","","","","","","",0,0,0,0,0,0,0]
[null,{"$f":"IF(D137=0,\"\",VLOOKUP(D137,基礎データ!$B$5:$D$64,3))","v":""},{"$f":"IF(D137=0,\"\",VLOOKUP(D137,基礎データ!$B$5:$D$64,2))","v":""},0,{"$f":"IF(E62=4,\"😄\",IF(E62=3,\"😊\",IF(E62=2,\"😢\",IF(E62=1,\"😭\",\"\"))))","v":""},"","","","","","","","","","","","","","","","","","","","","","","","","","","",0,0,0,0,0,0,0]
[null,{"$f":"IF(D138=0,\"\",VLOOKUP(D138,基礎データ!$B$5:$D$64,3))","v":""},{"$f":"IF(D138=0,\"\",VLOOKUP(D138,基礎データ!$B$5:$D$64,2))","v":""},0,{"$f":"IF(E63=4,\"😄\",IF(E63=3,\"😊\",IF(E63=2,\"😢\",IF(E63=1,\"😭\",\"\"))))","v":""},"","","","","","","","","","","","","","","","","","","","","","","","","","","",0,0,0,0,0,0,0]
[null,{"$f":"IF(D139=0,\"\",VLOOKUP(D139,基礎データ!$B$5:$D$64,3))","v":""},{"$f":"IF(D139=0,\"\",VLOOKUP(D139,基礎データ!$B$5:$D$64,2))","v":""},0,{"$f":"IF(E64=4,\"😄\",IF(E64=3,\"😊\",IF(E64=2,\"😢\",IF(E64=1,\"😭\",\"\"))))","v":""},"","","","","","","","","","","","","","","","","","","","","","","","","","","",0,0,0,0,0,0,0]
[null,{"$f":"IF(D140=0,\"\",VLOOKUP(D140,基礎データ!$B$5:$D$64,3))","v":""},{"$f":"IF(D140=0,\"\",VLOOKUP(D140,基礎データ!$B$5:$D$64,2))","v":""},0,{"$f":"IF(E65=4,\"😄\",IF(E65=3,\"😊\",IF(E65=2,\"😢\",IF(E65=1,\"😭\",\"\"))))","v":""},"","","","","","","","","","","","","","","","","","","","","","","","","","","",0,0,0,0,0,0,0]
[null,"😄 の数",null,null,{"$f":"E66","v":0},0,0,0,0,0,0,{"$f":"L66","v":0},0,0,0,0,0,0,0,0,0,0,0,0,0,0,0,0,0,0,0,0,0,0,0,0,0,0,{"$f":"AM66","v":0}]
[null,"😊 の数",null,null,{"$f":"E67","v":0},0,0,0,0,0,0,{"$f":"L67","v":0},0,0,0,0,0,0,0,0,0,0,0,0,0,0,0,0,0,0,0,0,0,0,0,0,0,0,0]
[null,"😢 の数",null,null,{"$f":"E68","v":0},0,0,0,0,0,0,{"$f":"L68","v":0},0,0,0,0,0,0,0,0,0,0,0,0,0,0,0,0,0,0,0,0,0,0,0,0,0,0,0]
[null,"😭 の数",null,null,{"$f":"E69","v":0},0,0,0,0,0,0,{"$f":"L69","v":0},0,0,0,0,0,0,0,0,0,0,0,0,0,0,0,0,0,0,0,0,0,0,0,0,0,0,0]
[null,"合計",null,null,{"$f":"E70","v":0},0,0,0,0,0,0,{"$f":"L70","v":0},0,0,0,0,0,0,0,0,0,0,0,0,0,0,0,0,0,0,0,0,0,0,0,0,0,0,0]
[null,"男子平均",null,{"$f":"COUNTIF($B$81:$B$140,\"男\")","v":0},{"$f":"E71","v":0},0,0,0,0,0,0,{"$f":"L71","v":0},0,0,0,0,0,0,0,0,0,0,0,0,0,0,0,0,0,0,0,0,0,0,0,0,0,0,0]
[null,"女子平均",null,{"$f":"COUNTIF($B$81:$B$140,\"女\")","v":0},{"$f":"E72","v":0},0,0,0,0,0,0,{"$f":"L72","v":0},0,0,0,0,0,0,0,0,0,0,0,0,0,0,0,0,0,0,0,0,0,0,0,0,0,0,0]
[null,"全体平均",null,{"$f":"SUM(D146:D147)","v":0},{"$f":"E73","v":0},0,0,0,0,0,0,{"$f":"L73","v":0},0,0,0,0,0,0,0,0,0,0,0,0,0,0,0,0,0,0,0,0,0,0,0,0,0,0,0]
[null,null,null,"↑"]
[null,null,null,"ここだけ人数"]

{"sheet":"２回目直接入力","index":8,"n_rows":64,"n_cols":29,"rows_kept":64,"cut":false,"hidden":false,"merged":[]}
[null,"2回目直接入力 　出席番号順に入力しなくてよいです。"]
["出席番号","（1）","（2）","（3）","（4）","（5）","（6）","（7）","（8）","（9）","（10）","（11）","（12）","（13）","（14）","（15）","（16）","（17）","（18）","（19）","（20）","（21）","（22）","（23）","（24）","（25）","（26）","（27）","（28）"]
[{"$f":"A65","v":0},0,0,0,0,0,{"$f":"IF(G65=4,1,IF(G65=3,2,IF(G65=2,3,IF(G65=1,4,0))))","v":0},0,0,{"$f":"J65","v":0},0,0,0,0,{"$f":"IF(O65=4,1,IF(O65=3,2,IF(O65=2,3,IF(O65=1,4,0))))","v":0},{"$f":"P65","v":0},0,0,0,0,{"$f":"IF(U65=4,1,IF(U65=3,2,IF(U65=2,3,IF(U65=1,4,0))))","v":0},{"$f":"V65","v":0},0,0,0,0,{"$f":"IF(AA65=4,1,IF(AA65=3,2,IF(AA65=2,3,IF(AA65=1,4,0))))","v":0},0,0]
[0,0,0,0,0,0,0,0,0,0,0,0,0,0,{"$f":"IF(O66=4,1,IF(O66=3,2,IF(O66=2,3,IF(O66=1,4,0))))","v":0},0,0,0,0,0,{"$f":"IF(U66=4,1,IF(U66=3,2,IF(U66=2,3,IF(U66=1,4,0))))","v":0},0,0,0,0,0,0,0,0]
[0,0,0,0,0,0,0,0,0,0,0,0,0,0,0,0,0,0,0,0,0,0,0,0,0,0,0,0,0]
[0,0,0,0,0,0,0,0,0,0,0,0,0,0,0,0,0,0,0,0,0,0,0,0,0,0,0,0,0]
[0,0,0,0,0,0,0,0,0,0,0,0,0,0,0,0,0,0,0,0,0,0,0,0,0,0,0,0,0]
[0,0,0,0,0,0,0,0,0,0,0,0,0,0,0,0,0,0,0,0,0,0,0,0,0,0,0,0,0]
[0,0,0,0,0,0,0,0,0,0,0,0,0,0,0,0,0,0,0,0,0,0,0,0,0,0,0,0,0]
[0,0,0,0,0,0,0,0,0,0,0,0,0,0,0,0,0,0,0,0,0,0,0,0,0,0,0,0,0]
[0,0,0,0,0,0,0,0,0,0,0,0,0,0,0,0,0,0,0,0,0,0,0,0,0,0,0,0,0]
[0,0,0,0,0,0,0,0,0,0,0,0,0,0,0,0,0,0,0,0,0,0,0,0,0,0,0,0,0]
[0,0,0,0,0,0,0,0,0,0,0,0,0,0,0,0,0,0,0,0,0,0,0,0,0,0,0,0,0]
[0,0,0,0,0,0,0,0,0,0,0,0,0,0,0,0,0,0,0,0,0,0,0,0,0,0,0,0,0]
[0,0,0,0,0,0,0,0,0,0,0,0,0,0,0,0,0,0,0,0,0,0,0,0,0,0,0,0,0]
[0,0,0,0,0,0,0,0,0,0,0,0,0,0,0,0,0,0,0,0,0,0,0,0,0,0,0,0,0]
[0,0,0,0,0,0,0,0,0,0,0,0,0,0,0,0,0,0,0,0,0,0,0,0,0,0,0,0,0]
[0,0,0,0,0,0,0,0,0,0,0,0,0,0,0,0,0,0,0,0,0,0,0,0,0,0,0,0,0]
[{"$f":"A81","v":0},0,0,0,0,0,{"$f":"IF(G81=4,1,IF(G81=3,2,IF(G81=2,3,IF(G81=1,4,0))))","v":0},0,0,{"$f":"J81","v":0},0,0,0,0,0,{"$f":"P81","v":0},0,0,0,0,0,{"$f":"V81","v":0},0,0,0,0,{"$f":"IF(AA81=4,1,IF(AA81=3,2,IF(AA81=2,3,IF(AA81=1,4,0))))","v":0},0,0]
[0,0,0,0,0,0,0,0,0,0,0,0,0,0,0,0,0,0,0,0,0,0,0,0,0,0,0,0,0]
[0,0,0,0,0,0,0,0,0,0,0,0,0,0,0,0,0,0,0,0,0,0,0,0,0,0,0,0,0]
[0,0,0,0,0,0,0,0,0,0,0,0,0,0,0,0,0,0,0,0,0,0,0,0,0,0,0,0,0]
[0,0,0,0,0,0,0,0,0,0,0,0,0,0,0,0,0,0,0,0,0,0,0,0,0,0,0,0,0]
[0,0,0,0,0,0,0,0,0,0,0,0,0,0,0,0,0,0,0,0,0,0,0,0,0,0,0,0,0]
[0,0,0,0,0,0,0,0,0,0,0,0,0,0,0,0,0,0,0,0,0,0,0,0,0,0,0,0,0]
[0,0,0,0,0,0,0,0,0,0,0,0,0,0,0,0,0,0,0,0,0,0,0,0,0,0,0,0,0]
[0,0,0,0,0,0,0,0,0,0,0,0,0,0,0,0,0,0,0,0,0,0,0,0,0,0,0,0,0]
[0,0,0,0,0,0,0,0,0,0,0,0,0,0,0,0,0,0,0,0,0,0,0,0,0,0,0,0,0]
[0,0,0,0,0,0,0,0,0,0,0,0,0,0,0,0,0,0,0,0,0,0,0,0,0,0,0,0,0]
[0,0,0,0,0,0,0,0,0,0,0,0,0,0,0,0,0,0,0,0,0,0,0,0,0,0,0,0,0]
[0,0,0,0,0,0,0,0,0,0,0,0,0,0,0,0,0,0,0,0,0,0,0,0,0,0,0,0,0]
[0,0,0,0,0,0,0,0,0,0,0,0,0,0,0,0,0,0,0,0,0,0,0,0,0,0,0,0,0]
[0,0,0,0,0,0,0,0,0,0,0,0,0,0,0,0,0,0,0,0,0,0,0,0,0,0,0,0,0]
[0,0,0,0,0,0,0,0,0,0,0,0,0,0,0,0,0,0,0,0,0,0,0,0,0,0,0,0,0]
[{"$f":"A97","v":0},0,0,0,0,0,{"$f":"IF(G97=4,1,IF(G97=3,2,IF(G97=2,3,IF(G97=1,4,0))))","v":0},0,0,{"$f":"J97","v":0},0,0,0,0,0,{"$f":"P97","v":0},0,0,0,0,0,{"$f":"V97","v":0},0,0,0,0,{"$f":"IF(AA97=4,1,IF(AA97=3,2,IF(AA97=2,3,IF(AA97=1,4,0))))","v":0},0,0]
[0,0,0,0,0,0,0,0,0,0,0,0,0,0,0,0,0,0,0,0,0,0,0,0,0,0,0,0,0]
[0,0,0,0,0,0,0,0,0,0,0,0,0,0,0,0,0,0,0,0,0,0,0,0,0,0,0,0,0]
[0,0,0,0,0,0,0,0,0,0,0,0,0,0,0,0,0,0,0,0,0,0,0,0,0,0,0,0,0]
[0,0,0,0,0,0,0,0,0,0,0,0,0,0,0,0,0,0,0,0,0,0,0,0,0,0,0,0,0]
[0,0,0,0,0,0,0,0,0,0,0,0,0,0,0,0,0,0,0,0,0,0,0,0,0,0,0,0,0]
[0,0,0,0,0,0,0,0,0,0,0,0,0,0,0,0,0,0,0,0,0,0,0,0,0,0,0,0,0]
[0,0,0,0,0,0,0,0,0,0,0,0,0,0,0,0,0,0,0,0,0,0,0,0,0,0,0,0,0]
[0,0,0,0,0,0,0,0,0,0,0,0,0,0,0,0,0,0,0,0,0,0,0,0,0,0,0,0,0]
[0,0,0,0,0,0,0,0,0,0,0,0,0,0,0,0,0,0,0,0,0,0,0,0,0,0,0,0,0]
[0,0,0,0,0,0,0,0,0,0,0,0,0,0,0,0,0,0,0,0,0,0,0,0,0,0,0,0,0]
[0,0,0,0,0,0,0,0,0,0,0,0,0,0,0,0,0,0,0,0,0,0,0,0,0,0,0,0,0]
[0,0,0,0,0,0,0,0,0,0,0,0,0,0,0,0,0,0,0,0,0,0,0,0,0,0,0,0,0]
[0,0,0,0,0,0,0,0,0,0,0,0,0,0,0,0,0,0,0,0,0,0,0,0,0,0,0,0,0]
[0,0,0,0,0,0,0,0,0,0,0,0,0,0,0,0,0,0,0,0,0,0,0,0,0,0,0,0,0]
[0,0,0,0,0,0,0,0,0,0,0,0,0,0,0,0,0,0,0,0,0,0,0,0,0,0,0,0,0]
[{"$f":"A113","v":0},0,0,0,0,0,{"$f":"IF(G113=4,1,IF(G113=3,2,IF(G113=2,3,IF(G113=1,4,0))))","v":0},0,0,{"$f":"J113","v":0},0,0,0,0,0,{"$f":"P113","v":0},0,0,0,0,0,{"$f":"V113","v":0},0,0,0,0,{"$f":"IF(AA113=4,1,IF(AA113=3,2,IF(AA113=2,3,IF(AA113=1,4,0))))","v":0},0,0]
[0,0,0,0,0,0,0,0,0,0,0,0,0,0,0,0,0,0,0,0,0,0,0,0,0,0,0,0,0]
[0,0,0,0,0,0,0,0,0,0,0,0,0,0,0,0,0,0,0,0,0,0,0,0,0,0,0,0,0]
[0,0,0,0,0,0,0,0,0,0,0,0,0,0,0,0,0,0,0,0,0,0,0,0,0,0,0,0,0]
[0,0,0,0,0,0,0,0,0,0,0,0,0,0,0,0,0,0,0,0,0,0,0,0,0,0,0,0,0]
[0,0,0,0,0,0,0,0,0,0,0,0,0,0,0,0,0,0,0,0,0,0,0,0,0,0,0,0,0]
[0,0,0,0,0,0,0,0,0,0,0,0,0,0,0,0,0,0,0,0,0,0,0,0,0,0,0,0,0]
[0,0,0,0,0,0,0,0,0,0,0,0,0,0,0,0,0,0,0,0,0,0,0,0,0,0,0,0,0]
[0,0,0,0,0,0,0,0,0,0,0,0,0,0,0,0,0,0,0,0,0,0,0,0,0,0,0,0,0]
[0,0,0,0,0,0,0,0,0,0,0,0,0,0,0,0,0,0,0,0,0,0,0,0,0,0,0,0,0]
[0,0,0,0,0,0,0,0,0,0,0,0,0,0,0,0,0,0,0,0,0,0,0,0,0,0,0,0,0]
[0,0,0,0,0,0,0,0,0,0,0,0,0,0,0,0,0,0,0,0,0,0,0,0,0,0,0,0,0]
[]
["出席番号","（1）","（2）","（3）","（4）","（5）","（6）","（7）","（8）","（9）","（10）","（11）","（12）","（13）","（14）","（15）","（16）","（17）","（18）","（19）","（20）","（21）","（22）","（23）","（24）","（25）","（26）","（27）","（28）"]

{"sheet":"２回目ボタン入力","index":9,"n_rows":61,"n_cols":24,"rows_kept":61,"cut":false,"hidden":false,"merged":[[0,2,24,21]]}
[{"$f":"B1","v":1},1,1]
[{"$f":"IF(B2=5,0,B2)","v":3},3,null,null,null,null,null,null,null,null,null,null,null,null,null,null,null,null,null,null,null,null,null,1]
[{"$f":"IF(B3=5,0,B3)","v":3},3,null,null,null,null,null,null,null,null,null,null,null,null,null,null,null,null,null,null,null,null,null,2]
[3,3,null,null,null,null,null,null,null,null,null,null,null,null,null,null,null,null,null,null,null,null,null,3]
[3,3,null,null,null,null,null,null,null,null,null,null,null,null,null,null,null,null,null,null,null,null,null,4]
[3,3,null,null,null,null,null,null,null,null,null,null,null,null,null,null,null,null,null,null,null,null,null,5]
[{"$f":"IF(B7=1,4,IF(B7=2,3,IF(B7=3,2,IF(B7=4,1,IF(B7=5,0,B7)))))","v":2},3,null,null,null,null,null,null,null,null,null,null,null,null,null,null,null,null,null,null,null,null,null,6]
[{"$f":"IF(B8=1,4,IF(B8=2,3,IF(B8=3,2,IF(B8=4,1,IF(B8=5,0,B8)))))","v":2},3,null,null,null,null,null,null,null,null,null,null,null,null,null,null,null,null,null,null,null,null,null,7]
[{"$f":"IF(B9=1,4,IF(B9=2,3,IF(B9=3,2,IF(B9=4,1,IF(B9=5,0,B9)))))","v":2},3,null,null,null,null,null,null,null,null,null,null,null,null,null,null,null,null,null,null,null,null,null,8]
[3,3,null,null,null,null,null,null,null,null,null,null,null,null,null,null,null,null,null,null,null,null,null,9]
[3,3,null,null,null,null,null,null,null,null,null,null,null,null,null,null,null,null,null,null,null,null,null,10]
[3,3,null,null,null,null,null,null,null,null,null,null,null,null,null,null,null,null,null,null,null,null,null,11]
[3,3,null,null,null,null,null,null,null,null,null,null,null,null,null,null,null,null,null,null,null,null,null,12]
[3,3,null,null,null,null,null,null,null,null,null,null,null,null,null,null,null,null,null,null,null,null,null,13]
[{"$f":"IF(B15=1,4,IF(B15=2,3,IF(B15=3,2,IF(B15=4,1,IF(B15=5,0,B15)))))","v":2},3,null,null,null,null,null,null,null,null,null,null,null,null,null,null,null,null,null,null,null,null,null,14]
[3,3,null,null,null,null,null,null,null,null,null,null,null,null,null,null,null,null,null,null,null,null,null,15]
[3,3,null,null,null,null,null,null,null,null,null,null,null,null,null,null,null,null,null,null,null,null,null,16]
[3,3,null,null,null,null,null,null,null,null,null,null,null,null,null,null,null,null,null,null,null,null,null,17]
[3,3,null,null,null,null,null,null,null,null,null,null,null,null,null,null,null,null,null,null,null,null,null,18]
[3,3,null,null,null,null,null,null,null,null,null,null,null,null,null,null,null,null,null,null,null,null,null,19]
[{"$f":"IF(B21=1,4,IF(B21=2,3,IF(B21=3,2,IF(B21=4,1,IF(B21=5,0,B21)))))","v":2},3,null,null,null,null,null,null,null,null,null,null,null,null,null,null,null,null,null,null,null,null,null,20]
[3,3,null,null,null,null,null,null,null,null,null,null,null,null,null,null,null,null,null,null,null,null,null,21]
[3,3,null,null,null,null,null,null,null,null,null,null,null,null,null,null,null,null,null,null,null,null,null,22]
[3,3,null,null,null,null,null,null,null,null,null,null,null,null,null,null,null,null,null,null,null,null,null,23]
[3,3,null,null,null,null,null,null,null,null,null,null,null,null,null,null,null,null,null,null,null,null,null,24]
[3,3,null,null,null,null,null,null,null,null,null,null,null,null,null,null,null,null,26,null,null,null,null,25]
[{"$f":"IF(B27=1,4,IF(B27=2,3,IF(B27=3,2,IF(B27=4,1,IF(B27=5,0,B27)))))","v":2},3,null,null,null,null,null,null,null,null,null,null,null,null,null,null,null,null,27,null,null,null,null,26]
[{"$f":"IF(B28=1,4,IF(B28=2,3,IF(B28=3,2,IF(B28=4,1,IF(B28=5,0,B28)))))","v":2},3,null,null,null,null,null,null,null,null,null,null,null,null,null,null,null,null,28,null,null,null,null,27]
[2,3,null,null,null,null,null,null,null,null,null,null,null,null,null,null,null,null,29,null,null,null,null,28]
[null,null,null,null,null,null,null,null,null,null,null,null,null,null,null,null,null,null,30,null,null,null,null,29]
[null,null,null,null,null,null,null,null,null,null,null,null,null,null,null,null,null,null,31,null,null,null,null,30]
[null,null,null,null,null,null,null,null,null,null,null,null,null,null,null,null,null,null,32,null,null,null,null,31]
[null,null,null,null,null,null,null,null,null,null,null,null,null,null,null,null,null,null,33,null,null,null,null,32]
[null,null,null,null,null,null,null,null,null,null,null,null,null,null,null,null,null,null,34,null,null,null,null,33]
[null,null,null,null,null,null,null,null,null,null,null,null,null,null,null,null,null,null,35,null,null,null,null,34]
[null,null,null,null,null,null,null,null,null,null,null,null,null,null,null,null,null,null,36,null,null,null,null,35]
[null,null,null,null,null,null,null,null,null,null,null,null,null,null,null,null,null,null,37,null,null,null,null,36]
[null,null,null,null,null,null,null,null,null,null,null,null,null,null,null,null,null,null,38,null,null,null,null,37]
[null,null,null,null,null,null,null,null,null,null,null,null,null,null,null,null,null,null,39,null,null,null,null,38]
[null,null,null,null,null,null,null,null,null,null,null,null,null,null,null,null,null,null,40,null,null,null,null,39]
[null,null,null,null,null,null,null,null,null,null,null,null,null,null,null,null,null,null,41,null,null,null,null,40]
[null,null,null,null,null,null,null,null,null,null,null,null,null,null,null,null,null,null,42,null,null,null,null,41]
[null,null,null,null,null,null,null,null,null,null,null,null,null,null,null,null,null,null,43,null,null,null,null,42]
[null,null,null,null,null,null,null,null,null,null,null,null,null,null,null,null,null,null,44,null,null,null,null,43]
[null,null,null,null,null,null,null,null,null,null,null,null,null,null,null,null,null,null,45,null,null,null,null,44]
[null,null,null,null,null,null,null,null,null,null,null,null,null,null,null,null,null,null,null,null,null,null,null,45]
[null,null,null,null,null,null,null,null,null,null,null,null,null,null,null,null,null,null,null,null,null,null,null,46]
[null,null,null,null,null,null,null,null,null,null,null,null,null,null,null,null,null,null,null,null,null,null,null,47]
[null,null,null,null,null,null,null,null,null,null,null,null,null,null,null,null,null,null,null,null,null,null,null,48]
[null,null,null,null,null,null,null,null,null,null,null,null,null,null,null,null,null,null,null,null,null,null,null,49]
[null,null,null,null,null,null,null,null,null,null,null,null,null,null,null,null,null,null,null,null,null,null,null,50]
[null,null,null,null,null,null,null,null,null,null,null,null,null,null,null,null,null,null,null,null,null,null,null,51]
[null,null,null,null,null,null,null,null,null,null,null,null,null,null,null,null,null,null,null,null,null,null,null,52]
[null,null,null,null,null,null,null,null,null,null,null,null,null,null,null,null,null,null,null,null,null,null,null,53]
[null,null,null,null,null,null,null,null,null,null,null,null,null,null,null,null,null,null,null,null,null,null,null,54]
[null,null,null,null,null,null,null,null,null,null,null,null,null,null,null,null,null,null,null,null,null,null,null,55]
[null,null,null,null,null,null,null,null,null,null,null,null,null,null,null,null,null,null,null,null,null,null,null,56]
[null,null,null,null,null,null,null,null,null,null,null,null,null,null,null,null,null,null,null,null,null,null,null,57]
[null,null,null,null,null,null,null,null,null,null,null,null,null,null,null,null,null,null,null,null,null,null,null,58]
[null,null,null,null,null,null,null,null,null,null,null,null,null,null,null,null,null,null,null,null,null,null,null,59]
[null,null,null,null,null,null,null,null,null,null,null,null,null,null,null,null,null,null,null,null,null,null,null,60]

{"sheet":"２回目ボタン出力","index":10,"n_rows":2,"n_cols":29,"rows_kept":2,"cut":false,"hidden":false,"merged":[]}
[null,"２回目出力表"]
["出席番号","（1）","（2）","（3）","（4）","（5）","（6）","（7）","（8）","（9）","（10）","（11）","（12）","（13）","（14）","（15）","（16）","（17）","（18）","（19）","（20）","（21）","（22）","（23）","（24）","（25）","（26）","（27）","（28）"]

{"sheet":"２回目集計表","index":11,"n_rows":150,"n_cols":45,"rows_kept":150,"cut":false,"hidden":false,"merged":[[144,1,144,2],[145,1,145,2],[146,1,146,2],[147,1,147,2],[78,30,79,30],[78,23,79,23],[78,12,79,12],[78,13,79,13],[78,14,79,14],[78,15,79,15],[78,16,79,16],[78,17,79,17],[77,3,79,3],[77,2,79,2],[140,1,140,2],[141,1,141,2],[142,1,142,2],[143,1,143,2],[78,24,79,24],[78,18,79,18],[78,19,79,19],[78,20,79,20],[78,21,79,21],[78,22,79,22],[77,1,79,1],[77,32,77,37],[78,4,79,4],[78,5,79,5],[78,6,79,6],[78,7,79,7],[78,8,79,8],[78,9,79,9],[78,10,79,10],[78,11,79,11],[78,31,79,31],[78,25,79,25],[78,26,79,26],[78,27,79,27],[78,28,79,28],[78,29,79,29],[68,1,68,2],[69,1,69,2],[70,1,70,2],[71,1,71,2],[72,1,72,2],[65,1,65,2],[66,1,66,2],[3,27,4,27],[3,28,4,28],[3,16,4,16],[2,2,4,2],[2,3,4,3],[2,1,4,1],[67,1,67,2],[3,23,4,23],[3,24,4,24],[3,25,4,25],[3,26,4,26],[3,17,4,17],[3,18,4,18],[3,19,4,19],[3,20,4,20],[3,21,4,21],[3,22,4,22],[3,11,4,11],[3,12,4,12],[3,13,4,13],[3,14,4,14],[3,15,4,15],[2,32,2,37],[3,4,4,4],[3,5,4,5],[3,6,4,6],[3,7,4,7],[3,8,4,8],[3,9,4,9],[3,10,4,10],[3,29,4,29],[3,30,4,30],[3,31,4,31]]}
[null,null,null,1,2,3,4,5,6,7,8,9,10,11,12,13,14,15,16,17,18,19,20,21,22,23,24,25,26,27,28,29,30,31,32,33,34,35,36]
[null,null,null,null,null,null,null,null,null,{"$f":"基礎データ!G3","v":0},"年",null,{"$f":"基礎データ!I3","v":0},"組",null,"「学校楽しぃーと」　　一覧表（２回目）"]
[null,"性別","氏名","出席番号",1,2,3,4,5,6,7,8,9,10,11,12,13,14,15,16,17,18,19,20,21,22,23,24,25,26,27,28,"観　点"]
[null,null,null,null,{"$f":"「学校楽しいーと」個票!E19","v":"学校には，お話ができる友達がいますか。"},{"$f":"「学校楽しいーと」個票!Y19","v":"学校には，自分の心配なことを話せる先生がいますか。"},{"$f":"「学校楽しいーと」個票!Y35","v":"学級の中にいると，楽しい気持ちになりますか。"},{"$f":"「学校楽しいーと」個票!Y27","v":"自分の係の仕事は，みんなの役に立っていると思いますか。"},{"$f":"「学校楽しいーと」個票!E27","v":"授業の時，「できた」，「わかった」と思うことがありますか。"},{"$f":"「学校楽しいーと」個票!E35","v":"悲しい気持ちになることがありますか。"},{"$f":"「学校楽しいーと」個票!E44","v":"友達からものを隠されたり，体を叩かれたりして嫌な気持ちになることがありますか。"},{"$f":"「学校楽しいーと」個票!E48","v":"友達がものを隠されたり，体を叩かれたりしたことを見たり聞いたりしたことがありますか。"},{"$f":"「学校楽しいーと」個票!E21","v":"学級には，一緒にお話をしたり，遊んだりする友達がいますか。"},{"$f":"「学校楽しいーと」個票!Y21","v":"学校には，自分の気持ちを分かってくれる先生がいますか。"},{"$f":"「学校楽しいーと」個票!Y37","v":"学級のみんなと一緒にいるのは，楽しいですか。"},{"$f":"「学校楽しいーと」個票!Y29","v":"授業や給食当番で「自分は，よく頑張ったなあ」と思うことがありますか。"},{"$f":"「学校楽しいーと」個票!E29","v":"授業の時，先生のお話をよく聞いていますか。"},{"$f":"「学校楽しいーと」個票!E37","v":"お腹が痛くなるときがありますか。"},{"$f":"「学校楽しいーと」個票!E23","v":"学校には，自分の気持ちを話せる友達がいますか。"},{"$f":"「学校楽しいーと」個票!Y23","v":"学校には，間違いや失敗をしても，きちんと理由を聞いてくれる先生がいますか。"},{"$f":"「学校楽しいーと」個票!Y39","v":"自分は，この学級でよかったと思いますか。"},{"$f":"「学校楽しいーと」個票!Y31","v":"自分には，自分のいいところがあると思いますか。"},{"$f":"「学校楽しいーと」個票!E31","v":"授業の時，よく発表していますか。"},{"$f":"「学校楽しいーと」個票!E39","v":"頭が痛くなるときがありますか。"},{"$f":"「学校楽しいーと」個票!E25","v":"自分が困っているときに，お手伝いをしてくれる友達がいますか。"},{"$f":"「学校楽しいーと」個票!Y25","v":"学校の先生は，ひいきをせずにみんなと同じようにあなたにお話をしてくれますか。"},{"$f":"「学校楽しいーと」個票!Y41","v":"学級では，安心して過ごすことができますか。"},{"$f":"「学校楽しいーと」個票!Y33","v":"他の人から好かれていると思いますか。"},{"$f":"「学校楽しいーと」個票!E33","v":"授業で習ったことができるようになろうと頑張っていますか。"},{"$f":"「学校楽しいーと」個票!E41","v":"気分が悪くなることがありますか。"},{"$f":"「学校楽しいーと」個票!E46","v":"友達から悪口を言われたり，無視をされたりして嫌な気持ちになることがありますか。"},{"$f":"「学校楽しいーと」個票!E50","v":"友達が悪口を言われたり，無視をされたりしたことを見たり聞いたりしたことがありますか。"},"友達との関係","教師との関係","学習意欲","自己肯定感","心身の状態","学級集団における適応感","いじめ"]
[null,null,null,null,null,null,null,null,null,null,null,null,null,null,null,null,null,null,null,null,null,null,null,null,null,null,null,null,null,null,null,null,null,null,null,null,null,null,null,null,null,4,3,2,1]
[null,{"$f":"IF(D6=0,\"\",VLOOKUP(D6,基礎データ!$B$5:$D$64,3))","v":""},{"$f":"IF(D6=0,\"\",VLOOKUP(D6,基礎データ!$B$5:$D$64,2))","v":""},0,0,0,0,0,0,0,0,0,0,0,0,0,0,0,0,0,0,0,0,0,0,0,0,0,0,0,0,0,{"$f":"E6+M6+S6+Y6","v":0},{"$f":"F6+N6+T6+Z6","v":0},{"$f":"I6+Q6+W6+AC6","v":0},{"$f":"H6+P6+V6+AB6","v":0},{"$f":"J6+R6+X6+AD6","v":0},{"$f":"G6+O6+U6+AA6","v":0},{"$f":"AE6+L6+K6+AF6","v":0},null,null,{"$f":"COUNTIF(E6:AF6,4)","v":0},{"$f":"COUNTIF(E6:AF6,3)","v":0},{"$f":"COUNTIF(E6:AF6,2)","v":0},{"$f":"COUNTIF(E6:AF6,1)","v":0}]
[null,{"$f":"IF(D7=0,\"\",VLOOKUP(D7,基礎データ!$B$5:$D$64,3))","v":""},{"$f":"IF(D7=0,\"\",VLOOKUP(D7,基礎データ!$B$5:$D$64,2))","v":""},0,0,0,0,0,0,0,0,0,0,0,0,0,0,0,0,0,0,0,0,0,0,0,0,0,0,0,0,0,0,0,0,0,0,0,0,null,null,{"$f":"COUNTIF(E7:AF7,4)","v":0},{"$f":"COUNTIF(E7:AF7,3)","v":0},{"$f":"COUNTIF(E7:AF7,2)","v":0},{"$f":"COUNTIF(E7:AF7,1)","v":0}]
[null,{"$f":"IF(D8=0,\"\",VLOOKUP(D8,基礎データ!$B$5:$D$64,3))","v":""},{"$f":"IF(D8=0,\"\",VLOOKUP(D8,基礎データ!$B$5:$D$64,2))","v":""},0,0,0,0,0,0,0,0,0,0,0,0,0,0,0,0,0,0,0,0,0,0,0,0,0,0,0,0,0,0,0,0,0,0,0,0,null,null,0,0,0,0]
[null,{"$f":"IF(D9=0,\"\",VLOOKUP(D9,基礎データ!$B$5:$D$64,3))","v":""},{"$f":"IF(D9=0,\"\",VLOOKUP(D9,基礎データ!$B$5:$D$64,2))","v":""},0,0,0,0,0,0,0,0,0,0,0,0,0,0,0,0,0,0,0,0,0,0,0,0,0,0,0,0,0,0,0,0,0,0,0,0,null,null,0,0,0,0]
[null,{"$f":"IF(D10=0,\"\",VLOOKUP(D10,基礎データ!$B$5:$D$64,3))","v":""},{"$f":"IF(D10=0,\"\",VLOOKUP(D10,基礎データ!$B$5:$D$64,2))","v":""},0,0,0,0,0,0,0,0,0,0,0,0,0,0,0,0,0,0,0,0,0,0,0,0,0,0,0,0,0,0,0,0,0,0,0,0,null,null,0,0,0,0]
[null,{"$f":"IF(D11=0,\"\",VLOOKUP(D11,基礎データ!$B$5:$D$64,3))","v":""},{"$f":"IF(D11=0,\"\",VLOOKUP(D11,基礎データ!$B$5:$D$64,2))","v":""},0,0,0,0,0,0,0,0,0,0,0,0,0,0,0,0,0,0,0,0,0,0,0,0,0,0,0,0,0,0,0,0,0,0,0,0,null,null,0,0,0,0]
[null,{"$f":"IF(D12=0,\"\",VLOOKUP(D12,基礎データ!$B$5:$D$64,3))","v":""},{"$f":"IF(D12=0,\"\",VLOOKUP(D12,基礎データ!$B$5:$D$64,2))","v":""},0,0,0,0,0,0,0,0,0,0,0,0,0,0,0,0,0,0,0,0,0,0,0,0,0,0,0,0,0,0,0,0,0,0,0,0,null,null,0,0,0,0]
[null,{"$f":"IF(D13=0,\"\",VLOOKUP(D13,基礎データ!$B$5:$D$64,3))","v":""},{"$f":"IF(D13=0,\"\",VLOOKUP(D13,基礎データ!$B$5:$D$64,2))","v":""},0,0,0,0,0,0,0,0,0,0,0,0,0,0,0,0,0,0,0,0,0,0,0,0,0,0,0,0,0,0,0,0,0,0,0,0,null,null,0,0,0,0]
[null,{"$f":"IF(D14=0,\"\",VLOOKUP(D14,基礎データ!$B$5:$D$64,3))","v":""},{"$f":"IF(D14=0,\"\",VLOOKUP(D14,基礎データ!$B$5:$D$64,2))","v":""},0,0,0,0,0,0,0,0,0,0,0,0,0,0,0,0,0,0,0,0,0,0,0,0,0,0,0,0,0,0,0,0,0,0,0,0,null,null,0,0,0,0]
[null,{"$f":"IF(D15=0,\"\",VLOOKUP(D15,基礎データ!$B$5:$D$64,3))","v":""},{"$f":"IF(D15=0,\"\",VLOOKUP(D15,基礎データ!$B$5:$D$64,2))","v":""},0,0,0,0,0,0,0,0,0,0,0,0,0,0,0,0,0,0,0,0,0,0,0,0,0,0,0,0,0,0,0,0,0,0,0,0,null,null,0,0,0,0]
[null,{"$f":"IF(D16=0,\"\",VLOOKUP(D16,基礎データ!$B$5:$D$64,3))","v":""},{"$f":"IF(D16=0,\"\",VLOOKUP(D16,基礎データ!$B$5:$D$64,2))","v":""},0,0,0,0,0,0,0,0,0,0,0,0,0,0,0,0,0,0,0,0,0,0,0,0,0,0,0,0,0,0,0,0,0,0,0,0,null,null,0,0,0,0]
[null,{"$f":"IF(D17=0,\"\",VLOOKUP(D17,基礎データ!$B$5:$D$64,3))","v":""},{"$f":"IF(D17=0,\"\",VLOOKUP(D17,基礎データ!$B$5:$D$64,2))","v":""},0,0,0,0,0,0,0,0,0,0,0,0,0,0,0,0,0,0,0,0,0,0,0,0,0,0,0,0,0,0,0,0,0,0,0,0,null,null,0,0,0,0]
[null,{"$f":"IF(D18=0,\"\",VLOOKUP(D18,基礎データ!$B$5:$D$64,3))","v":""},{"$f":"IF(D18=0,\"\",VLOOKUP(D18,基礎データ!$B$5:$D$64,2))","v":""},0,0,0,0,0,0,0,0,0,0,0,0,0,0,0,0,0,0,0,0,0,0,0,0,0,0,0,0,0,0,0,0,0,0,0,0,null,null,0,0,0,0]
[null,{"$f":"IF(D19=0,\"\",VLOOKUP(D19,基礎データ!$B$5:$D$64,3))","v":""},{"$f":"IF(D19=0,\"\",VLOOKUP(D19,基礎データ!$B$5:$D$64,2))","v":""},0,0,0,0,0,0,0,0,0,0,0,0,0,0,0,0,0,0,0,0,0,0,0,0,0,0,0,0,0,0,0,0,0,0,0,0,null,null,0,0,0,0]
[null,{"$f":"IF(D20=0,\"\",VLOOKUP(D20,基礎データ!$B$5:$D$64,3))","v":""},{"$f":"IF(D20=0,\"\",VLOOKUP(D20,基礎データ!$B$5:$D$64,2))","v":""},0,0,0,0,0,0,0,0,0,0,0,0,0,0,0,0,0,0,0,0,0,0,0,0,0,0,0,0,0,0,0,0,0,0,0,0,null,null,0,0,0,0]
[null,{"$f":"IF(D21=0,\"\",VLOOKUP(D21,基礎データ!$B$5:$D$64,3))","v":""},{"$f":"IF(D21=0,\"\",VLOOKUP(D21,基礎データ!$B$5:$D$64,2))","v":""},0,0,0,0,0,0,0,0,0,0,0,0,0,0,0,0,0,0,0,0,0,0,0,0,0,0,0,0,0,0,0,0,0,0,0,0,null,null,0,0,0,0]
[null,{"$f":"IF(D22=0,\"\",VLOOKUP(D22,基礎データ!$B$5:$D$64,3))","v":""},{"$f":"IF(D22=0,\"\",VLOOKUP(D22,基礎データ!$B$5:$D$64,2))","v":""},0,0,0,0,0,0,0,0,0,0,0,0,0,0,0,0,0,0,0,0,0,0,0,0,0,0,0,0,0,0,0,0,0,0,0,0,null,null,0,0,0,0]
[null,{"$f":"IF(D23=0,\"\",VLOOKUP(D23,基礎データ!$B$5:$D$64,3))","v":""},{"$f":"IF(D23=0,\"\",VLOOKUP(D23,基礎データ!$B$5:$D$64,2))","v":""},0,0,0,0,0,0,0,0,0,0,0,0,0,0,0,0,0,0,0,0,0,0,0,0,0,0,0,0,0,0,0,0,0,0,0,0,null,null,0,0,0,0]
[null,{"$f":"IF(D24=0,\"\",VLOOKUP(D24,基礎データ!$B$5:$D$64,3))","v":""},{"$f":"IF(D24=0,\"\",VLOOKUP(D24,基礎データ!$B$5:$D$64,2))","v":""},0,0,0,0,0,0,0,0,0,0,0,0,0,0,0,0,0,0,0,0,0,0,0,0,0,0,0,0,0,0,0,0,0,0,0,0,null,null,0,0,0,0]
[null,{"$f":"IF(D25=0,\"\",VLOOKUP(D25,基礎データ!$B$5:$D$64,3))","v":""},{"$f":"IF(D25=0,\"\",VLOOKUP(D25,基礎データ!$B$5:$D$64,2))","v":""},0,0,0,0,0,0,0,0,0,0,0,0,0,0,0,0,0,0,0,0,0,0,0,0,0,0,0,0,0,0,0,0,0,0,0,0,null,null,0,0,0,0]
[null,{"$f":"IF(D26=0,\"\",VLOOKUP(D26,基礎データ!$B$5:$D$64,3))","v":""},{"$f":"IF(D26=0,\"\",VLOOKUP(D26,基礎データ!$B$5:$D$64,2))","v":""},0,0,0,0,0,0,0,0,0,0,0,0,0,0,0,0,0,0,0,0,0,0,0,0,0,0,0,0,0,0,0,0,0,0,0,0,null,null,0,0,0,0]
[null,{"$f":"IF(D27=0,\"\",VLOOKUP(D27,基礎データ!$B$5:$D$64,3))","v":""},{"$f":"IF(D27=0,\"\",VLOOKUP(D27,基礎データ!$B$5:$D$64,2))","v":""},0,0,0,0,0,0,0,0,0,0,0,0,0,0,0,0,0,0,0,0,0,0,0,0,0,0,0,0,0,0,0,0,0,0,0,0,null,null,0,0,0,0]
[null,{"$f":"IF(D28=0,\"\",VLOOKUP(D28,基礎データ!$B$5:$D$64,3))","v":""},{"$f":"IF(D28=0,\"\",VLOOKUP(D28,基礎データ!$B$5:$D$64,2))","v":""},0,0,0,0,0,0,0,0,0,0,0,0,0,0,0,0,0,0,0,0,0,0,0,0,0,0,0,0,0,0,0,0,0,0,0,0,null,null,0,0,0,0]
[null,{"$f":"IF(D29=0,\"\",VLOOKUP(D29,基礎データ!$B$5:$D$64,3))","v":""},{"$f":"IF(D29=0,\"\",VLOOKUP(D29,基礎データ!$B$5:$D$64,2))","v":""},0,0,0,0,0,0,0,0,0,0,0,0,0,0,0,0,0,0,0,0,0,0,0,0,0,0,0,0,0,0,0,0,0,0,0,0,null,null,0,0,0,0]
[null,{"$f":"IF(D30=0,\"\",VLOOKUP(D30,基礎データ!$B$5:$D$64,3))","v":""},{"$f":"IF(D30=0,\"\",VLOOKUP(D30,基礎データ!$B$5:$D$64,2))","v":""},0,0,0,0,0,0,0,0,0,0,0,0,0,0,0,0,0,0,0,0,0,0,0,0,0,0,0,0,0,0,0,0,0,0,0,0,null,null,0,0,0,0]
[null,{"$f":"IF(D31=0,\"\",VLOOKUP(D31,基礎データ!$B$5:$D$64,3))","v":""},{"$f":"IF(D31=0,\"\",VLOOKUP(D31,基礎データ!$B$5:$D$64,2))","v":""},0,0,0,0,0,0,0,0,0,0,0,0,0,0,0,0,0,0,0,0,0,0,0,0,0,0,0,0,0,0,0,0,0,0,0,0,null,null,0,0,0,0]
[null,{"$f":"IF(D32=0,\"\",VLOOKUP(D32,基礎データ!$B$5:$D$64,3))","v":""},{"$f":"IF(D32=0,\"\",VLOOKUP(D32,基礎データ!$B$5:$D$64,2))","v":""},0,0,0,0,0,0,0,0,0,0,0,0,0,0,0,0,0,0,0,0,0,0,0,0,0,0,0,0,0,0,0,0,0,0,0,0,null,null,0,0,0,0]
[null,{"$f":"IF(D33=0,\"\",VLOOKUP(D33,基礎データ!$B$5:$D$64,3))","v":""},{"$f":"IF(D33=0,\"\",VLOOKUP(D33,基礎データ!$B$5:$D$64,2))","v":""},0,0,0,0,0,0,0,0,0,0,0,0,0,0,0,0,0,0,0,0,0,0,0,0,0,0,0,0,0,0,0,0,0,0,0,0,null,null,0,0,0,0]
[null,{"$f":"IF(D34=0,\"\",VLOOKUP(D34,基礎データ!$B$5:$D$64,3))","v":""},{"$f":"IF(D34=0,\"\",VLOOKUP(D34,基礎データ!$B$5:$D$64,2))","v":""},0,0,0,0,0,0,0,0,0,0,0,0,0,0,0,0,0,0,0,0,0,0,0,0,0,0,0,0,0,0,0,0,0,0,0,0,null,null,0,0,0,0]
[null,{"$f":"IF(D35=0,\"\",VLOOKUP(D35,基礎データ!$B$5:$D$64,3))","v":""},{"$f":"IF(D35=0,\"\",VLOOKUP(D35,基礎データ!$B$5:$D$64,2))","v":""},0,0,0,0,0,0,0,0,0,0,0,0,0,0,0,0,0,0,0,0,0,0,0,0,0,0,0,0,0,0,0,0,0,0,0,0,null,null,0,0,0,0]
[null,{"$f":"IF(D36=0,\"\",VLOOKUP(D36,基礎データ!$B$5:$D$64,3))","v":""},{"$f":"IF(D36=0,\"\",VLOOKUP(D36,基礎データ!$B$5:$D$64,2))","v":""},0,0,0,0,0,0,0,0,0,0,0,0,0,0,0,0,0,0,0,0,0,0,0,0,0,0,0,0,0,0,0,0,0,0,0,0,null,null,0,0,0,0]
[null,{"$f":"IF(D37=0,\"\",VLOOKUP(D37,基礎データ!$B$5:$D$64,3))","v":""},{"$f":"IF(D37=0,\"\",VLOOKUP(D37,基礎データ!$B$5:$D$64,2))","v":""},0,0,0,0,0,0,0,0,0,0,0,0,0,0,0,0,0,0,0,0,0,0,0,0,0,0,0,0,0,0,0,0,0,0,0,0,null,null,0,0,0,0]
[null,{"$f":"IF(D38=0,\"\",VLOOKUP(D38,基礎データ!$B$5:$D$64,3))","v":""},{"$f":"IF(D38=0,\"\",VLOOKUP(D38,基礎データ!$B$5:$D$64,2))","v":""},0,0,0,0,0,0,0,0,0,0,0,0,0,0,0,0,0,0,0,0,0,0,0,0,0,0,0,0,0,{"$f":"E38+M38+S38+Y38","v":0},{"$f":"F38+N38+T38+Z38","v":0},{"$f":"I38+Q38+W38+AC38","v":0},{"$f":"H38+P38+V38+AB38","v":0},{"$f":"J38+R38+X38+AD38","v":0},{"$f":"G38+O38+U38+AA38","v":0},{"$f":"AE38+L38+K38+AF38","v":0},null,null,0,0,0,0]
[null,{"$f":"IF(D39=0,\"\",VLOOKUP(D39,基礎データ!$B$5:$D$64,3))","v":""},{"$f":"IF(D39=0,\"\",VLOOKUP(D39,基礎データ!$B$5:$D$64,2))","v":""},0,0,0,0,0,0,0,0,0,0,0,0,0,0,0,0,0,0,0,0,0,0,0,0,0,0,0,0,0,0,0,0,0,0,0,0,null,null,0,0,0,0]
[null,{"$f":"IF(D40=0,\"\",VLOOKUP(D40,基礎データ!$B$5:$D$64,3))","v":""},{"$f":"IF(D40=0,\"\",VLOOKUP(D40,基礎データ!$B$5:$D$64,2))","v":""},0,0,0,0,0,0,0,0,0,0,0,0,0,0,0,0,0,0,0,0,0,0,0,0,0,0,0,0,0,0,0,0,0,0,0,0,null,null,0,0,0,0]
[null,{"$f":"IF(D41=0,\"\",VLOOKUP(D41,基礎データ!$B$5:$D$64,3))","v":""},{"$f":"IF(D41=0,\"\",VLOOKUP(D41,基礎データ!$B$5:$D$64,2))","v":""},0,0,0,0,0,0,0,0,0,0,0,0,0,0,0,0,0,0,0,0,0,0,0,0,0,0,0,0,0,0,0,0,0,0,0,0,null,null,0,0,0,0]
[null,{"$f":"IF(D42=0,\"\",VLOOKUP(D42,基礎データ!$B$5:$D$64,3))","v":""},{"$f":"IF(D42=0,\"\",VLOOKUP(D42,基礎データ!$B$5:$D$64,2))","v":""},0,0,0,0,0,0,0,0,0,0,0,0,0,0,0,0,0,0,0,0,0,0,0,0,0,0,0,0,0,0,0,0,0,0,0,0,null,null,0,0,0,0]
[null,{"$f":"IF(D43=0,\"\",VLOOKUP(D43,基礎データ!$B$5:$D$64,3))","v":""},{"$f":"IF(D43=0,\"\",VLOOKUP(D43,基礎データ!$B$5:$D$64,2))","v":""},0,0,0,0,0,0,0,0,0,0,0,0,0,0,0,0,0,0,0,0,0,0,0,0,0,0,0,0,0,0,0,0,0,0,0,0,null,null,0,0,0,0]
[null,{"$f":"IF(D44=0,\"\",VLOOKUP(D44,基礎データ!$B$5:$D$64,3))","v":""},{"$f":"IF(D44=0,\"\",VLOOKUP(D44,基礎データ!$B$5:$D$64,2))","v":""},0,0,0,0,0,0,0,0,0,0,0,0,0,0,0,0,0,0,0,0,0,0,0,0,0,0,0,0,0,0,0,0,0,0,0,0,null,null,0,0,0,0]
[null,{"$f":"IF(D45=0,\"\",VLOOKUP(D45,基礎データ!$B$5:$D$64,3))","v":""},{"$f":"IF(D45=0,\"\",VLOOKUP(D45,基礎データ!$B$5:$D$64,2))","v":""},0,0,0,0,0,0,0,0,0,0,0,0,0,0,0,0,0,0,0,0,0,0,0,0,0,0,0,0,0,0,0,0,0,0,0,0,null,null,0,0,0,0]
[null,{"$f":"IF(D46=0,\"\",VLOOKUP(D46,基礎データ!$B$5:$D$64,3))","v":""},{"$f":"IF(D46=0,\"\",VLOOKUP(D46,基礎データ!$B$5:$D$64,2))","v":""},0,0,0,0,0,0,0,0,0,0,0,0,0,0,0,0,0,0,0,0,0,0,0,0,0,0,0,0,0,0,0,0,0,0,0,0,null,null,0,0,0,0]
[null,{"$f":"IF(D47=0,\"\",VLOOKUP(D47,基礎データ!$B$5:$D$64,3))","v":""},{"$f":"IF(D47=0,\"\",VLOOKUP(D47,基礎データ!$B$5:$D$64,2))","v":""},0,0,0,0,0,0,0,0,0,0,0,0,0,0,0,0,0,0,0,0,0,0,0,0,0,0,0,0,0,0,0,0,0,0,0,0,null,null,0,0,0,0]
[null,{"$f":"IF(D48=0,\"\",VLOOKUP(D48,基礎データ!$B$5:$D$64,3))","v":""},{"$f":"IF(D48=0,\"\",VLOOKUP(D48,基礎データ!$B$5:$D$64,2))","v":""},0,0,0,0,0,0,0,0,0,0,0,0,0,0,0,0,0,0,0,0,0,0,0,0,0,0,0,0,0,0,0,0,0,0,0,0,null,null,0,0,0,0]
[null,{"$f":"IF(D49=0,\"\",VLOOKUP(D49,基礎データ!$B$5:$D$64,3))","v":""},{"$f":"IF(D49=0,\"\",VLOOKUP(D49,基礎データ!$B$5:$D$64,2))","v":""},0,0,0,0,0,0,0,0,0,0,0,0,0,0,0,0,0,0,0,0,0,0,0,0,0,0,0,0,0,0,0,0,0,0,0,0,null,null,0,0,0,0]
[null,{"$f":"IF(D50=0,\"\",VLOOKUP(D50,基礎データ!$B$5:$D$64,3))","v":""},{"$f":"IF(D50=0,\"\",VLOOKUP(D50,基礎データ!$B$5:$D$64,2))","v":""},0,0,0,0,0,0,0,0,0,0,0,0,0,0,0,0,0,0,0,0,0,0,0,0,0,0,0,0,0,0,0,0,0,0,0,0,null,null,0,0,0,0]
[null,{"$f":"IF(D51=0,\"\",VLOOKUP(D51,基礎データ!$B$5:$D$64,3))","v":""},{"$f":"IF(D51=0,\"\",VLOOKUP(D51,基礎データ!$B$5:$D$64,2))","v":""},0,0,0,0,0,0,0,0,0,0,0,0,0,0,0,0,0,0,0,0,0,0,0,0,0,0,0,0,0,0,0,0,0,0,0,0,null,null,0,0,0,0]
[null,{"$f":"IF(D52=0,\"\",VLOOKUP(D52,基礎データ!$B$5:$D$64,3))","v":""},{"$f":"IF(D52=0,\"\",VLOOKUP(D52,基礎データ!$B$5:$D$64,2))","v":""},0,0,0,0,0,0,0,0,0,0,0,0,0,0,0,0,0,0,0,0,0,0,0,0,0,0,0,0,0,0,0,0,0,0,0,0,null,null,0,0,0,0]
[null,{"$f":"IF(D53=0,\"\",VLOOKUP(D53,基礎データ!$B$5:$D$64,3))","v":""},{"$f":"IF(D53=0,\"\",VLOOKUP(D53,基礎データ!$B$5:$D$64,2))","v":""},0,0,0,0,0,0,0,0,0,0,0,0,0,0,0,0,0,0,0,0,0,0,0,0,0,0,0,0,0,0,0,0,0,0,0,0,null,null,0,0,0,0]
[null,{"$f":"IF(D54=0,\"\",VLOOKUP(D54,基礎データ!$B$5:$D$64,3))","v":""},{"$f":"IF(D54=0,\"\",VLOOKUP(D54,基礎データ!$B$5:$D$64,2))","v":""},0,0,0,0,0,0,0,0,0,0,0,0,0,0,0,0,0,0,0,0,0,0,0,0,0,0,0,0,0,0,0,0,0,0,0,0,null,null,0,0,0,0]
[null,{"$f":"IF(D55=0,\"\",VLOOKUP(D55,基礎データ!$B$5:$D$64,3))","v":""},{"$f":"IF(D55=0,\"\",VLOOKUP(D55,基礎データ!$B$5:$D$64,2))","v":""},0,0,0,0,0,0,0,0,0,0,0,0,0,0,0,0,0,0,0,0,0,0,0,0,0,0,0,0,0,0,0,0,0,0,0,0,null,null,0,0,0,0]
[null,{"$f":"IF(D56=0,\"\",VLOOKUP(D56,基礎データ!$B$5:$D$64,3))","v":""},{"$f":"IF(D56=0,\"\",VLOOKUP(D56,基礎データ!$B$5:$D$64,2))","v":""},0,0,0,0,0,0,0,0,0,0,0,0,0,0,0,0,0,0,0,0,0,0,0,0,0,0,0,0,0,0,0,0,0,0,0,0,null,null,0,0,0,0]
[null,{"$f":"IF(D57=0,\"\",VLOOKUP(D57,基礎データ!$B$5:$D$64,3))","v":""},{"$f":"IF(D57=0,\"\",VLOOKUP(D57,基礎データ!$B$5:$D$64,2))","v":""},0,0,0,0,0,0,0,0,0,0,0,0,0,0,0,0,0,0,0,0,0,0,0,0,0,0,0,0,0,0,0,0,0,0,0,0,null,null,0,0,0,0]
[null,{"$f":"IF(D58=0,\"\",VLOOKUP(D58,基礎データ!$B$5:$D$64,3))","v":""},{"$f":"IF(D58=0,\"\",VLOOKUP(D58,基礎データ!$B$5:$D$64,2))","v":""},0,0,0,0,0,0,0,0,0,0,0,0,0,0,0,0,0,0,0,0,0,0,0,0,0,0,0,0,0,0,0,0,0,0,0,0,null,null,0,0,0,0]
[null,{"$f":"IF(D59=0,\"\",VLOOKUP(D59,基礎データ!$B$5:$D$64,3))","v":""},{"$f":"IF(D59=0,\"\",VLOOKUP(D59,基礎データ!$B$5:$D$64,2))","v":""},0,0,0,0,0,0,0,0,0,0,0,0,0,0,0,0,0,0,0,0,0,0,0,0,0,0,0,0,0,0,0,0,0,0,0,0,null,null,0,0,0,0]
[null,{"$f":"IF(D60=0,\"\",VLOOKUP(D60,基礎データ!$B$5:$D$64,3))","v":""},{"$f":"IF(D60=0,\"\",VLOOKUP(D60,基礎データ!$B$5:$D$64,2))","v":""},0,0,0,0,0,0,0,0,0,0,0,0,0,0,0,0,0,0,0,0,0,0,0,0,0,0,0,0,0,0,0,0,0,0,0,0,null,null,0,0,0,0]
[null,{"$f":"IF(D61=0,\"\",VLOOKUP(D61,基礎データ!$B$5:$D$64,3))","v":""},{"$f":"IF(D61=0,\"\",VLOOKUP(D61,基礎データ!$B$5:$D$64,2))","v":""},0,0,0,0,0,0,0,0,0,0,0,0,0,0,0,0,0,0,0,0,0,0,0,0,0,0,0,0,0,0,0,0,0,0,0,0,null,null,0,0,0,0]
[null,{"$f":"IF(D62=0,\"\",VLOOKUP(D62,基礎データ!$B$5:$D$64,3))","v":""},{"$f":"IF(D62=0,\"\",VLOOKUP(D62,基礎データ!$B$5:$D$64,2))","v":""},0,0,0,0,0,0,0,0,0,0,0,0,0,0,0,0,0,0,0,0,0,0,0,0,0,0,0,0,0,0,0,0,0,0,0,0,null,null,0,0,0,0]
[null,{"$f":"IF(D63=0,\"\",VLOOKUP(D63,基礎データ!$B$5:$D$64,3))","v":""},{"$f":"IF(D63=0,\"\",VLOOKUP(D63,基礎データ!$B$5:$D$64,2))","v":""},0,0,0,0,0,0,0,0,0,0,0,0,0,0,0,0,0,0,0,0,0,0,0,0,0,0,0,0,0,0,0,0,0,0,0,0,null,null,0,0,0,0]
[null,{"$f":"IF(D64=0,\"\",VLOOKUP(D64,基礎データ!$B$5:$D$64,3))","v":""},{"$f":"IF(D64=0,\"\",VLOOKUP(D64,基礎データ!$B$5:$D$64,2))","v":""},0,0,0,0,0,0,0,0,0,0,0,0,0,0,0,0,0,0,0,0,0,0,0,0,0,0,0,0,0,0,0,0,0,0,0,0,null,null,0,0,0,0]
[null,{"$f":"IF(D65=0,\"\",VLOOKUP(D65,基礎データ!$B$5:$D$64,3))","v":""},{"$f":"IF(D65=0,\"\",VLOOKUP(D65,基礎データ!$B$5:$D$64,2))","v":""},0,0,0,0,0,0,0,0,0,0,0,0,0,0,0,0,0,0,0,0,0,0,0,0,0,0,0,0,0,0,0,0,0,0,0,0,null,null,0,0,0,0]
[null,"④ の数",null,null,{"$f":"COUNTIF(E$6:E$65,4)","v":0},{"$f":"COUNTIF(F$6:F$65,4)","v":0},0,0,0,0,0,0,0,0,0,0,0,0,0,0,0,0,0,0,0,0,0,0,0,0,0,0,{"$f":"E66+M66+S66+Y66","v":0},0,0,0,0,0,0]
[null,"③ の数",null,null,{"$f":"COUNTIF(E$6:E$65,3)","v":0},{"$f":"COUNTIF(F$6:F$65,3)","v":0},0,{"$f":"COUNTIF(H$6:H$65,3)","v":0},0,0,0,0,0,0,0,0,0,0,0,0,0,0,0,0,0,0,0,0,0,0,0,0,{"$f":"E67+M67+S67+Y67","v":0},0,0,0,0,0,0]
[null,"② の数",null,null,{"$f":"COUNTIF(E$6:E$65,2)","v":0},{"$f":"COUNTIF(F$6:F$65,2)","v":0},0,0,0,0,0,0,0,0,0,0,0,0,0,0,0,0,0,0,0,0,0,0,0,0,0,0,{"$f":"E68+M68+S68+Y68","v":0},0,0,0,0,0,0]
[null,"① の数",null,null,{"$f":"COUNTIF(E$6:E$65,1)","v":0},{"$f":"COUNTIF(F$6:F$65,1)","v":0},0,0,0,0,0,0,0,0,0,0,0,0,0,0,0,0,0,0,0,0,0,0,0,0,0,0,{"$f":"E69+M69+S69+Y69","v":0},0,0,0,0,0,0]
[null,"合計",null,null,{"$f":"SUM(E66:E69)","v":0},{"$f":"SUM(F66:F69)","v":0},0,0,0,0,0,0,0,0,0,0,0,0,0,0,0,0,0,0,0,0,0,0,0,0,0,0,0,{"$f":"SUM(AH66:AH69)","v":0},0,0,0,0,0]
[null,"男子平均",null,{"$f":"COUNTIF($B$81:$B$140,\"男\")","v":0},{"$f":"IF(ISERROR(SUMIF($B6:$B65,\"男\",E6:E65)/COUNTIF($B6:$B65,\"男\")),0,SUMIF($B6:$B65,\"男\",E6:E65)/COUNTIF($B6:$B65,\"男\"))","v":0},{"$f":"IF(ISERROR(SUMIF($B6:$B65,\"男\",F6:F65)/COUNTIF($B6:$B65,\"男\")),0,SUMIF($B6:$B65,\"男\",F6:F65)/COUNTIF($B6:$B65,\"男\"))","v":0},{"$f":"IF(ISERROR(SUMIF($B6:$B65,\"男\",G6:G65)/COUNTIF($B6:$B65,\"男\")),0,SUMIF($B6:$B65,\"男\",G6:G65)/COUNTIF($B6:$B65,\"男\"))","v":0},0,0,0,0,0,0,0,0,0,0,0,0,0,0,0,0,0,0,0,0,0,0,0,0,{"$f":"IF(ISERROR(SUMIF($B6:$B65,\"男\",AF6:AF65)/COUNTIF($B6:$B65,\"男\")),0,SUMIF($B6:$B65,\"男\",AF6:AF65)/COUNTIF($B6:$B65,\"男\"))","v":0},{"$f":"IF(ISERROR(SUMIF($B6:$B65,\"男\",AG6:AG65)/COUNTIF($B6:$B65,\"男\")),0,SUMIF($B6:$B65,\"男\",AG6:AG65)/COUNTIF($B6:$B65,\"男\"))","v":0},{"$f":"IF(ISERROR(SUMIF($B6:$B65,\"男\",AH6:AH65)/COUNTIF($B6:$B65,\"男\")),0,SUMIF($B6:$B65,\"男\",AH6:AH65)/COUNTIF($B6:$B65,\"男\"))","v":0},0,0,0,0,{"$f":"IF(ISERROR(SUMIF($B6:$B65,\"男\",AM6:AM65)/COUNTIF($B6:$B65,\"男\")),0,SUMIF($B6:$B65,\"男\",AM6:AM65)/COUNTIF($B6:$B65,\"男\"))","v":0}]
[null,"女子平均",null,{"$f":"COUNTIF($B$81:$B$140,\"女\")","v":0},{"$f":"IF(ISERROR(SUMIF($B6:$B65,\"女\",E6:E65)/COUNTIF($B6:$B65,\"女\")),0,SUMIF($B6:$B65,\"女\",E6:E65)/COUNTIF($B6:$B65,\"女\"))","v":0},{"$f":"IF(ISERROR(SUMIF($B6:$B65,\"女\",F6:F65)/COUNTIF($B6:$B65,\"女\")),0,SUMIF($B6:$B65,\"女\",F6:F65)/COUNTIF($B6:$B65,\"女\"))","v":0},0,0,0,0,0,0,0,0,0,0,0,0,0,0,0,0,0,0,0,0,0,0,0,0,0,0,0,0,0,0,0,0,0]
[null,"全体平均",null,{"$f":"SUM(D71:D72)","v":0},{"$f":"IF(ISERROR((4*E66+3*E67+2*E68+E69)/E70),0,(4*E66+3*E67+2*E68+E69)/E70)","v":0},{"$f":"IF(ISERROR((4*F66+3*F67+2*F68+F69)/F70),0,(4*F66+3*F67+2*F68+F69)/F70)","v":0},0,0,0,0,0,0,0,0,0,0,0,0,0,0,0,0,0,0,0,0,0,0,0,0,0,0,{"$f":"IF(ISERROR(((4*AG66+3*AG67+2*AG68+AG69)/AG70)*4),0,(4*AG66+3*AG67+2*AG68+AG69)/AG70)*4","v":0},{"$f":"IF(ISERROR(((4*AH66+3*AH67+2*AH68+AH69)/AH70)*4),0,(4*AH66+3*AH67+2*AH68+AH69)/AH70)*4","v":0},0,0,0,0,0]
[null,null,null,"↑"]
[null,null,null,"ここだけ人数"]
[]
[null,null,null,null,null,null,null,null,null,{"$f":"基礎データ!G78","v":0},"年",null,{"$f":"基礎データ!I78","v":0},"組",null,"「学校楽しぃーと」　　一覧表（２回目）"]
[null,"性別","氏名","出席番号",1,2,3,4,5,6,7,8,9,10,11,12,13,14,15,16,17,18,19,20,21,22,23,24,25,26,27,28,"観　点"]
[null,null,null,null,{"$f":"「学校楽しいーと」個票!E19","v":"学校には，お話ができる友達がいますか。"},{"$f":"「学校楽しいーと」個票!Y19","v":"学校には，自分の心配なことを話せる先生がいますか。"},{"$f":"「学校楽しいーと」個票!Y35","v":"学級の中にいると，楽しい気持ちになりますか。"},{"$f":"「学校楽しいーと」個票!Y27","v":"自分の係の仕事は，みんなの役に立っていると思いますか。"},{"$f":"「学校楽しいーと」個票!E27","v":"授業の時，「できた」，「わかった」と思うことがありますか。"},{"$f":"「学校楽しいーと」個票!E35","v":"悲しい気持ちになることがありますか。"},{"$f":"「学校楽しいーと」個票!E44","v":"友達からものを隠されたり，体を叩かれたりして嫌な気持ちになることがありますか。"},{"$f":"「学校楽しいーと」個票!E48","v":"友達がものを隠されたり，体を叩かれたりしたことを見たり聞いたりしたことがありますか。"},{"$f":"「学校楽しいーと」個票!E21","v":"学級には，一緒にお話をしたり，遊んだりする友達がいますか。"},{"$f":"「学校楽しいーと」個票!Y21","v":"学校には，自分の気持ちを分かってくれる先生がいますか。"},{"$f":"「学校楽しいーと」個票!Y37","v":"学級のみんなと一緒にいるのは，楽しいですか。"},{"$f":"「学校楽しいーと」個票!Y29","v":"授業や給食当番で「自分は，よく頑張ったなあ」と思うことがありますか。"},{"$f":"「学校楽しいーと」個票!E29","v":"授業の時，先生のお話をよく聞いていますか。"},{"$f":"「学校楽しいーと」個票!E37","v":"お腹が痛くなるときがありますか。"},{"$f":"「学校楽しいーと」個票!E23","v":"学校には，自分の気持ちを話せる友達がいますか。"},{"$f":"「学校楽しいーと」個票!Y23","v":"学校には，間違いや失敗をしても，きちんと理由を聞いてくれる先生がいますか。"},{"$f":"「学校楽しいーと」個票!Y39","v":"自分は，この学級でよかったと思いますか。"},{"$f":"「学校楽しいーと」個票!Y31","v":"自分には，自分のいいところがあると思いますか。"},{"$f":"「学校楽しいーと」個票!E31","v":"授業の時，よく発表していますか。"},{"$f":"「学校楽しいーと」個票!E39","v":"頭が痛くなるときがありますか。"},{"$f":"「学校楽しいーと」個票!E25","v":"自分が困っているときに，お手伝いをしてくれる友達がいますか。"},{"$f":"「学校楽しいーと」個票!Y25","v":"学校の先生は，ひいきをせずにみんなと同じようにあなたにお話をしてくれますか。"},{"$f":"「学校楽しいーと」個票!Y41","v":"学級では，安心して過ごすことができますか。"},{"$f":"「学校楽しいーと」個票!Y33","v":"他の人から好かれていると思いますか。"},{"$f":"「学校楽しいーと」個票!E33","v":"授業で習ったことができるようになろうと頑張っていますか。"},{"$f":"「学校楽しいーと」個票!E41","v":"気分が悪くなることがありますか。"},{"$f":"「学校楽しいーと」個票!E46","v":"友達から悪口を言われたり，無視をされたりして嫌な気持ちになることがありますか。"},{"$f":"「学校楽しいーと」個票!E50","v":"友達が悪口を言われたり，無視をされたりしたことを見たり聞いたりしたことがありますか。"},"友達との関係","教師との関係","学習意欲","自己肯定感","心身の状態","学級集団における適応感","いじめ"]
[]
[null,{"$f":"IF(D81=0,\"\",VLOOKUP(D81,基礎データ!$B$5:$D$64,3))","v":""},{"$f":"IF(D81=0,\"\",VLOOKUP(D81,基礎データ!$B$5:$D$64,2))","v":""},{"$f":"D6","v":0},{"$f":"IF(E6=4,\"😄\",IF(E6=3,\"😊\",IF(E6=2,\"😢\",IF(E6=1,\"😭\",\"\"))))","v":""},"","","","","","","","","","","","","","","","","","","","","","","","","","",{"$f":"IF(AF6=4,\"😄\",IF(AF6=3,\"😊\",IF(AF6=2,\"😢\",IF(AF6=1,\"😭\",\"\"))))","v":""},{"$f":"AG6","v":0},0,0,0,0,0,0]
[null,{"$f":"IF(D82=0,\"\",VLOOKUP(D82,基礎データ!$B$5:$D$64,3))","v":""},{"$f":"IF(D82=0,\"\",VLOOKUP(D82,基礎データ!$B$5:$D$64,2))","v":""},{"$f":"D7","v":0},"","","","","","","","","","","","","","","","","","","","","","","","","","","",{"$f":"IF(AF7=4,\"😄\",IF(AF7=3,\"😊\",IF(AF7=2,\"😢\",IF(AF7=1,\"😭\",\"\"))))","v":""},0,0,0,0,0,0,0]
[null,{"$f":"IF(D83=0,\"\",VLOOKUP(D83,基礎データ!$B$5:$D$64,3))","v":""},{"$f":"IF(D83=0,\"\",VLOOKUP(D83,基礎データ!$B$5:$D$64,2))","v":""},0,"","","","","","","","","","","","","","","","","","","","","","","","","","","","",0,0,0,0,0,0,0]
[null,{"$f":"IF(D84=0,\"\",VLOOKUP(D84,基礎データ!$B$5:$D$64,3))","v":""},{"$f":"IF(D84=0,\"\",VLOOKUP(D84,基礎データ!$B$5:$D$64,2))","v":""},0,"","","","","","","","","","","","","","","","","","","","","","","","","","","","",0,0,0,0,0,0,0]
[null,{"$f":"IF(D85=0,\"\",VLOOKUP(D85,基礎データ!$B$5:$D$64,3))","v":""},{"$f":"IF(D85=0,\"\",VLOOKUP(D85,基礎データ!$B$5:$D$64,2))","v":""},0,"","","","","","","","","","","","","","","","","","","","","","","","","","","","",0,0,0,0,0,0,0]
[null,{"$f":"IF(D86=0,\"\",VLOOKUP(D86,基礎データ!$B$5:$D$64,3))","v":""},{"$f":"IF(D86=0,\"\",VLOOKUP(D86,基礎データ!$B$5:$D$64,2))","v":""},0,"","","","","","","","","","","","","","","","","","","","","","","","","","","","",0,0,0,0,0,0,0]
[null,{"$f":"IF(D87=0,\"\",VLOOKUP(D87,基礎データ!$B$5:$D$64,3))","v":""},{"$f":"IF(D87=0,\"\",VLOOKUP(D87,基礎データ!$B$5:$D$64,2))","v":""},0,"","","","","","","","","","","","","","","","","","","","","","","","","","","","",0,0,0,0,0,0,0]
[null,{"$f":"IF(D88=0,\"\",VLOOKUP(D88,基礎データ!$B$5:$D$64,3))","v":""},{"$f":"IF(D88=0,\"\",VLOOKUP(D88,基礎データ!$B$5:$D$64,2))","v":""},0,"","","","","","","","","","","","","","","","","","","","","","","","","","","","",0,0,0,0,0,0,0]
[null,{"$f":"IF(D89=0,\"\",VLOOKUP(D89,基礎データ!$B$5:$D$64,3))","v":""},{"$f":"IF(D89=0,\"\",VLOOKUP(D89,基礎データ!$B$5:$D$64,2))","v":""},0,"","","","","","","","","","","","","","","","","","","","","","","","","","","","",0,0,0,0,0,0,0]
[null,{"$f":"IF(D90=0,\"\",VLOOKUP(D90,基礎データ!$B$5:$D$64,3))","v":""},{"$f":"IF(D90=0,\"\",VLOOKUP(D90,基礎データ!$B$5:$D$64,2))","v":""},0,"","","","","","","","","","","","",{"$f":"IF(Q15=4,\"😄\",IF(Q15=3,\"😊\",IF(Q15=2,\"😢\",IF(Q15=1,\"😭\",\"\"))))","v":""},"","","","","","","","","","","","","","","",0,0,0,0,0,0,0]
[null,{"$f":"IF(D91=0,\"\",VLOOKUP(D91,基礎データ!$B$5:$D$64,3))","v":""},{"$f":"IF(D91=0,\"\",VLOOKUP(D91,基礎データ!$B$5:$D$64,2))","v":""},0,{"$f":"IF(E16=4,\"😄\",IF(E16=3,\"😊\",IF(E16=2,\"😢\",IF(E16=1,\"😭\",\"\"))))","v":""},"","","","","","","","","","","","","","","","","","","","","","","","","","","",0,0,0,0,0,0,0]
[null,{"$f":"IF(D92=0,\"\",VLOOKUP(D92,基礎データ!$B$5:$D$64,3))","v":""},{"$f":"IF(D92=0,\"\",VLOOKUP(D92,基礎データ!$B$5:$D$64,2))","v":""},0,"","","","","","","","","","","","","","","","","","","","","","","","","","","","",0,0,0,0,0,0,0]
[null,{"$f":"IF(D93=0,\"\",VLOOKUP(D93,基礎データ!$B$5:$D$64,3))","v":""},{"$f":"IF(D93=0,\"\",VLOOKUP(D93,基礎データ!$B$5:$D$64,2))","v":""},0,"","","","","","","","","","","","","","","","","","","","","","","","","","","","",0,0,0,0,0,0,0]
[null,{"$f":"IF(D94=0,\"\",VLOOKUP(D94,基礎データ!$B$5:$D$64,3))","v":""},{"$f":"IF(D94=0,\"\",VLOOKUP(D94,基礎データ!$B$5:$D$64,2))","v":""},0,"","","","","","","","","","","","","","","","","","","","","","","","","","","","",0,0,0,0,0,0,0]
[null,{"$f":"IF(D95=0,\"\",VLOOKUP(D95,基礎データ!$B$5:$D$64,3))","v":""},{"$f":"IF(D95=0,\"\",VLOOKUP(D95,基礎データ!$B$5:$D$64,2))","v":""},0,"","","","","","","","","","","","","","","","","","","","","","","","","","","","",0,0,0,0,0,0,0]
[null,{"$f":"IF(D96=0,\"\",VLOOKUP(D96,基礎データ!$B$5:$D$64,3))","v":""},{"$f":"IF(D96=0,\"\",VLOOKUP(D96,基礎データ!$B$5:$D$64,2))","v":""},0,"","","","","","","","","","","","","","","","","","","","","","","","","","","","",0,0,0,0,0,0,0]
[null,{"$f":"IF(D97=0,\"\",VLOOKUP(D97,基礎データ!$B$5:$D$64,3))","v":""},{"$f":"IF(D97=0,\"\",VLOOKUP(D97,基礎データ!$B$5:$D$64,2))","v":""},0,"","","","","","","","","","","","","","","","","","","","","","","","","","","","",{"$f":"AG22","v":0},0,0,0,0,0,0]
[null,{"$f":"IF(D98=0,\"\",VLOOKUP(D98,基礎データ!$B$5:$D$64,3))","v":""},{"$f":"IF(D98=0,\"\",VLOOKUP(D98,基礎データ!$B$5:$D$64,2))","v":""},0,"","","","","","","","","","","","","","","","","","","","","","","","","","","","",0,0,0,0,0,0,0]
[null,{"$f":"IF(D99=0,\"\",VLOOKUP(D99,基礎データ!$B$5:$D$64,3))","v":""},{"$f":"IF(D99=0,\"\",VLOOKUP(D99,基礎データ!$B$5:$D$64,2))","v":""},0,"","","","","","","","","","","","","","","","","","","","","","","","","","","","",0,0,0,0,0,0,0]
[null,{"$f":"IF(D100=0,\"\",VLOOKUP(D100,基礎データ!$B$5:$D$64,3))","v":""},{"$f":"IF(D100=0,\"\",VLOOKUP(D100,基礎データ!$B$5:$D$64,2))","v":""},0,"","","",{"$f":"IF(H25=4,\"😄\",IF(H25=3,\"😊\",IF(H25=2,\"😢\",IF(H25=1,\"😭\",\"\"))))","v":""},"","","","","","","","","","","","","","","","","","","","","","","","",0,0,0,0,0,0,0]
[null,{"$f":"IF(D101=0,\"\",VLOOKUP(D101,基礎データ!$B$5:$D$64,3))","v":""},{"$f":"IF(D101=0,\"\",VLOOKUP(D101,基礎データ!$B$5:$D$64,2))","v":""},0,{"$f":"IF(E26=4,\"😄\",IF(E26=3,\"😊\",IF(E26=2,\"😢\",IF(E26=1,\"😭\",\"\"))))","v":""},"","","","","","","","","","","","","","","","","","","","","","","","","","","",0,0,0,0,0,0,0]
[null,{"$f":"IF(D102=0,\"\",VLOOKUP(D102,基礎データ!$B$5:$D$64,3))","v":""},{"$f":"IF(D102=0,\"\",VLOOKUP(D102,基礎データ!$B$5:$D$64,2))","v":""},0,"","","","","","","","","","","","","","","","","","","","","","","","","","","","",0,0,0,0,0,0,0]
[null,{"$f":"IF(D103=0,\"\",VLOOKUP(D103,基礎データ!$B$5:$D$64,3))","v":""},{"$f":"IF(D103=0,\"\",VLOOKUP(D103,基礎データ!$B$5:$D$64,2))","v":""},0,"","","","","","","","","","","","","","","","","","","","","","","","","","","","",0,0,0,0,0,0,0]
[null,{"$f":"IF(D104=0,\"\",VLOOKUP(D104,基礎データ!$B$5:$D$64,3))","v":""},{"$f":"IF(D104=0,\"\",VLOOKUP(D104,基礎データ!$B$5:$D$64,2))","v":""},0,"","","","","","","","","","","","","","","","","","","","","","","","","","","","",0,0,0,0,0,0,0]
[null,{"$f":"IF(D105=0,\"\",VLOOKUP(D105,基礎データ!$B$5:$D$64,3))","v":""},{"$f":"IF(D105=0,\"\",VLOOKUP(D105,基礎データ!$B$5:$D$64,2))","v":""},0,"","","","","","","","","","","","","","","","","","","","","","","","","","","","",0,0,0,0,0,0,0]
[null,{"$f":"IF(D106=0,\"\",VLOOKUP(D106,基礎データ!$B$5:$D$64,3))","v":""},{"$f":"IF(D106=0,\"\",VLOOKUP(D106,基礎データ!$B$5:$D$64,2))","v":""},0,"","","","","","","","","","","","","","","","","","","","","","","","","","","","",0,0,0,0,0,0,0]
[null,{"$f":"IF(D107=0,\"\",VLOOKUP(D107,基礎データ!$B$5:$D$64,3))","v":""},{"$f":"IF(D107=0,\"\",VLOOKUP(D107,基礎データ!$B$5:$D$64,2))","v":""},0,"","","","","","","","","","","","","","","","","","","","","","","","","","","","",0,0,0,0,0,0,0]
[null,{"$f":"IF(D108=0,\"\",VLOOKUP(D108,基礎データ!$B$5:$D$64,3))","v":""},{"$f":"IF(D108=0,\"\",VLOOKUP(D108,基礎データ!$B$5:$D$64,2))","v":""},0,"","","","","","","","","","","","","","","","","","","","","","","","","","","","",0,0,0,0,0,0,0]
[null,{"$f":"IF(D109=0,\"\",VLOOKUP(D109,基礎データ!$B$5:$D$64,3))","v":""},{"$f":"IF(D109=0,\"\",VLOOKUP(D109,基礎データ!$B$5:$D$64,2))","v":""},0,"","","","","","","","","","","","","","","","","","","","","","","","","","","","",0,0,0,0,0,0,0]
[null,{"$f":"IF(D110=0,\"\",VLOOKUP(D110,基礎データ!$B$5:$D$64,3))","v":""},{"$f":"IF(D110=0,\"\",VLOOKUP(D110,基礎データ!$B$5:$D$64,2))","v":""},0,"","","",{"$f":"IF(H35=4,\"😄\",IF(H35=3,\"😊\",IF(H35=2,\"😢\",IF(H35=1,\"😭\",\"\"))))","v":""},"","","","","","","","","","","","","","","","","","","","","","","","",0,0,0,0,0,0,0]
[null,{"$f":"IF(D111=0,\"\",VLOOKUP(D111,基礎データ!$B$5:$D$64,3))","v":""},{"$f":"IF(D111=0,\"\",VLOOKUP(D111,基礎データ!$B$5:$D$64,2))","v":""},0,{"$f":"IF(E36=4,\"😄\",IF(E36=3,\"😊\",IF(E36=2,\"😢\",IF(E36=1,\"😭\",\"\"))))","v":""},"","","","","","","","","","","","","","","","","","","","","","","","","","","",0,0,0,0,0,0,0]
[null,{"$f":"IF(D112=0,\"\",VLOOKUP(D112,基礎データ!$B$5:$D$64,3))","v":""},{"$f":"IF(D112=0,\"\",VLOOKUP(D112,基礎データ!$B$5:$D$64,2))","v":""},0,"","","","","","","","","","","","","","","","","","","","","","","","","","","","",0,0,0,0,0,0,0]
[null,{"$f":"IF(D113=0,\"\",VLOOKUP(D113,基礎データ!$B$5:$D$64,3))","v":""},{"$f":"IF(D113=0,\"\",VLOOKUP(D113,基礎データ!$B$5:$D$64,2))","v":""},0,"","","","","","","","","","","","","","","","","","","","","","","","","","","","",{"$f":"AG38","v":0},0,0,0,0,0,0]
[null,{"$f":"IF(D114=0,\"\",VLOOKUP(D114,基礎データ!$B$5:$D$64,3))","v":""},{"$f":"IF(D114=0,\"\",VLOOKUP(D114,基礎データ!$B$5:$D$64,2))","v":""},0,"","","","","","","","","","","","","","","","","","","","","","","","","","","","",0,0,0,0,0,0,0]
[null,{"$f":"IF(D115=0,\"\",VLOOKUP(D115,基礎データ!$B$5:$D$64,3))","v":""},{"$f":"IF(D115=0,\"\",VLOOKUP(D115,基礎データ!$B$5:$D$64,2))","v":""},0,"","","","","","","","","","","","","","","","","","","","","","","","","","","","",0,0,0,0,0,0,0]
[null,{"$f":"IF(D116=0,\"\",VLOOKUP(D116,基礎データ!$B$5:$D$64,3))","v":""},{"$f":"IF(D116=0,\"\",VLOOKUP(D116,基礎データ!$B$5:$D$64,2))","v":""},0,"","","","","","","","","","","","","","","","","","","","","","","","","","","","",0,0,0,0,0,0,0]
[null,{"$f":"IF(D117=0,\"\",VLOOKUP(D117,基礎データ!$B$5:$D$64,3))","v":""},{"$f":"IF(D117=0,\"\",VLOOKUP(D117,基礎データ!$B$5:$D$64,2))","v":""},0,"","","","","","","","","","","","","","","","","","","","","","","","","","","","",0,0,0,0,0,0,0]
[null,{"$f":"IF(D118=0,\"\",VLOOKUP(D118,基礎データ!$B$5:$D$64,3))","v":""},{"$f":"IF(D118=0,\"\",VLOOKUP(D118,基礎データ!$B$5:$D$64,2))","v":""},0,"","","","","","","","","","","","","","","","","","","","","","","","","","","","",0,0,0,0,0,0,0]
[null,{"$f":"IF(D119=0,\"\",VLOOKUP(D119,基礎データ!$B$5:$D$64,3))","v":""},{"$f":"IF(D119=0,\"\",VLOOKUP(D119,基礎データ!$B$5:$D$64,2))","v":""},0,"","","","","","","","","","","","","","","","","","","","","","","","","","","","",0,0,0,0,0,0,0]
[null,{"$f":"IF(D120=0,\"\",VLOOKUP(D120,基礎データ!$B$5:$D$64,3))","v":""},{"$f":"IF(D120=0,\"\",VLOOKUP(D120,基礎データ!$B$5:$D$64,2))","v":""},0,"","","",{"$f":"IF(H45=4,\"😄\",IF(H45=3,\"😊\",IF(H45=2,\"😢\",IF(H45=1,\"😭\",\"\"))))","v":""},"","","","","","","","","","","","","","","","","","","","","","","","",0,0,0,0,0,0,0]
[null,{"$f":"IF(D121=0,\"\",VLOOKUP(D121,基礎データ!$B$5:$D$64,3))","v":""},{"$f":"IF(D121=0,\"\",VLOOKUP(D121,基礎データ!$B$5:$D$64,2))","v":""},0,{"$f":"IF(E46=4,\"😄\",IF(E46=3,\"😊\",IF(E46=2,\"😢\",IF(E46=1,\"😭\",\"\"))))","v":""},"","","","","","","","","","","","","","","","","","","","","","","","","","","",0,0,0,0,0,0,0]
[null,{"$f":"IF(D122=0,\"\",VLOOKUP(D122,基礎データ!$B$5:$D$64,3))","v":""},{"$f":"IF(D122=0,\"\",VLOOKUP(D122,基礎データ!$B$5:$D$64,2))","v":""},0,"","","","","","","","","","","","","","","","","","","","","","","","","","","","",0,0,0,0,0,0,0]
[null,{"$f":"IF(D123=0,\"\",VLOOKUP(D123,基礎データ!$B$5:$D$64,3))","v":""},{"$f":"IF(D123=0,\"\",VLOOKUP(D123,基礎データ!$B$5:$D$64,2))","v":""},0,"","","","","","","","","","","","","","","","","","","","","","","","","","","","",0,0,0,0,0,0,0]
[null,{"$f":"IF(D124=0,\"\",VLOOKUP(D124,基礎データ!$B$5:$D$64,3))","v":""},{"$f":"IF(D124=0,\"\",VLOOKUP(D124,基礎データ!$B$5:$D$64,2))","v":""},0,"","","","","","","","","","","","","","","","","","","","","","","","","","","","",0,0,0,0,0,0,0]
[null,{"$f":"IF(D125=0,\"\",VLOOKUP(D125,基礎データ!$B$5:$D$64,3))","v":""},{"$f":"IF(D125=0,\"\",VLOOKUP(D125,基礎データ!$B$5:$D$64,2))","v":""},0,"","","","","","","","","","","","","","","","","","","","","","","","","","","","",0,0,0,0,0,0,0]
[null,{"$f":"IF(D126=0,\"\",VLOOKUP(D126,基礎データ!$B$5:$D$64,3))","v":""},{"$f":"IF(D126=0,\"\",VLOOKUP(D126,基礎データ!$B$5:$D$64,2))","v":""},0,"","","","","","","","","","","","","","","","","","","","","","","","","","","","",0,0,0,0,0,0,0]
[null,{"$f":"IF(D127=0,\"\",VLOOKUP(D127,基礎データ!$B$5:$D$64,3))","v":""},{"$f":"IF(D127=0,\"\",VLOOKUP(D127,基礎データ!$B$5:$D$64,2))","v":""},0,"","","","","","","","","","","","","","","","","","","","","","","","","","","","",0,0,0,0,0,0,0]
[null,{"$f":"IF(D128=0,\"\",VLOOKUP(D128,基礎データ!$B$5:$D$64,3))","v":""},{"$f":"IF(D128=0,\"\",VLOOKUP(D128,基礎データ!$B$5:$D$64,2))","v":""},0,"","","","","","","","","","","","","","","","","","","","","","","","","","","","",0,0,0,0,0,0,0]
[null,{"$f":"IF(D129=0,\"\",VLOOKUP(D129,基礎データ!$B$5:$D$64,3))","v":""},{"$f":"IF(D129=0,\"\",VLOOKUP(D129,基礎データ!$B$5:$D$64,2))","v":""},0,"","","","","","","","","","","","","","","","","","","","","","","","","","","","",{"$f":"AG54","v":0},0,0,0,0,0,0]
[null,{"$f":"IF(D130=0,\"\",VLOOKUP(D130,基礎データ!$B$5:$D$64,3))","v":""},{"$f":"IF(D130=0,\"\",VLOOKUP(D130,基礎データ!$B$5:$D$64,2))","v":""},0,"","","",{"$f":"IF(H55=4,\"😄\",IF(H55=3,\"😊\",IF(H55=2,\"😢\",IF(H55=1,\"😭\",\"\"))))","v":""},"","","","","","","","","","","","","","","","","","","","","","","","",0,0,0,0,0,0,0]
[null,{"$f":"IF(D131=0,\"\",VLOOKUP(D131,基礎データ!$B$5:$D$64,3))","v":""},{"$f":"IF(D131=0,\"\",VLOOKUP(D131,基礎データ!$B$5:$D$64,2))","v":""},0,{"$f":"IF(E56=4,\"😄\",IF(E56=3,\"😊\",IF(E56=2,\"😢\",IF(E56=1,\"😭\",\"\"))))","v":""},"","","","","","","","","","","","","","","","","","","","","","","","","","","",0,0,0,0,0,0,0]
[null,{"$f":"IF(D132=0,\"\",VLOOKUP(D132,基礎データ!$B$5:$D$64,3))","v":""},{"$f":"IF(D132=0,\"\",VLOOKUP(D132,基礎データ!$B$5:$D$64,2))","v":""},0,"","","","","","","","","","","","","","","","","","","","","","","","","","","","",0,0,0,0,0,0,0]
[null,{"$f":"IF(D133=0,\"\",VLOOKUP(D133,基礎データ!$B$5:$D$64,3))","v":""},{"$f":"IF(D133=0,\"\",VLOOKUP(D133,基礎データ!$B$5:$D$64,2))","v":""},0,"","","","","","","","","","","","","","","","","","","","","","","","","","","","",0,0,0,0,0,0,0]
[null,{"$f":"IF(D134=0,\"\",VLOOKUP(D134,基礎データ!$B$5:$D$64,3))","v":""},{"$f":"IF(D134=0,\"\",VLOOKUP(D134,基礎データ!$B$5:$D$64,2))","v":""},0,"","","","","","","","","","","","","","","","","","","","","","","","","","","","",0,0,0,0,0,0,0]
[null,{"$f":"IF(D135=0,\"\",VLOOKUP(D135,基礎データ!$B$5:$D$64,3))","v":""},{"$f":"IF(D135=0,\"\",VLOOKUP(D135,基礎データ!$B$5:$D$64,2))","v":""},0,"","","","","","","","","","","","","","","","","","","","","","","","","","","","",0,0,0,0,0,0,0]
[null,{"$f":"IF(D136=0,\"\",VLOOKUP(D136,基礎データ!$B$5:$D$64,3))","v":""},{"$f":"IF(D136=0,\"\",VLOOKUP(D136,基礎データ!$B$5:$D$64,2))","v":""},0,"","","","","","","","","","","","","","","","","","","","","","","","","","","","",0,0,0,0,0,0,0]
[null,{"$f":"IF(D137=0,\"\",VLOOKUP(D137,基礎データ!$B$5:$D$64,3))","v":""},{"$f":"IF(D137=0,\"\",VLOOKUP(D137,基礎データ!$B$5:$D$64,2))","v":""},0,"","","","","","","","","","","","","","","","","","","","","","","","","","","","",0,0,0,0,0,0,0]
[null,{"$f":"IF(D138=0,\"\",VLOOKUP(D138,基礎データ!$B$5:$D$64,3))","v":""},{"$f":"IF(D138=0,\"\",VLOOKUP(D138,基礎データ!$B$5:$D$64,2))","v":""},0,"","","","","","","","","","","","","","","","","","","","","","","","","","","","",0,0,0,0,0,0,0]
[null,{"$f":"IF(D139=0,\"\",VLOOKUP(D139,基礎データ!$B$5:$D$64,3))","v":""},{"$f":"IF(D139=0,\"\",VLOOKUP(D139,基礎データ!$B$5:$D$64,2))","v":""},0,"","","","","","","","","","","","","","","","","","","","","","","","","","","","",0,0,0,0,0,0,0]
[null,{"$f":"IF(D140=0,\"\",VLOOKUP(D140,基礎データ!$B$5:$D$64,3))","v":""},{"$f":"IF(D140=0,\"\",VLOOKUP(D140,基礎データ!$B$5:$D$64,2))","v":""},0,"","","",{"$f":"IF(H65=4,\"😄\",IF(H65=3,\"😊\",IF(H65=2,\"😢\",IF(H65=1,\"😭\",\"\"))))","v":""},"","","","","","","","","","","","","","","","","","","","","","","","",0,0,0,0,0,0,0]
[null,"😄 の数",null,null,{"$f":"E66","v":0},0,0,0,0,0,0,0,0,0,0,0,0,0,0,0,0,0,0,0,0,0,0,0,0,0,0,0,0,0,0,0,0,0,0]
[null,"😊 の数",null,null,0,0,0,0,0,0,0,0,0,0,0,0,0,0,0,0,0,0,0,0,0,0,0,0,0,0,0,0,0,0,0,0,0,0,0]
[null,"😢 の数",null,null,0,0,0,0,0,0,0,0,0,0,0,0,0,0,0,0,0,0,0,0,0,0,0,0,0,0,0,0,0,0,0,0,0,0,0]
[null,"😭 の数",null,null,0,0,0,0,0,0,0,0,0,0,0,0,0,0,0,0,0,0,0,0,0,0,0,0,0,0,0,0,0,0,0,0,0,0,0]
[null,"合計",null,null,0,0,0,0,0,0,0,0,0,0,0,0,0,0,0,0,0,0,0,0,0,0,0,0,0,0,0,0,0,0,0,0,0,0,{"$f":"AM70","v":0}]
[null,"男子平均",null,{"$f":"COUNTIF($B$81:$B$140,\"男\")","v":0},0,0,0,0,0,0,0,0,0,0,0,0,0,0,0,0,0,0,0,0,0,0,0,0,0,0,0,0,0,0,0,0,0,0,0]
[null,"女子平均",null,{"$f":"COUNTIF($B$81:$B$140,\"女\")","v":0},0,0,0,0,0,0,0,0,0,0,0,0,0,0,0,0,0,0,0,0,0,0,0,0,0,0,0,0,0,0,0,0,0,0,0]
[null,"全体平均",null,{"$f":"SUM(D146:D147)","v":0},0,0,0,0,0,0,0,0,0,0,0,0,0,0,0,0,0,{"$f":"V73","v":0},0,0,0,0,0,0,0,0,0,0,0,0,0,0,0,0,0]
[null,null,null,"↑"]
[null,null,null,"ここだけ人数"]

{"sheet":"３回目直接入力","index":12,"n_rows":66,"n_cols":16384,"rows_kept":66,"cut":false,"hidden":false,"merged":[]}
[null,"3回目直接入力 　出席番号順に入力しなくてよいです。"]
["出席番号","（1）","（2）","（3）","（4）","（5）","（6）","（7）","（8）","（9）","（10）","（11）","（12）","（13）","（14）","（15）","（16）","（17）","（18）","（19）","（20）","（21）","（22）","（23）","（24）","（25）","（26）","（27）","（28）"]
[{"$f":"A65","v":0},0,0,0,0,0,{"$f":"IF(G65=4,1,IF(G65=3,2,IF(G65=2,3,IF(G65=1,4,0))))","v":0},0,0,{"$f":"J65","v":0},0,0,0,0,{"$f":"IF(O65=4,1,IF(O65=3,2,IF(O65=2,3,IF(O65=1,4,0))))","v":0},{"$f":"P65","v":0},0,0,0,0,{"$f":"IF(U65=4,1,IF(U65=3,2,IF(U65=2,3,IF(U65=1,4,0))))","v":0},{"$f":"V65","v":0},0,0,0,0,{"$f":"IF(AA65=4,1,IF(AA65=3,2,IF(AA65=2,3,IF(AA65=1,4,0))))","v":0},0,0]
[0,0,0,0,0,0,0,0,0,0,0,0,0,0,{"$f":"IF(O66=4,1,IF(O66=3,2,IF(O66=2,3,IF(O66=1,4,0))))","v":0},0,0,0,0,0,{"$f":"IF(U66=4,1,IF(U66=3,2,IF(U66=2,3,IF(U66=1,4,0))))","v":0},0,0,0,0,0,0,0,0]
[0,0,0,0,0,0,0,0,0,0,0,0,0,0,0,0,0,0,0,0,0,0,0,0,0,0,0,0,0]
[0,0,0,0,0,0,0,0,0,0,0,0,0,0,0,0,0,0,0,0,0,0,0,0,0,0,0,0,0]
[0,0,0,0,0,0,0,0,0,0,0,0,0,0,0,0,0,0,0,0,0,0,0,0,0,0,0,0,0]
[0,0,0,0,0,0,0,0,0,0,0,0,0,0,0,0,0,0,0,0,0,0,0,0,0,0,0,0,0]
[0,0,0,0,0,0,0,0,0,0,0,0,0,0,0,0,0,0,0,0,0,0,0,0,0,0,0,0,0]
[0,0,0,0,0,0,0,0,0,0,0,0,0,0,0,0,0,0,0,0,0,0,0,0,0,0,0,0,0]
[0,0,0,0,0,0,0,0,0,0,0,0,0,0,0,0,0,0,0,0,0,0,0,0,0,0,0,0,0]
[0,0,0,0,0,0,0,0,0,0,0,0,0,0,0,0,0,0,0,0,0,0,0,0,0,0,0,0,0]
[0,0,0,0,0,0,0,0,0,0,0,0,0,0,0,0,0,0,0,0,0,0,0,0,0,0,0,0,0]
[0,0,0,0,0,0,0,0,0,0,0,0,0,0,0,0,0,0,0,0,0,0,0,0,0,0,0,0,0]
[0,0,0,0,0,0,0,0,0,0,0,0,0,0,0,0,0,0,0,0,0,0,0,0,0,0,0,0,0]
[0,0,0,0,0,0,0,0,0,0,0,0,0,0,0,0,0,0,0,0,0,0,0,0,0,0,0,0,0]
[0,0,0,0,0,0,0,0,0,0,0,0,0,0,0,0,0,0,0,0,0,0,0,0,0,0,0,0,0]
[0,0,0,0,0,0,0,0,0,0,0,0,0,0,0,0,0,0,0,0,0,0,0,0,0,0,0,0,0]
[{"$f":"A81","v":0},0,0,0,0,0,{"$f":"IF(G81=4,1,IF(G81=3,2,IF(G81=2,3,IF(G81=1,4,0))))","v":0},0,0,{"$f":"J81","v":0},0,0,0,0,0,{"$f":"P81","v":0},0,0,0,0,0,{"$f":"V81","v":0},0,0,0,0,{"$f":"IF(AA81=4,1,IF(AA81=3,2,IF(AA81=2,3,IF(AA81=1,4,0))))","v":0},0,0]
[0,0,0,0,0,0,0,0,0,0,0,0,0,0,0,0,0,0,0,0,0,0,0,0,0,0,0,0,0]
[0,0,0,0,0,0,0,0,0,0,0,0,0,0,0,0,0,0,0,0,0,0,0,0,0,0,0,0,0]
[0,0,0,0,0,0,0,0,0,0,0,0,0,0,0,0,0,0,0,0,0,0,0,0,0,0,0,0,0]
[0,0,0,0,0,0,0,0,0,0,0,0,0,0,0,0,0,0,0,0,0,0,0,0,0,0,0,0,0]
[0,0,0,0,0,0,0,0,0,0,0,0,0,0,0,0,0,0,0,0,0,0,0,0,0,0,0,0,0]
[0,0,0,0,0,0,0,0,0,0,0,0,0,0,0,0,0,0,0,0,0,0,0,0,0,0,0,0,0]
[0,0,0,0,0,0,0,0,0,0,0,0,0,0,0,0,0,0,0,0,0,0,0,0,0,0,0,0,0]
[0,0,0,0,0,0,0,0,0,0,0,0,0,0,0,0,0,0,0,0,0,0,0,0,0,0,0,0,0]
[0,0,0,0,0,0,0,0,0,0,0,0,0,0,0,0,0,0,0,0,0,0,0,0,0,0,0,0,0]
[0,0,0,0,0,0,0,0,0,0,0,0,0,0,0,0,0,0,0,0,0,0,0,0,0,0,0,0,0]
[0,0,0,0,0,0,0,0,0,0,0,0,0,0,0,0,0,0,0,0,0,0,0,0,0,0,0,0,0]
[0,0,0,0,0,0,0,0,0,0,0,0,0,0,0,0,0,0,0,0,0,0,0,0,0,0,0,0,0]
[0,0,0,0,0,0,0,0,0,0,0,0,0,0,0,0,0,0,0,0,0,0,0,0,0,0,0,0,0]
[0,0,0,0,0,0,0,0,0,0,0,0,0,0,0,0,0,0,0,0,0,0,0,0,0,0,0,0,0]
[0,0,0,0,0,0,0,0,0,0,0,0,0,0,0,0,0,0,0,0,0,0,0,0,0,0,0,0,0]
[{"$f":"A97","v":0},0,0,0,0,0,{"$f":"IF(G97=4,1,IF(G97=3,2,IF(G97=2,3,IF(G97=1,4,0))))","v":0},0,0,{"$f":"J97","v":0},0,0,0,0,0,{"$f":"P97","v":0},0,0,0,0,0,{"$f":"V97","v":0},0,0,0,0,{"$f":"IF(AA97=4,1,IF(AA97=3,2,IF(AA97=2,3,IF(AA97=1,4,0))))","v":0},0,0]
[0,0,0,0,0,0,0,0,0,0,0,0,0,0,0,0,0,0,0,0,0,0,0,0,0,0,0,0,0]
[0,0,0,0,0,0,0,0,0,0,0,0,0,0,0,0,0,0,0,0,0,0,0,0,0,0,0,0,0]
[0,0,0,0,0,0,0,0,0,0,0,0,0,0,0,0,0,0,0,0,0,0,0,0,0,0,0,0,0]
[0,0,0,0,0,0,0,0,0,0,0,0,0,0,0,0,0,0,0,0,0,0,0,0,0,0,0,0,0]
[0,0,0,0,0,0,0,0,0,0,0,0,0,0,0,0,0,0,0,0,0,0,0,0,0,0,0,0,0]
[0,0,0,0,0,0,0,0,0,0,0,0,0,0,0,0,0,0,0,0,0,0,0,0,0,0,0,0,0]
[0,0,0,0,0,0,0,0,0,0,0,0,0,0,0,0,0,0,0,0,0,0,0,0,0,0,0,0,0]
[0,0,0,0,0,0,0,0,0,0,0,0,0,0,0,0,0,0,0,0,0,0,0,0,0,0,0,0,0]
[0,0,0,0,0,0,0,0,0,0,0,0,0,0,0,0,0,0,0,0,0,0,0,0,0,0,0,0,0]
[0,0,0,0,0,0,0,0,0,0,0,0,0,0,0,0,0,0,0,0,0,0,0,0,0,0,0,0,0]
[0,0,0,0,0,0,0,0,0,0,0,0,0,0,0,0,0,0,0,0,0,0,0,0,0,0,0,0,0]
[0,0,0,0,0,0,0,0,0,0,0,0,0,0,0,0,0,0,0,0,0,0,0,0,0,0,0,0,0]
[0,0,0,0,0,0,0,0,0,0,0,0,0,0,0,0,0,0,0,0,0,0,0,0,0,0,0,0,0]
[0,0,0,0,0,0,0,0,0,0,0,0,0,0,0,0,0,0,0,0,0,0,0,0,0,0,0,0,0]
[0,0,0,0,0,0,0,0,0,0,0,0,0,0,0,0,0,0,0,0,0,0,0,0,0,0,0,0,0]
[{"$f":"A113","v":0},0,0,0,0,0,{"$f":"IF(G113=4,1,IF(G113=3,2,IF(G113=2,3,IF(G113=1,4,0))))","v":0},0,0,{"$f":"J113","v":0},0,0,0,0,0,{"$f":"P113","v":0},0,0,0,0,0,{"$f":"V113","v":0},0,0,0,0,{"$f":"IF(AA113=4,1,IF(AA113=3,2,IF(AA113=2,3,IF(AA113=1,4,0))))","v":0},0,0]
[0,0,0,0,0,0,0,0,0,0,0,0,0,0,0,0,0,0,0,0,0,0,0,0,0,0,0,0,0]
[0,0,0,0,0,0,0,0,0,0,0,0,0,0,0,0,0,0,0,0,0,0,0,0,0,0,0,0,0]
[0,0,0,0,0,0,0,0,0,0,0,0,0,0,0,0,0,0,0,0,0,0,0,0,0,0,0,0,0]
[0,0,0,0,0,0,0,0,0,0,0,0,0,0,0,0,0,0,0,0,0,0,0,0,0,0,0,0,0]
[0,0,0,0,0,0,0,0,0,0,0,0,0,0,0,0,0,0,0,0,0,0,0,0,0,0,0,0,0]
[0,0,0,0,0,0,0,0,0,0,0,0,0,0,0,0,0,0,0,0,0,0,0,0,0,0,0,0,0]
[0,0,0,0,0,0,0,0,0,0,0,0,0,0,0,0,0,0,0,0,0,0,0,0,0,0,0,0,0]
[0,0,0,0,0,0,0,0,0,0,0,0,0,0,0,0,0,0,0,0,0,0,0,0,0,0,0,0,0]
[0,0,0,0,0,0,0,0,0,0,0,0,0,0,0,0,0,0,0,0,0,0,0,0,0,0,0,0,0]
[0,0,0,0,0,0,0,0,0,0,0,0,0,0,0,0,0,0,0,0,0,0,0,0,0,0,0,0,0]
[0,0,0,0,0,0,0,0,0,0,0,0,0,0,0,0,0,0,0,0,0,0,0,0,0,0,0,0,0]
[]
["出席番号","（1）","（2）","（3）","（4）","（5）","（6）","（7）","（8）","（9）","（10）","（11）","（12）","（13）","（14）","（15）","（16）","（17）","（18）","（19）","（20）","（21）","（22）","（23）","（24）","（25）","（26）","（27）","（28）"]
[null,null,null,null,null,null,null,null,null,null,null,null,null,null,null,null,null,null,null,null,null,null,null,null,null,null,null,null,null,2,2,2,2,2,2,2,2,2,2,2,2,2,2,2,2,2,2,2,2,2,2,2,2,2,2,2,2,2,2,2,2,2,2,2,2,2,2,2,2,2,2,2,2,2,2,2,2,2,2,2,2,2,2,2,2,2,2,2,2,2,2,2,2,2,2,2,2,2,2,2,2,2,2,2,2,2,2,2,2,2,2,2,2,2,2,2,2,2,2,2,2,2,2,2,2,2,2,2,2,2,2,2,2,2,2,2,2,2,2,2,2,2,2,2,2,2,2,2,2,2,2,2,2,2,2,2,2,2,2,2,2,2,2,2,2,2,2,2,2,2,2,2,2,2,2,2,2,2,2,2,2,2,2,2,2,2,2,2,2,2,2,2,2,2,2,2,2,2,2,2,2,2,2,2,2,2,2,2,2,2,2,2,2,2,2,2,2,2,2,2,2,2,2,2,2,2,2,2,2,2,2,2,2,2,2,2,2,2,2,2,2,2,2,2,2,2,2,2,2,2,2,2,2,2,2,2,2,2,2,2,2,2,2,2,2,2,2,2,2,2,2,2,2,2,2,2,2,2,2,2,2,2,2,2,2,2,2,2,2,2,2,2,2,2,2,2,2,2,2,2,2,2,2,2,2,2,2,2,2,2,2,2,2,2,2,2,2,2,2,2,2,2,2,2,2,2,2,2,2,2,2,2,2,2,2,2,2,2,2,2,2,2,2,2,2,2,2,2,2,2,2,2,2,2,2,2,2,2,2,2,2,2,2,2,2,2,2,2,2,2,2,2,2,2,2,2,2,2,2,2,2,2,2,2,2,2,2,2,2,2,2,2,2,2,2,2,2,2,2,2,2,2,2,2,2,2,2,2,2,2,2,2,2,2,2,2,2,2,2,2,2,2,2,2,2,2,2,2,2,2,2,2,2,2,2,2,2,2,2,2,2,2,2,2,2,2,2,2,2,2,2,2,2,2,2,2,2,2,2,2,2,2,2,2,2,2,2,2,2,2,2,2,2,2,2,2,2,2,2,2,2,2,2,2,2,2,2,2,2,2,2,2,2,2,2,2,2,2,2,2,2,2,2,2,2,2,2,2,2,2,2,2,2,2,2,2,2,2,2,2,2,2,2,2,2,2,2,2,2,2,2,2,2,2,2,2,2,2,2,2,2,2,2,2,2,2,2,2,2,2,2,2,2,2,2,2,2,2,2,2,2,2,2,2,2,2,2,2,2,2,2,2,2,2,2,2,2,2,2,2,2,2,2,2,2,2,2,2,2,2,2,2,2,2,2,2,2,2,2,2,2,2,2,2,2,2,2,2,2,2,2,2,2,2,2,2,2,2,2,2,2,2,2,2,2,2,2,2,2,2,2,2,2,2,2,2,2,2,2,2,2,2,2,2,2,2,2,2,2,2,2,2,2,2,2,2,2,2,2,2,2,2,2,2,2,2,2,2,2,2,2,2,2,2,2,2,2,2,2,2,2,2,2,2,2,2,2,2,2,2,2,2,2,2,2,2,2,2,2,2,2,2,2,2,2,2,2,2,2,2,2,2,2,2,2,2,2,2,2,2,2,2,2,2,2,2,2,2,2,2,2,2,2,2,2,2,2,2,2,2,2,2,2,2,2,2,2,2,2,2,2,2,2,2,2,2,2,2,2,2,2,2,2,2,2,2,2,2,2,2,2,2,2,2,2,2,2,2,2,2,2,2,2,2,2,2,2,2,2,2,2,2,2,2,2,2,2,2,2,2,2,2,2,2,2,2,2,2,2,2,2,2,2,2,2,2,2,2,2,2,2,2,2,2,2,2,2,2,2,2,2,2,2,2,2,2,2,2,2,2,2,2,2,2,2,2,2,2,2,2,2,2,2,2,2,2,2,2,2,2,2,2,2,2,2,2,2,2,2,2,2,2,2,2,2,2,2,2,2,2,2,2,2,2,2,2,2,2,2,2,2,2,2,2,2,2,2,2,2,2,2,2,2,2,2,2,2,2,2,2,2,2,2,2,2,2,2,2,2,2,2,2,2,2,2,2,2,2,2,2,2,2,2,2,2,2,2,2,2,2,2,2,2,2,2,2,2,2,2,2,2,2,2,2,2,2,2,2,2,2,2,2,2,2,2,2,2,2,2,2,2,2,2,2,2,2,2,2,2,2,2,2,2,2,2,2,2,2,2,2,2,2,2,2,2,2,2,2,2,2,2,2,2,2,2,2,2,2,2,2,2,2,2,2,2,2,2,2,2,2,2,2,2,2,2,2,2,2,2,2,2,2,2,2,2,2,2,2,2,2,2,2,2,2,2,2,2,2,2,2,2,2,2,2,2,2,2,2,2,2,2,2,2,2,2,2,2,2,2,2,2,2,2,2,2,2,2,2,2,2,2,2,2,2,2,2,2,2,2,2,2,2,2,2,2,2,2,2,2,2,2,2,2,2,2,2,2,2,2,2,2,2,2,2,2,2,2,2,2,2,2,2,2,2,2,2,2,2,2,2,2,2,2,2,2,2,2,2,2,2,2,2,2,2,2,2,2,2,2,2,2,2,2,2,2,2,2,2,2,2,2,2,2,2,2,2,2,2,2,2,2,2,2,2,2,2,2,2,2,2,2,2,2,2,2,2,2,2,2,2,2,2,2,2,2,2,2,2,2,2,2,2,2,2,2,2,2,2,2,2,2,2,2,2,2,2,2,2,2,2,2,2,2,2,2,2,2,2,2,2,2,2,2,2,2,2,2,2,2,2,2,2,2,2,2,2,2,2,2,2,2,2,2,2,2,2,2,2,2,2,2,2,2,2,2,2,2,2,2,2,2,2,2,2,2,2,2,2,2,2,2,2,2,2,2,2,2,2,2,2,2,2,2,2,2,2,2,2,2,2,2,2,2,2,2,2,2,2,2,2,2,2,2,2,2,2,2,2,2,2,2,2,2,2,2,2,2,2,2,2,2,2,2,2,2,2,2,2,2,2,2,2,2,2,2,2,2,2,2,2,2,2,2,2,2,2,2,2,2,2,2,2,2,2,2,2,2,2,2,2,2,2,2,2,2,2,2,2,2,2,2,2,2,2,2,2,2,2,2,2,2,2,2,2,2,2,2,2,2,2,2,2,2,2,2,2,2,2,2,2,2,2,2,2,2,2,2,2,2,2,2,2,2,2,2,2,2,2,2,2,2,2,2,2,2,2,2,2,2,2,2,2,2,2,2,2,2,2,2,2,2,2,2,2,2,2,2,2,2,2,2,2,2,2,2,2,2,2,2,2,2,2,2,2,2,2,2,2,2,2,2,2,2,2,2,2,2,2,2,2,2,2,2,2,2,2,2,2,2,2,2,2,2,2,2,2,2,2,2,2,2,2,2,2,2,2,2,2,2,2,2,2,2,2,2,2,2,2,2,2,2,2,2,2,2,2,2,2,2,2,2,2,2,2,2,2,2,2,2,2,2,2,2,2,2,2,2,2,2,2,2,2,2,2,2,2,2,2,2,2,2,2,2,2,2,2,2,2,2,2,2,2,2,2,2,2,2,2,2,2,2,2,2,2,2,2,2,2,2,2,2,2,2,2,2,2,2,2,2,2,2,2,2,2,2,2,2,2,2,2,2,2,2,2,2,2,2,2,2,2,2,2,2,2,2,2,2,2,2,2,2,2,2,2,2,2,2,2,2,2,2,2,2,2,2,2,2,2,2,2,2,2,2,2,2,2,2,2,2,2,2,2,2,2,2,2,2,2,2,2,2,2,2,2,2,2,2,2,2,2,2,2,2,2,2,2,2,2,2,2,2,2,2,2,2,2,2,2,2,2,2,2,2,2,2,2,2,2,2,2,2,2,2,2,2,2,2,2,2,2,2,2,2,2,2,2,2,2,2,2,2,2,2,2,2,2,2,2,2,2,2,2,2,2,2,2,2,2,2,2,2,2,2,2,2,2,2,2,2,2,2,2,2,2,2,2,2,2,2,2,2,2,2,2,2,2,2,2,2,2,2,2,2,2,2,2,2,2,2,2,2,2,2,2,2,2,2,2,2,2,2,2,2,2,2,2,2,2,2,2,2,2,2,2,2,2,2,2,2,2,2,2,2,2,2,2,2,2,2,2,2,2,2,2,2,2,2,2,2,2,2,2,2,2,2,2,2,2,2,2,2,2,2,2,2,2,2,2,2,2,2,2,2,2,2,2,2,2,2,2,2,2,2,2,2,2,2,2,2,2,2,2,2,2,2,2,2,2,2,2,2,2,2,2,2,2,2,2,2,2,2,2,2,2,2,2,2,2,2,2,2,2,2,2,2,2,2,2,2,2,2,2,2,2,2,2,2,2,2,2,2,2,2,2,2,2,2,2,2,2,2,2,2,2,2,2,2,2,2,2,2,2,2,2,2,2,2,2,2,2,2,2,2,2,2,2,2,2,2,2,2,2,2,2,2,2,2,2,2,2,2,2,2,2,2,2,2,2,2,2,2,2,2,2,2,2,2,2,2,2,2,2,2,2,2,2,2,2,2,2,2,2,2,2,2,2,2,2,2,2,2,2,2,2,2,2,2,2,2,2,2,2,2,2,2,2,2,2,2,2,2,2,2,2,2,2,2,2,2,2,2,2,2,2,2,2,2,2,2,2,2,2,2,2,2,2,2,2,2,2,2,2,2,2,2,2,2,2,2,2,2,2,2,2,2,2,2,2,2,2,2,2,2,2,2,2,2,2,2,2,2,2,2,2,2,2,2,2,2,2,2,2,2,2,2,2,2,2,2,2,2,2,2,2,2,2,2,2,2,2,2,2,2,2,2,2,2,2,2,2,2,2,2,2,2,2,2,2,2,2,2,2,2,2,2,2,2,2,2,2,2,2,2,2,2,2,2,2,2,2,2,2,2,2,2,2,2,2,2,2,2,2,2,2,2,2,2,2,2,2,2,2,2,2,2,2,2,2,2,2,2,2,2,2,2,2,2,2,2,2,2,2,2,2,2,2,2,2,2,2,2,2,2,2,2,2,2,2,2,2,2,2,2,2,2,2,2,2,2,2,2,2,2,2,2,2,2,2,2,2,2,2,2,2,2,2,2,2,2,2,2,2,2,2,2,2,2,2,2,2,2,2,2,2,2,2,2,2,2,2,2,2,2,2,2,2,2,2,2,2,2,2,2,2,2,2,2,2,2,2,2,2,2,2,2,2,2,2,2,2,2,2,2,2,2,2,2,2,2,2,2,2,2,2,2,2,2,2,2,2,2,2,2,2,2,2,2,2,2,2,2,2,2,2,2,2,2,2,2,2,2,2,2,2,2,2,2,2,2,2,2,2,2,2,2,2,2,2,2,2,2,2,2,2,2,2,2,2,2,2,2,2,2,2,2,2,2,2,2,2,2,2,2,2,2,2,2,2,2,2,2,2,2,2,2,2,2,2,2,2,2,2,2,2,2,2,2,2,2,2,2,2,2,2,2,2,2,2,2,2,2,2,2,2,2,2,2,2,2,2,2,2,2,2,2,2,2,2,2,2,2,2,2,2,2,2,2,2,2,2,2,2,2,2,2,2,2,2,2,2,2,2,2,2,2,2,2,2,2,2,2,2,2,2,2,2,2,2,2,2,2,2,2,2,2,2,2,2,2,2,2,2,2,2,2,2,2,2,2,2,2,2,2,2,2,2,2,2,2,2,2,2,2,2,2,2,2,2,2,2,2,2,2,2,2,2,2,2,2,2,2,2,2,2,2,2,2,2,2,2,2,2,2,2,2,2,2,2,2,2,2,2,2,2,2,2,2,2,2,2,2,2,2,2,2,2,2,2,2,2,2,2,2,2,2,2,2,2,2,2,2,2,2,2,2,2,2,2,2,2,2,2,2,2,2,2,2,2,2,2,2,2,2,2,2,2,2,2,2,2,2,2,2,2,2,2,2,2,2,2,2,2,2,2,2,2,2,2,2,2,2,2,2,2,2,2,2,2,2,2,2,2,2,2,2,2,2,2,2,2,2,2,2,2,2,2,2,2,2,2,2,2,2,2,2,2,2,2,2,2,2,2,2,2,2,2,2,2,2,2,2,2,2,2,2,2,2,2,2,2,2,2,2,2,2,2,2,2,2,2,2,2,2,2,2,2,2,2,2,2,2,2,2,2,2,2,2,2,2,2,2,2,2,2,2,2,2,2,2,2,2,2,2,2,2,2,2,2,2,2,2,2,2,2,2,2,2,2,2,2,2,2,2,2,2,2,2,2,2,2,2,2,2,2,2,2,2,2,2,2,2,2,2,2,2,2,2,2,2,2,2,2,2,2,2,2,2,2,2,2,2,2,2,2,2,2,2,2,2,2,2,2,2,2,2,2,2,2,2,2,2,2,2,2,2,2,2,2,2,2,2,2,2,2,2,2,2,2,2,2,2,2,2,2,2,2,2,2,2,2,2,2,2,2,2,2,2,2,2,2,2,2,2,2,2,2,2,2,2,2,2,2,2,2,2,2,2,2,2,2,2,2,2,2,2,2,2,2,2,2,2,2,2,2,2,2,2,2,2,2,2,2,2,2,2,2,2,2,2,2,2,2,2,2,2,2,2,2,2,2,2,2,2,2,2,2,2,2,2,2,2,2,2,2,2,2,2,2,2,2,2,2,2,2,2,2,2,2,2,2,2,2,2,2,2,2,2,2,2,2,2,2,2,2,2,2,2,2,2,2,2,2,2,2,2,2,2,2,2,2,2,2,2,2,2,2,2,2,2,2,2,2,2,2,2,2,2,2,2,2,2,2,2,2,2,2,2,2,2,2,2,2,2,2,2,2,2,2,2,2,2,2,2,2,2,2,2,2,2,2,2,2,2,2,2,2,2,2,2,2,2,2,2,2,2,2,2,2,2,2,2,2,2,2,2,2,2,2,2,2,2,2,2,2,2,2,2,2,2,2,2,2,2,2,2,2,2,2,2,2,2,2,2,2,2,2,2,2,2,2,2,2,2,2,2,2,2,2,2,2,2,2,2,2,2,2,2,2,2,2,2,2,2,2,2,2,2,2,2,2,2,2,2,2,2,2,2,2,2,2,2,2,2,2,2,2,2,2,2,2,2,2,2,2,2,2,2,2,2,2,2,2,2,2,2,2,2,2,2,2,2,2,2,2,2,2,2,2,2,2,2,2,2,2,2,2,2,2,2,2,2,2,2,2,2,2,2,2,2,2,2,2,2,2,2,2,2,2,2,2,2,2,2,2,2,2,2,2,2,2,2,2,2,2,2,2,2,2,2,2,2,2,2,2,2,2,2,2,2,2,2,2,2,2,2,2,2,2,2,2,2,2,2,2,2,2,2,2,2,2,2,2,2,2,2,2,2,2,2,2,2,2,2,2,2,2,2,2,2,2,2,2,2,2,2,2,2,2,2,2,2,2,2,2,2,2,2,2,2,2,2,2,2,2,2,2,2,2,2,2,2,2,2,2,2,2,2,2,2,2,2,2,2,2,2,2,2,2,2,2,2,2,2,2,2,2,2,2,2,2,2,2,2,2,2,2,2,2,2,2,2,2,2,2,2,2,2,2,2,2,2,2,2,2,2,2,2,2,2,2,2,2,2,2,2,2,2,2,2,2,2,2,2,2,2,2,2,2,2,2,2,2,2,2,2,2,2,2,2,2,2,2,2,2,2,2,2,2,2,2,2,2,2,2,2,2,2,2,2,2,2,2,2,2,2,2,2,2,2,2,2,2,2,2,2,2,2,2,2,2,2,2,2,2,2,2,2,2,2,2,2,2,2,2,2,2,2,2,2,2,2,2,2,2,2,2,2,2,2,2,2,2,2,2,2,2,2,2,2,2,2,2,2,2,2,2,2,2,2,2,2,2,2,2,2,2,2,2,2,2,2,2,2,2,2,2,2,2,2,2,2,2,2,2,2,2,2,2,2,2,2,2,2,2,2,2,2,2,2,2,2,2,2,2,2,2,2,2,2,2,2,2,2,2,2,2,2,2,2,2,2,2,2,2,2,2,2,2,2,2,2,2,2,2,2,2,2,2,2,2,2,2,2,2,2,2,2,2,2,2,2,2,2,2,2,2,2,2,2,2,2,2,2,2,2,2,2,2,2,2,2,2,2,2,2,2,2,2,2,2,2,2,2,2,2,2,2,2,2,2,2,2,2,2,2,2,2,2,2,2,2,2,2,2,2,2,2,2,2,2,2,2,2,2,2,2,2,2,2,2,2,2,2,2,2,2,2,2,2,2,2,2,2,2,2,2,2,2,2,2,2,2,2,2,2,2,2,2,2,2,2,2,2,2,2,2,2,2,2,2,2,2,2,2,2,2,2,2,2,2,2,2,2,2,2,2,2,2,2,2,2,2,2,2,2,2,2,2,2,2,2,2,2,2,2,2,2,2,2,2,2,2,2,2,2,2,2,2,2,2,2,2,2,2,2,2,2,2,2,2,2,2,2,2,2,2,2,2,2,2,2,2,2,2,2,2,2,2,2,2,2,2,2,2,2,2,2,2,2,2,2,2,2,2,2,2,2,2,2,2,2,2,2,2,2,2,2,2,2,2,2,2,2,2,2,2,2,2,2,2,2,2,2,2,2,2,2,2,2,2,2,2,2,2,2,2,2,2,2,2,2,2,2,2,2,2,2,2,2,2,2,2,2,2,2,2,2,2,2,2,2,2,2,2,2,2,2,2,2,2,2,2,2,2,2,2,2,2,2,2,2,2,2,2,2,2,2,2,2,2,2,2,2,2,2,2,2,2,2,2,2,2,2,2,2,2,2,2,2,2,2,2,2,2,2,2,2,2,2,2,2,2,2,2,2,2,2,2,2,2,2,2,2,2,2,2,2,2,2,2,2,2,2,2,2,2,2,2,2,2,2,2,2,2,2,2,2,2,2,2,2,2,2,2,2,2,2,2,2,2,2,2,2,2,2,2,2,2,2,2,2,2,2,2,2,2,2,2,2,2,2,2,2,2,2,2,2,2,2,2,2,2,2,2,2,2,2,2,2,2,2,2,2,2,2,2,2,2,2,2,2,2,2,2,2,2,2,2,2,2,2,2,2,2,2,2,2,2,2,2,2,2,2,2,2,2,2,2,2,2,2,2,2,2,2,2,2,2,2,2,2,2,2,2,2,2,2,2,2,2,2,2,2,2,2,2,2,2,2,2,2,2,2,2,2,2,2,2,2,2,2,2,2,2,2,2,2,2,2,2,2,2,2,2,2,2,2,2,2,2,2,2,2,2,2,2,2,2,2,2,2,2,2,2,2,2,2,2,2,2,2,2,2,2,2,2,2,2,2,2,2,2,2,2,2,2,2,2,2,2,2,2,2,2,2,2,2,2,2,2,2,2,2,2,2,2,2,2,2,2,2,2,2,2,2,2,2,2,2,2,2,2,2,2,2,2,2,2,2,2,2,2,2,2,2,2,2,2,2,2,2,2,2,2,2,2,2,2,2,2,2,2,2,2,2,2,2,2,2,2,2,2,2,2,2,2,2,2,2,2,2,2,2,2,2,2,2,2,2,2,2,2,2,2,2,2,2,2,2,2,2,2,2,2,2,2,2,2,2,2,2,2,2,2,2,2,2,2,2,2,2,2,2,2,2,2,2,2,2,2,2,2,2,2,2,2,2,2,2,2,2,2,2,2,2,2,2,2,2,2,2,2,2,2,2,2,2,2,2,2,2,2,2,2,2,2,2,2,2,2,2,2,2,2,2,2,2,2,2,2,2,2,2,2,2,2,2,2,2,2,2,2,2,2,2,2,2,2,2,2,2,2,2,2,2,2,2,2,2,2,2,2,2,2,2,2,2,2,2,2,2,2,2,2,2,2,2,2,2,2,2,2,2,2,2,2,2,2,2,2,2,2,2,2,2,2,2,2,2,2,2,2,2,2,2,2,2,2,2,2,2,2,2,2,2,2,2,2,2,2,2,2,2,2,2,2,2,2,2,2,2,2,2,2,2,2,2,2,2,2,2,2,2,2,2,2,2,2,2,2,2,2,2,2,2,2,2,2,2,2,2,2,2,2,2,2,2,2,2,2,2,2,2,2,2,2,2,2,2,2,2,2,2,2,2,2,2,2,2,2,2,2,2,2,2,2,2,2,2,2,2,2,2,2,2,2,2,2,2,2,2,2,2,2,2,2,2,2,2,2,2,2,2,2,2,2,2,2,2,2,2,2,2,2,2,2,2,2,2,2,2,2,2,2,2,2,2,2,2,2,2,2,2,2,2,2,2,2,2,2,2,2,2,2,2,2,2,2,2,2,2,2,2,2,2,2,2,2,2,2,2,2,2,2,2,2,2,2,2,2,2,2,2,2,2,2,2,2,2,2,2,2,2,2,2,2,2,2,2,2,2,2,2,2,2,2,2,2,2,2,2,2,2,2,2,2,2,2,2,2,2,2,2,2,2,2,2,2,2,2,2,2,2,2,2,2,2,2,2,2,2,2,2,2,2,2,2,2,2,2,2,2,2,2,2,2,2,2,2,2,2,2,2,2,2,2,2,2,2,2,2,2,2,2,2,2,2,2,2,2,2,2,2,2,2,2,2,2,2,2,2,2,2,2,2,2,2,2,2,2,2,2,2,2,2,2,2,2,2,2,2,2,2,2,2,2,2,2,2,2,2,2,2,2,2,2,2,2,2,2,2,2,2,2,2,2,2,2,2,2,2,2,2,2,2,2,2,2,2,2,2,2,2,2,2,2,2,2,2,2,2,2,2,2,2,2,2,2,2,2,2,2,2,2,2,2,2,2,2,2,2,2,2,2,2,2,2,2,2,2,2,2,2,2,2,2,2,2,2,2,2,2,2,2,2,2,2,2,2,2,2,2,2,2,2,2,2,2,2,2,2,2,2,2,2,2,2,2,2,2,2,2,2,2,2,2,2,2,2,2,2,2,2,2,2,2,2,2,2,2,2,2,2,2,2,2,2,2,2,2,2,2,2,2,2,2,2,2,2,2,2,2,2,2,2,2,2,2,2,2,2,2,2,2,2,2,2,2,2,2,2,2,2,2,2,2,2,2,2,2,2,2,2,2,2,2,2,2,2,2,2,2,2,2,2,2,2,2,2,2,2,2,2,2,2,2,2,2,2,2,2,2,2,2,2,2,2,2,2,2,2,2,2,2,2,2,2,2,2,2,2,2,2,2,2,2,2,2,2,2,2,2,2,2,2,2,2,2,2,2,2,2,2,2,2,2,2,2,2,2,2,2,2,2,2,2,2,2,2,2,2,2,2,2,2,2,2,2,2,2,2,2,2,2,2,2,2,2,2,2,2,2,2,2,2,2,2,2,2,2,2,2,2,2,2,2,2,2,2,2,2,2,2,2,2,2,2,2,2,2,2,2,2,2,2,2,2,2,2,2,2,2,2,2,2,2,2,2,2,2,2,2,2,2,2,2,2,2,2,2,2,2,2,2,2,2,2,2,2,2,2,2,2,2,2,2,2,2,2,2,2,2,2,2,2,2,2,2,2,2,2,2,2,2,2,2,2,2,2,2,2,2,2,2,2,2,2,2,2,2,2,2,2,2,2,2,2,2,2,2,2,2,2,2,2,2,2,2,2,2,2,2,2,2,2,2,2,2,2,2,2,2,2,2,2,2,2,2,2,2,2,2,2,2,2,2,2,2,2,2,2,2,2,2,2,2,2,2,2,2,2,2,2,2,2,2,2,2,2,2,2,2,2,2,2,2,2,2,2,2,2,2,2,2,2,2,2,2,2,2,2,2,2,2,2,2,2,2,2,2,2,2,2,2,2,2,2,2,2,2,2,2,2,2,2,2,2,2,2,2,2,2,2,2,2,2,2,2,2,2,2,2,2,2,2,2,2,2,2,2,2,2,2,2,2,2,2,2,2,2,2,2,2,2,2,2,2,2,2,2,2,2,2,2,2,2,2,2,2,2,2,2,2,2,2,2,2,2,2,2,2,2,2,2,2,2,2,2,2,2,2,2,2,2,2,2,2,2,2,2,2,2,2,2,2,2,2,2,2,2,2,2,2,2,2,2,2,2,2,2,2,2,2,2,2,2,2,2,2,2,2,2,2,2,2,2,2,2,2,2,2,2,2,2,2,2,2,2,2,2,2,2,2,2,2,2,2,2,2,2,2,2,2,2,2,2,2,2,2,2,2,2,2,2,2,2,2,2,2,2,2,2,2,2,2,2,2,2,2,2,2,2,2,2,2,2,2,2,2,2,2,2,2,2,2,2,2,2,2,2,2,2,2,2,2,2,2,2,2,2,2,2,2,2,2,2,2,2,2,2,2,2,2,2,2,2,2,2,2,2,2,2,2,2,2,2,2,2,2,2,2,2,2,2,2,2,2,2,2,2,2,2,2,2,2,2,2,2,2,2,2,2,2,2,2,2,2,2,2,2,2,2,2,2,2,2,2,2,2,2,2,2,2,2,2,2,2,2,2,2,2,2,2,2,2,2,2,2,2,2,2,2,2,2,2,2,2,2,2,2,2,2,2,2,2,2,2,2,2,2,2,2,2,2,2,2,2,2,2,2,2,2,2,2,2,2,2,2,2,2,2,2,2,2,2,2,2,2,2,2,2,2,2,2,2,2,2,2,2,2,2,2,2,2,2,2,2,2,2,2,2,2,2,2,2,2,2,2,2,2,2,2,2,2,2,2,2,2,2,2,2,2,2,2,2,2,2,2,2,2,2,2,2,2,2,2,2,2,2,2,2,2,2,2,2,2,2,2,2,2,2,2,2,2,2,2,2,2,2,2,2,2,2,2,2,2,2,2,2,2,2,2,2,2,2,2,2,2,2,2,2,2,2,2,2,2,2,2,2,2,2,2,2,2,2,2,2,2,2,2,2,2,2,2,2,2,2,2,2,2,2,2,2,2,2,2,2,2,2,2,2,2,2,2,2,2,2,2,2,2,2,2,2,2,2,2,2,2,2,2,2,2,2,2,2,2,2,2,2,2,2,2,2,2,2,2,2,2,2,2,2,2,2,2,2,2,2,2,2,2,2,2,2,2,2,2,2,2,2,2,2,2,2,2,2,2,2,2,2,2,2,2,2,2,2,2,2,2,2,2,2,2,2,2,2,2,2,2,2,2,2,2,2,2,2,2,2,2,2,2,2,2,2,2,2,2,2,2,2,2,2,2,2,2,2,2,2,2,2,2,2,2,2,2,2,2,2,2,2,2,2,2,2,2,2,2,2,2,2,2,2,2,2,2,2,2,2,2,2,2,2,2,2,2,2,2,2,2,2,2,2,2,2,2,2,2,2,2,2,2,2,2,2,2,2,2,2,2,2,2,2,2,2,2,2,2,2,2,2,2,2,2,2,2,2,2,2,2,2,2,2,2,2,2,2,2,2,2,2,2,2,2,2,2,2,2,2,2,2,2,2,2,2,2,2,2,2,2,2,2,2,2,2,2,2,2,2,2,2,2,2,2,2,2,2,2,2,2,2,2,2,2,2,2,2,2,2,2,2,2,2,2,2,2,2,2,2,2,2,2,2,2,2,2,2,2,2,2,2,2,2,2,2,2,2,2,2,2,2,2,2,2,2,2,2,2,2,2,2,2,2,2,2,2,2,2,2,2,2,2,2,2,2,2,2,2,2,2,2,2,2,2,2,2,2,2,2,2,2,2,2,2,2,2,2,2,2,2,2,2,2,2,2,2,2,2,2,2,2,2,2,2,2,2,2,2,2,2,2,2,2,2,2,2,2,2,2,2,2,2,2,2,2,2,2,2,2,2,2,2,2,2,2,2,2,2,2,2,2,2,2,2,2,2,2,2,2,2,2,2,2,2,2,2,2,2,2,2,2,2,2,2,2,2,2,2,2,2,2,2,2,2,2,2,2,2,2,2,2,2,2,2,2,2,2,2,2,2,2,2,2,2,2,2,2,2,2,2,2,2,2,2,2,2,2,2,2,2,2,2,2,2,2,2,2,2,2,2,2,2,2,2,2,2,2,2,2,2,2,2,2,2,2,2,2,2,2,2,2,2,2,2,2,2,2,2,2,2,2,2,2,2,2,2,2,2,2,2,2,2,2,2,2,2,2,2,2,2,2,2,2,2,2,2,2,2,2,2,2,2,2,2,2,2,2,2,2,2,2,2,2,2,2,2,2,2,2,2,2,2,2,2,2,2,2,2,2,2,2,2,2,2,2,2,2,2,2,2,2,2,2,2,2,2,2,2,2,2,2,2,2,2,2,2,2,2,2,2,2,2,2,2,2,2,2,2,2,2,2,2,2,2,2,2,2,2,2,2,2,2,2,2,2,2,2,2,2,2,2,2,2,2,2,2,2,2,2,2,2,2,2,2,2,2,2,2,2,2,2,2,2,2,2,2,2,2,2,2,2,2,2,2,2,2,2,2,2,2,2,2,2,2,2,2,2,2,2,2,2,2,2,2,2,2,2,2,2,2,2,2,2,2,2,2,2,2,2,2,2,2,2,2,2,2,2,2,2,2,2,2,2,2,2,2,2,2,2,2,2,2,2,2,2,2,2,2,2,2,2,2,2,2,2,2,2,2,2,2,2,2,2,2,2,2,2,2,2,2,2,2,2,2,2,2,2,2,2,2,2,2,2,2,2,2,2,2,2,2,2,2,2,2,2,2,2,2,2,2,2,2,2,2,2,2,2,2,2,2,2,2,2,2,2,2,2,2,2,2,2,2,2,2,2,2,2,2,2,2,2,2,2,2,2,2,2,2,2,2,2,2,2,2,2,2,2,2,2,2,2,2,2,2,2,2,2,2,2,2,2,2,2,2,2,2,2,2,2,2,2,2,2,2,2,2,2,2,2,2,2,2,2,2,2,2,2,2,2,2,2,2,2,2,2,2,2,2,2,2,2,2,2,2,2,2,2,2,2,2,2,2,2,2,2,2,2,2,2,2,2,2,2,2,2,2,2,2,2,2,2,2,2,2,2,2,2,2,2,2,2,2,2,2,2,2,2,2,2,2,2,2,2,2,2,2,2,2,2,2,2,2,2,2,2,2,2,2,2,2,2,2,2,2,2,2,2,2,2,2,2,2,2,2,2,2,2,2,2,2,2,2,2,2,2,2,2,2,2,2,2,2,2,2,2,2,2,2,2,2,2,2,2,2,2,2,2,2,2,2,2,2,2,2,2,2,2,2,2,2,2,2,2,2,2,2,2,2,2,2,2,2,2,2,2,2,2,2,2,2,2,2,2,2,2,2,2,2,2,2,2,2,2,2,2,2,2,2,2,2,2,2,2,2,2,2,2,2,2,2,2,2,2,2,2,2,2,2,2,2,2,2,2,2,2,2,2,2,2,2,2,2,2,2,2,2,2,2,2,2,2,2,2,2,2,2,2,2,2,2,2,2,2,2,2,2,2,2,2,2,2,2,2,2,2,2,2,2,2,2,2,2,2,2,2,2,2,2,2,2,2,2,2,2,2,2,2,2,2,2,2,2,2,2,2,2,2,2,2,2,2,2,2,2,2,2,2,2,2,2,2,2,2,2,2,2,2,2,2,2,2,2,2,2,2,2,2,2,2,2,2,2,2,2,2,2,2,2,2,2,2,2,2,2,2,2,2,2,2,2,2,2,2,2,2,2,2,2,2,2,2,2,2,2,2,2,2,2,2,2,2,2,2,2,2,2,2,2,2,2,2,2,2,2,2,2,2,2,2,2,2,2,2,2,2,2,2,2,2,2,2,2,2,2,2,2,2,2,2,2,2,2,2,2,2,2,2,2,2,2,2,2,2,2,2,2,2,2,2,2,2,2,2,2,2,2,2,2,2,2,2,2,2,2,2,2,2,2,2,2,2,2,2,2,2,2,2,2,2,2,2,2,2,2,2,2,2,2,2,2,2,2,2,2,2,2,2,2,2,2,2,2,2,2,2,2,2,2,2,2,2,2,2,2,2,2,2,2,2,2,2,2,2,2,2,2,2,2,2,2,2,2,2,2,2,2,2,2,2,2,2,2,2,2,2,2,2,2,2,2,2,2,2,2,2,2,2,2,2,2,2,2,2,2,2,2,2,2,2,2,2,2,2,2,2,2,2,2,2,2,2,2,2,2,2,2,2,2,2,2,2,2,2,2,2,2,2,2,2,2,2,2,2,2,2,2,2,2,2,2,2,2,2,2,2,2,2,2,2,2,2,2,2,2,2,2,2,2,2,2,2,2,2,2,2,2,2,2,2,2,2,2,2,2,2,2,2,2,2,2,2,2,2,2,2,2,2,2,2,2,2,2,2,2,2,2,2,2,2,2,2,2,2,2,2,2,2,2,2,2,2,2,2,2,2,2,2,2,2,2,2,2,2,2,2,2,2,2,2,2,2,2,2,2,2,2,2,2,2,2,2,2,2,2,2,2,2,2,2,2,2,2,2,2,2,2,2,2,2,2,2,2,2,2,2,2,2,2,2,2,2,2,2,2,2,2,2,2,2,2,2,2,2,2,2,2,2,2,2,2,2,2,2,2,2,2,2,2,2,2,2,2,2,2,2,2,2,2,2,2,2,2,2,2,2,2,2,2,2,2,2,2,2,2,2,2,2,2,2,2,2,2,2,2,2,2,2,2,2,2,2,2,2,2,2,2,2,2,2,2,2,2,2,2,2,2,2,2,2,2,2,2,2,2,2,2,2,2,2,2,2,2,2,2,2,2,2,2,2,2,2,2,2,2,2,2,2,2,2,2,2,2,2,2,2,2,2,2,2,2,2,2,2,2,2,2,2,2,2,2,2,2,2,2,2,2,2,2,2,2,2,2,2,2,2,2,2,2,2,2,2,2,2,2,2,2,2,2,2,2,2,2,2,2,2,2,2,2,2,2,2,2,2,2,2,2,2,2,2,2,2,2,2,2,2,2,2,2,2,2,2,2,2,2,2,2,2,2,2,2,2,2,2,2,2,2,2,2,2,2,2,2,2,2,2,2,2,2,2,2,2,2,2,2,2,2,2,2,2,2,2,2,2,2,2,2,2,2,2,2,2,2,2,2,2,2,2,2,2,2,2,2,2,2,2,2,2,2,2,2,2,2,2,2,2,2,2,2,2,2,2,2,2,2,2,2,2,2,2,2,2,2,2,2,2,2,2,2,2,2,2,2,2,2,2,2,2,2,2,2,2,2,2,2,2,2,2,2,2,2,2,2,2,2,2,2,2,2,2,2,2,2,2,2,2,2,2,2,2,2,2,2,2,2,2,2,2,2,2,2,2,2,2,2,2,2,2,2,2,2,2,2,2,2,2,2,2,2,2,2,2,2,2,2,2,2,2,2,2,2,2,2,2,2,2,2,2,2,2,2,2,2,2,2,2,2,2,2,2,2,2,2,2,2,2,2,2,2,2,2,2,2,2,2,2,2,2,2,2,2,2,2,2,2,2,2,2,2,2,2,2,2,2,2,2,2,2,2,2,2,2,2,2,2,2,2,2,2,2,2,2,2,2,2,2,2,2,2,2,2,2,2,2,2,2,2,2,2,2,2,2,2,2,2,2,2,2,2,2,2,2,2,2,2,2,2,2,2,2,2,2,2,2,2,2,2,2,2,2,2,2,2,2,2,2,2,2,2,2,2,2,2,2,2,2,2,2,2,2,2,2,2,2,2,2,2,2,2,2,2,2,2,2,2,2,2,2,2,2,2,2,2,2,2,2,2,2,2,2,2,2,2,2,2,2,2,2,2,2,2,2,2,2,2,2,2,2,2,2,2,2,2,2,2,2,2,2,2,2,2,2,2,2,2,2,2,2,2,2,2,2,2,2,2,2,2,2,2,2,2,2,2,2,2,2,2,2,2,2,2,2,2,2,2,2,2,2,2,2,2,2,2,2,2,2,2,2,2,2,2,2,2,2,2,2,2,2,2,2,2,2,2,2,2,2,2,2,2,2,2,2,2,2,2,2,2,2,2,2,2,2,2,2,2,2,2,2,2,2,2,2,2,2,2,2,2,2,2,2,2,2,2,2,2,2,2,2,2,2,2,2,2,2,2,2,2,2,2,2,2,2,2,2,2,2,2,2,2,2,2,2,2,2,2,2,2,2,2,2,2,2,2,2,2,2,2,2,2,2,2,2,2,2,2,2,2,2,2,2,2,2,2,2,2,2,2,2,2,2,2,2,2,2,2,2,2,2,2,2,2,2,2,2,2,2,2,2,2,2,2,2,2,2,2,2,2,2,2,2,2,2,2,2,2,2,2,2,2,2,2,2,2,2,2,2,2,2,2,2,2,2,2,2,2,2,2,2,2,2,2,2,2,2,2,2,2,2,2,2,2,2,2,2,2,2,2,2,2,2,2,2,2,2,2,2,2,2,2,2,2,2,2,2,2,2,2,2,2,2,2,2,2,2,2,2,2,2,2,2,2,2,2,2,2,2,2,2,2,2,2,2,2,2,2,2,2,2,2,2,2,2,2,2,2,2,2,2,2,2,2,2,2,2,2,2,2,2,2,2,2,2,2,2,2,2,2,2,2,2,2,2,2,2,2,2,2,2,2,2,2,2,2,2,2,2,2,2,2,2,2,2,2,2,2,2,2,2,2,2,2,2,2,2,2,2,2,2,2,2,2,2,2,2,2,2,2,2,2,2,2,2,2,2,2,2,2,2,2,2,2,2,2,2,2,2,2,2,2,2,2,2,2,2,2,2,2,2,2,2,2,2,2,2,2,2,2,2,2,2,2,2,2,2,2,2,2,2,2,2,2,2,2,2,2,2,2,2,2,2,2,2,2,2,2,2,2,2,2,2,2,2,2,2,2,2,2,2,2,2,2,2,2,2,2,2,2,2,2,2,2,2,2,2,2,2,2,2,2,2,2,2,2,2,2,2,2,2,2,2,2,2,2,2,2,2,2,2,2,2,2,2,2,2,2,2,2,2,2,2,2,2,2,2,2,2,2,2,2,2,2,2,2,2,2,2,2,2,2,2,2,2,2,2,2,2,2,2,2,2,2,2,2,2,2,2,2,2,2,2,2,2,2,2,2,2,2,2,2,2,2,2,2,2,2,2,2,2,2,2,2,2,2,2,2,2,2,2,2,2,2,2,2,2,2,2,2,2,2,2,2,2,2,2,2,2,2,2,2,2,2,2,2,2,2,2,2,2,2,2,2,2,2,2,2,2,2,2,2,2,2,2,2,2,2,2,2,2,2,2,2,2,2,2,2,2,2,2,2,2,2,2,2,2,2,2,2,2,2,2,2,2,2,2,2,2,2,2,2,2,2,2,2,2,2,2,2,2,2,2,2,2,2,2,2,2,2,2,2,2,2,2,2,2,2,2,2,2,2,2,2,2,2,2,2,2,2,2,2,2,2,2,2,2,2,2,2,2,2,2,2,2,2,2,2,2,2,2,2,2,2,2,2,2,2,2,2,2,2,2,2,2,2,2,2,2,2,2,2,2,2,2,2,2,2,2,2,2,2,2,2,2,2,2,2,2,2,2,2,2,2,2,2,2,2,2,2,2,2,2,2,2,2,2,2,2,2,2,2,2,2,2,2,2,2,2,2,2,2,2,2,2,2,2,2,2,2,2,2,2,2,2,2,2,2,2,2,2,2,2,2,2,2,2,2,2,2,2,2,2,2,2,2,2,2,2,2,2,2,2,2,2,2,2,2,2,2,2,2,2,2,2,2,2,2,2,2,2,2,2,2,2,2,2,2,2,2,2,2,2,2,2,2,2,2,2,2,2,2,2,2,2,2,2,2,2,2,2,2,2,2,2,2,2,2,2,2,2,2,2,2,2,2,2,2,2,2,2,2,2,2,2,2,2,2,2,2,2,2,2,2,2,2,2,2,2,2,2,2,2,2,2,2,2,2,2,2,2,2,2,2,2,2,2,2,2,2,2,2,2,2,2,2,2,2,2,2,2,2,2,2,2,2,2,2,2,2,2,2,2,2,2,2,2,2,2,2,2,2,2,2,2,2,2,2,2,2,2,2,2,2,2,2,2,2,2,2,2,2,2,2,2,2,2,2,2,2,2,2,2,2,2,2,2,2,2,2,2,2,2,2,2,2,2,2,2,2,2,2,2,2,2,2,2,2,2,2,2,2,2,2,2,2,2,2,2,2,2,2,2,2,2,2,2,2,2,2,2,2,2,2,2,2,2,2,2,2,2,2,2,2,2,2,2,2,2,2,2,2,2,2,2,2,2,2,2,2,2,2,2,2,2,2,2,2,2,2,2,2,2,2,2,2,2,2,2,2,2,2,2,2,2,2,2,2,2,2,2,2,2,2,2,2,2,2,2,2,2,2,2,2,2,2,2,2,2,2,2,2,2,2,2,2,2,2,2,2,2,2,2,2,2,2,2,2,2,2,2,2,2,2,2,2,2,2,2,2,2,2,2,2,2,2,2,2,2,2,2,2,2,2,2,2,2,2,2,2,2,2,2,2,2,2,2,2,2,2,2,2,2,2,2,2,2,2,2,2,2,2,2,2,2,2,2,2,2,2,2,2,2,2,2,2,2,2,2,2,2,2,2,2,2,2,2,2,2,2,2,2,2,2,2,2,2,2,2,2,2,2,2,2,2,2,2,2,2,2,2,2,2,2,2,2,2,2,2,2,2,2,2,2,2,2,2,2,2,2,2,2,2,2,2,2,2,2,2,2,2,2,2,2,2,2,2,2,2,2,2,2,2,2,2,2,2,2,2,2,2,2,2,2,2,2,2,2,2,2,2,2,2,2,2,2,2,2,2,2,2,2,2,2,2,2,2,2,2,2,2,2,2,2,2,2,2,2,2,2,2,2,2,2,2,2,2,2,2,2,2,2,2,2,2,2,2,2,2,2,2,2,2,2,2,2,2,2,2,2,2,2,2,2,2,2,2,2,2,2,2,2,2,2,2,2,2,2,2,2,2,2,2,2,2,2,2,2,2,2,2,2,2,2,2,2,2,2,2,2,2,2,2,2,2,2,2,2,2,2,2,2,2,2,2,2,2,2,2,2,2,2,2,2,2,2,2,2,2,2,2,2,2,2,2,2,2,2,2,2,2,2,2,2,2,2,2,2,2,2,2,2,2,2,2,2,2,2,2,2,2,2,2,2,2,2,2,2,2,2,2,2,2,2,2,2,2,2,2,2,2,2,2,2,2,2,2,2,2,2,2,2,2,2,2,2,2,2,2,2,2,2,2,2,2,2,2,2,2,2,2,2,2,2,2,2,2,2,2,2,2,2,2,2,2,2,2,2,2,2,2,2,2,2,2,2,2,2,2,2,2,2,2,2,2,2,2,2,2,2,2,2,2,2,2,2,2,2,2,2,2,2,2,2,2,2,2,2,2,2,2,2,2,2,2,2,2,2,2,2,2,2,2,2,2,2,2,2,2,2,2,2,2,2,2,2,2,2,2,2,2,2,2,2,2,2,2,2,2,2,2,2,2,2,2,2,2,2,2,2,2,2,2,2,2,2,2,2,2,2,2,2,2,2,2,2,2,2,2,2,2,2,2,2,2,2,2,2,2,2,2,2,2,2,2,2,2,2,2,2,2,2,2,2,2,2,2,2,2,2,2,2,2,2,2,2,2,2,2,2,2,2,2,2,2,2,2,2,2,2,2,2,2,2,2,2,2,2,2,2,2,2,2,2,2,2,2,2,2,2,2,2,2,2,2,2,2,2,2,2,2,2,2,2,2,2,2,2,2,2,2,2,2,2,2,2,2,2,2,2,2,2,2,2,2,2,2,2,2,2,2,2,2,2,2,2,2,2,2,2,2,2,2,2,2,2,2,2,2,2,2,2,2,2,2,2,2,2,2,2,2,2,2,2,2,2,2,2,2,2,2,2,2,2,2,2,2,2,2,2,2,2,2,2,2,2,2,2,2,2,2,2,2,2,2,2,2,2,2,2,2,2,2,2,2,2,2,2,2,2,2,2,2,2,2,2,2,2,2,2,2,2,2,2,2,2,2,2,2,2,2,2,2,2,2,2,2,2,2,2,2,2,2,2,2,2,2,2,2,2,2,2,2,2,2,2,2,2,2,2,2,2,2,2,2,2,2,2,2,2,2,2,2,2,2,2,2,2,2,2,2,2,2,2,2,2,2,2,2,2,2,2,2,2,2,2,2,2,2,2,2,2,2,2,2,2,2,2,2,2,2,2,2,2,2,2,2,2,2,2,2,2,2,2,2,2,2,2,2,2,2,2,2,2,2,2,2,2,2,2,2,2,2,2,2,2,2,2,2,2,2,2,2,2,2,2,2,2,2,2,2,2,2,2,2,2,2,2,2,2,2,2,2,2,2,2,2,2,2,2,2,2,2,2,2,2,2,2,2,2,2,2,2,2,2,2,2,2,2,2,2,2,2,2,2,2,2,2,2,2,2,2,2,2,2,2,2,2,2,2,2,2,2,2,2,2,2,2,2,2,2,2,2,2,2,2,2,2,2,2,2,2,2,2,2,2,2,2,2,2,2,2,2,2,2,2,2,2,2,2,2,2,2,2,2,2,2,2,2,2,2,2,2,2,2,2,2,2,2,2,2,2,2,2,2,2,2,2,2,2,2,2,2,2,2,2,2,2,2,2,2,2,2,2,2,2,2,2,2,2,2,2,2,2,2,2,2,2,2,2,2,2,2,2,2,2,2,2,2,2,2,2,2,2,2,2,2,2,2,2,2,2,2,2,2,2,2,2,2,2,2,2,2,2,2,2,2,2,2,2,2,2,2,2,2,2,2,2,2,2,2,2,2,2,2,2,2,2,2,2,2,2,2,2,2,2,2,2,2,2,2,2,2,2,2,2,2,2,2,2,2,2,2,2,2,2,2,2,2,2,2,2,2,2,2,2,2,2,2,2,2,2,2,2,2,2,2,2,2,2,2,2,2,2,2,2,2,2,2,2,2,2,2,2,2,2,2,2,2,2,2,2,2,2,2,2,2,2,2,2,2,2,2,2,2,2,2,2,2,2,2,2,2,2,2,2,2,2,2,2,2,2,2,2,2,2,2,2,2,2,2,2,2,2,2,2,2,2,2,2,2,2,2,2,2,2,2,2,2,2,2,2,2,2,2,2,2,2,2,2,2,2,2,2,2,2,2,2,2,2,2,2,2,2,2,2,2,2,2,2,2,2,2,2,2,2,2,2,2,2,2,2,2,2,2,2,2,2,2,2,2,2,2,2,2,2,2,2,2,2,2,2,2,2,2,2,2,2,2,2,2,2,2,2,2,2,2,2,2,2,2,2,2,2,2,2,2,2,2,2,2,2,2,2,2,2,2,2,2,2,2,2,2,2,2,2,2,2,2,2,2,2,2,2,2,2,2,2,2,2,2,2,2,2,2,2,2,2,2,2,2,2,2,2,2,2,2,2,2,2,2,2,2,2,2,2,2,2,2,2,2,2,2,2,2,2,2,2,2,2,2,2,2,2,2,2,2,2,2,2,2,2,2,2,2,2,2,2,2,2,2,2,2,2,2,2,2,2,2,2,2,2,2,2,2,2,2,2,2,2,2,2,2,2,2,2,2,2,2,2,2,2,2,2,2,2,2,2,2,2,2,2,2,2,2,2,2,2,2,2,2,2,2,2,2,2,2,2,2,2,2,2,2,2,2,2,2,2,2,2,2,2,2,2,2,2,2,2,2,2,2,2,2,2,2,2,2,2,2,2,2,2,2,2,2,2,2,2,2,2,2,2,2,2,2,2,2,2,2,2,2,2,2,2,2,2,2,2,2,2,2,2,2,2,2,2,2,2,2,2,2,2,2,2,2,2,2,2,2,2,2,2,2,2,2,2,2,2,2,2,2,2,2,2,2,2,2,2,2,2,2,2,2,2,2,2,2,2,2,2,2,2,2,2,2,2,2,2,2,2,2,2,2,2,2,2,2,2,2,2,2,2,2,2,2,2,2,2,2,2,2,2,2,2,2,2,2,2,2,2,2,2,2,2,2,2,2,2,2,2,2,2,2,2,2,2,2,2,2,2,2,2,2,2,2,2,2,2,2,2,2,2,2,2,2,2,2,2,2,2,2,2,2,2,2,2,2,2,2,2,2,2,2,2,2,2,2,2,2,2,2,2,2,2,2,2,2,2,2,2,2,2,2,2,2,2,2,2,2,2,2,2,2,2,2,2,2,2,2,2,2,2,2,2,2,2,2,2,2,2,2,2,2,2,2,2,2,2,2,2,2,2,2,2,2,2,2,2,2,2,2,2,2,2,2,2,2,2,2,2,2,2,2,2,2,2,2,2,2,2,2,2,2,2,2,2,2,2,2,2,2,2,2,2,2,2,2,2,2,2,2,2,2,2,2,2,2,2,2,2,2,2,2,2,2,2,2,2,2,2,2,2,2,2,2,2,2,2,2,2,2,2,2,2,2,2,2,2,2,2,2,2,2,2,2,2,2,2,2,2,2,2,2,2,2,2,2,2,2,2,2,2,2,2,2,2,2,2,2,2,2,2,2,2,2,2,2,2,2,2,2,2,2,2,2,2,2,2,2,2,2,2,2,2,2,2,2,2,2,2,2,2,2,2,2,2,2,2,2,2,2,2,2,2,2,2,2,2,2,2,2,2,2,2,2,2,2,2,2,2,2,2,2,2,2,2,2,2,2,2,2,2,2,2,2,2,2,2,2,2,2,2,2,2,2,2,2,2,2,2,2,2,2,2,2,2,2,2,2,2,2,2,2,2,2,2,2,2,2,2,2,2,2,2,2,2,2,2,2,2,2,2,2,2,2,2,2,2,2,2,2,2,2,2,2,2,2,2,2,2,2,2,2,2,2,2,2,2,2,2,2,2,2,2,2,2,2,2,2,2,2,2,2,2,2,2,2,2,2,2,2,2,2,2,2,2,2,2,2,2,2,2,2,2,2,2,2,2,2,2,2,2,2,2,2,2,2,2,2,2,2,2,2,2,2,2,2,2,2,2,2,2,2,2,2,2,2,2,2,2,2,2,2,2,2,2,2,2,2,2,2,2,2,2,2,2,2,2,2,2,2,2,2,2,2,2,2,2,2,2,2,2,2,2,2,2,2,2,2,2,2,2,2,2,2,2,2,2,2,2,2,2,2,2,2,2,2,2,2,2,2,2,2,2,2,2,2,2,2,2,2,2,2,2,2,2,2,2,2,2,2,2,2,2,2,2,2,2,2,2,2,2,2,2,2,2,2,2,2,2,2,2,2,2,2,2,2,2,2,2,2,2,2,2,2,2,2,2,2,2,2,2,2,2,2,2,2,2,2,2,2,2,2,2,2,2,2,2,2,2,2,2,2,2,2,2,2,2,2,2,2,2,2,2,2,2,2,2,2,2,2,2,2,2,2,2,2,2,2,2,2,2,2,2,2,2,2,2,2,2,2,2,2,2,2,2,2,2,2,2,2,2,2,2,2,2,2,2,2,2,2,2,2,2,2,2,2,2,2,2,2,2,2,2,2,2,2,2,2,2,2,2,2,2,2,2,2,2,2,2,2,2,2,2,2,2,2,2,2,2,2,2,2,2,2,2,2,2,2,2,2,2,2,2,2,2,2,2,2,2,2,2,2,2,2,2,2,2,2,2,2,2,2,2,2,2,2,2,2,2,2,2,2,2,2,2,2,2,2,2,2,2,2,2,2,2,2,2,2,2,2,2,2,2,2,2,2,2,2,2,2,2,2,2,2,2,2,2,2,2,2,2,2,2,2,2,2,2,2,2,2,2,2,2,2,2,2,2,2,2,2,2,2,2,2,2,2,2,2,2,2,2,2,2,2,2,2,2,2,2,2,2,2,2,2,2,2,2,2,2,2,2,2,2,2,2,2,2,2,2,2,2,2,2,2,2,2,2,2,2,2,2,2,2,2,2,2,2,2,2,2,2,2,2,2,2,2,2,2,2,2,2,2,2,2,2,2,2,2,2,2,2,2,2,2,2,2,2,2,2,2,2,2,2,2,2,2,2,2,2,2,2,2,2,2,2,2,2,2,2,2,2,2,2,2,2,2,2,2,2,2,2,2,2,2,2,2,2,2,2,2,2,2,2,2,2,2,2,2,2,2,2,2,2,2,2,2,2,2,2,2,2,2,2,2,2,2,2,2,2,2,2,2,2,2,2,2,2,2,2,2,2,2,2,2,2,2,2,2,2,2,2,2,2,2,2,2,2,2,2,2,2,2,2,2,2,2,2,2,2,2,2,2,2,2,2,2,2,2,2,2,2,2,2,2,2,2,2,2,2,2,2,2,2,2,2,2,2,2,2,2,2,2,2,2,2,2,2,2,2,2,2,2,2,2,2,2,2,2,2,2,2,2,2,2,2,2,2,2,2,2,2,2,2,2,2,2,2,2,2,2,2,2,2,2,2,2,2,2,2,2,2,2,2,2,2,2,2,2,2,2,2,2,2,2,2,2,2,2,2,2,2,2,2,2,2,2,2,2,2,2,2,2,2,2,2,2,2,2,2,2,2,2,2,2,2,2,2,2,2,2,2,2,2,2,2,2,2,2,2,2,2,2,2,2,2,2,2,2,2,2,2,2,2,2,2,2,2,2,2,2,2,2,2,2,2,2,2,2,2,2,2,2,2,2,2,2,2,2,2,2,2,2,2,2,2,2,2,2,2,2,2,2,2,2,2,2,2,2,2,2,2,2,2,2,2,2,2,2,2,2,2,2,2,2,2,2,2,2,2,2,2,2,2,2,2,2,2,2,2,2,2,2,2,2,2,2,2,2,2,2,2,2,2,2,2,2,2,2,2,2,2,2,2,2,2,2,2,2,2,2,2,2,2,2,2,2,2,2,2,2,2,2,2,2,2,2,2,2,2,2,2,2,2,2,2,2,2,2,2,2,2,2,2,2,2,2,2,2,2,2,2,2,2,2,2,2,2,2,2,2,2,2,2,2,2,2,2,2,2,2,2,2,2,2,2,2,2,2,2,2,2,2,2,2,2,2,2,2,2,2,2,2,2,2,2,2,2,2,2,2,2,2,2,2,2,2,2,2,2,2,2,2,2,2,2,2,2,2,2,2,2,2,2,2,2,2,2,2,2,2,2,2,2,2,2,2,2,2,2,2,2,2,2,2,2,2,2,2,2,2,2,2,2,2,2,2,2,2,2,2,2,2,2,2,2,2,2,2,2,2,2,2,2,2,2,2,2,2,2,2,2,2,2,2,2,2,2,2,2,2,2,2,2,2,2,2,2,2,2,2,2,2,2,2,2,2,2,2,2,2,2,2,2,2,2,2,2,2,2,2,2,2,2,2,2,2,2,2,2,2,2,2,2,2,2,2,2,2,2,2,2,2,2,2,2,2,2,2,2,2,2,2,2,2,2,2,2,2,2,2,2,2,2,2,2,2,2,2,2,2,2,2,2,2,2,2,2,2,2,2,2,2,2,2,2,2,2,2,2,2,2,2,2,2,2,2,2,2,2,2,2,2,2,2,2,2,2,2,2,2,2,2,2,2,2,2,2,2,2,2,2,2,2,2,2,2,2,2,2,2,2,2,2,2,2,2,2,2,2,2,2,2,2,2,2,2,2,2,2,2,2,2,2,2,2,2,2,2,2,2,2,2,2,2,2,2,2,2,2,2,2,2,2,2,2,2,2,2,2,2,2,2,2,2,2,2,2,2,2,2,2,2,2,2,2,2,2,2,2,2,2,2,2,2,2,2,2,2,2,2,2,2,2,2,2,2,2,2,2,2,2,2,2,2,2,2,2,2,2,2,2,2,2,2,2,2,2,2,2,2,2,2,2,2,2,2,2,2,2,2,2,2,2,2,2,2,2,2,2,2,2,2,2,2,2,2,2,2,2,2,2,2,2,2,2,2,2,2,2,2,2,2,2,2,2,2,2,2,2,2,2,2,2,2,2,2,2,2,2,2,2,2,2,2,2,2,2,2,2,2,2,2,2,2,2,2,2,2,2,2,2,2,2,2,2,2,2,2,2,2,2,2,2,2,2,2,2,2,2,2,2,2,2,2,2,2,2,2,2,2,2,2,2,2,2,2,2,2,2,2,2,2,2,2,2,2,2,2,2,2,2,2,2,2,2,2,2,2,2,2,2,2,2,2,2,2,2,2,2,2,2,2,2,2,2,2,2,2,2,2,2,2,2,2,2,2,2,2,2,2,2,2,2,2,2,2,2,2,2,2,2,2,2,2,2,2,2,2,2,2,2,2,2,2,2,2,2,2,2,2,2,2,2,2,2,2,2,2,2,2,2,2,2,2,2,2,2,2,2,2,2,2,2,2,2,2,2,2,2,2,2,2,2,2,2,2,2,2,2,2,2,2,2,2,2,2,2,2,2,2,2,2,2,2,2,2,2,2,2,2,2,2,2,2,2,2,2,2,2,2,2,2,2,2,2,2,2,2,2,2,2,2,2,2,2,2,2,2,2,2,2,2,2,2,2,2,2,2,2,2,2,2,2,2,2,2,2,2,2,2,2,2,2,2,2,2,2,2,2,2,2,2,2,2,2,2,2,2,2,2,2,2,2,2,2,2,2,2,2,2,2,2,2,2,2,2,2,2,2,2,2,2,2,2,2,2,2,2,2,2,2,2,2,2,2,2,2,2,2,2,2,2,2,2,2,2,2,2,2,2,2,2,2,2,2,2,2,2,2,2,2,2,2,2,2,2,2,2,2,2,2,2,2,2,2,2,2,2,2,2,2,2,2,2,2,2,2,2,2,2,2,2,2,2,2,2,2,2,2,2,2,2,2,2,2,2,2,2,2,2,2,2,2,2,2,2,2,2,2,2,2,2,2,2,2,2,2,2,2,2,2,2,2,2,2,2,2,2,2,2,2,2,2,2,2,2,2,2,2,2,2,2,2,2,2,2,2,2,2,2,2,2,2,2,2,2,2,2,2,2,2,2,2,2,2,2,2,2,2,2,2,2,2,2,2,2,2,2,2,2,2,2,2,2,2,2,2,2,2,2,2,2,2,2,2,2,2,2,2,2,2,2,2,2,2,2,2,2,2,2,2,2,2,2,2,2,2,2,2,2,2,2,2,2,2,2,2,2,2,2,2,2,2,2,2,2,2,2,2,2,2,2,2,2,2,2,2,2,2,2,2,2,2,2,2,2,2,2,2,2,2,2,2,2,2,2,2,2,2,2,2,2,2,2,2,2,2,2,2,2,2,2,2,2,2,2,2,2,2,2,2,2,2,2,2,2,2,2,2,2,2,2,2,2,2,2,2,2,2,2,2,2,2,2,2,2,2,2,2,2,2,2,2,2,2,2,2,2,2,2,2,2,2,2,2,2,2,2,2,2,2,2,2,2,2,2,2,2,2,2,2,2,2,2,2,2,2,2,2,2,2,2,2,2,2,2,2,2,2,2,2,2,2,2,2,2,2,2,2,2,2,2,2,2,2,2,2,2,2,2,2,2,2,2,2,2,2,2,2,2,2,2,2,2,2,2,2,2,2,2,2,2,2,2,2,2,2,2,2,2,2,2,2,2,2,2,2,2,2,2,2,2,2,2,2,2,2,2,2,2,2,2,2,2,2,2,2,2,2,2,2,2,2,2,2,2,2,2,2,2,2,2,2,2,2,2,2,2,2,2,2,2,2,2,2,2,2,2,2,2,2,2,2,2,2,2,2,2,2,2,2,2,2,2,2,2,2,2,2,2,2,2,2,2,2,2,2,2,2,2,2,2,2,2,2,2,2,2,2,2,2,2,2,2,2,2,2,2,2,2,2,2,2,2,2,2,2,2,2,2,2,2,2,2,2,2,2,2,2,2,2,2,2,2,2,2,2,2,2,2,2,2,2,2,2,2,2,2,2,2,2,2,2,2,2,2,2,2,2,2,2,2,2,2,2,2,2,2,2,2,2,2,2,2,2,2,2,2,2,2,2,2,2,2,2,2,2,2,2,2,2,2,2,2,2,2,2,2,2,2,2,2,2,2,2,2,2,2,2,2,2,2,2,2,2,2,2,2,2,2,2,2,2,2,2,2,2,2,2,2,2,2,2,2,2,2,2,2,2,2,2,2,2,2,2,2,2,2,2,2,2,2,2,2,2,2,2,2,2,2,2,2,2,2,2,2,2,2,2,2,2,2,2,2,2,2,2,2,2,2,2,2,2,2,2,2,2,2,2,2,2,2,2,2,2,2,2,2,2,2,2,2,2,2,2,2,2,2,2,2,2,2,2,2,2,2,2,2,2,2,2,2,2,2,2,2,2,2,2,2,2,2,2,2,2,2,2,2,2,2,2,2,2,2,2,2,2,2,2,2,2,2,2,2,2,2,2,2,2,2,2,2,2,2,2,2,2,2,2,2,2,2,2,2,2,2,2,2,2,2,2,2,2,2,2,2,2,2,2,2,2,2,2,2,2,2,2,2,2,2,2,2,2,2,2,2,2,2,2,2,2,2,2,2,2,2,2,2,2,2,2,2,2,2,2,2,2,2,2,2,2,2,2,2,2,2,2,2,2,2,2,2,2,2,2,2,2,2,2,2,2,2,2,2,2,2,2,2,2,2,2,2,2,2,2,2,2,2,2,2,2,2,2,2,2,2,2,2,2,2,2,2,2,2,2,2,2,2,2,2,2,2,2,2,2,2,2,2,2,2,2,2,2,2,2,2,2,2,2,2,2,2,2,2,2,2,2,2,2,2,2,2,2,2,2,2,2,2,2,2,2,2,2,2,2,2,2,2,2,2,2,2,2,2,2,2,2,2,2,2,2,2,2,2,2,2,2,2,2,2,2,2,2,2,2,2,2,2,2,2,2,2,2,2,2,2,2,2,2,2,2,2,2,2,2,2,2,2,2,2,2,2,2,2,2,2,2,2,2,2,2,2,2,2,2,2,2,2,2,2,2,2,2,2,2,2,2,2,2,2,2,2,2,2,2,2,2,2,2,2,2,2,2,2,2,2,2,2,2,2,2,2,2,2,2,2,2,2,2,2,2,2,2,2,2,2,2,2,2,2,2,2,2,2,2,2,2,2,2,2,2,2,2,2,2,2,2,2,2,2,2,2,2,2,2,2,2,2,2,2,2,2,2,2,2,2,2,2,2,2,2,2,2,2,2,2,2,2,2,2,2,2,2,2,2,2,2,2,2,2,2,2,2,2,2,2,2,2,2,2,2,2,2,2,2,2,2,2,2,2,2,2,2,2,2,2,2,2,2,2,2,2,2,2,2,2,2,2,2,2,2,2,2,2,2,2,2,2,2,2,2,2,2,2,2,2,2,2,2,2,2,2,2,2,2,2,2,2,2,2,2,2,2,2,2,2,2,2,2,2,2,2,2,2,2,2,2,2,2,2,2,2,2,2,2,2,2,2,2,2,2,2,2,2,2,2,2,2,2,2,2,2,2,2,2,2,2,2,2,2,2,2,2,2,2,2,2,2,2,2,2,2,2,2,2,2,2,2,2,2,2,2,2,2,2,2,2,2,2,2,2,2,2,2,2,2,2,2,2,2,2,2,2,2,2,2,2,2,2,2,2,2,2,2,2,2,2,2,2,2,2,2,2,2,2,2,2,2,2,2,2,2,2,2,2,2,2,2,2,2,2,2,2,2,2,2,2,2,2,2,2,2,2,2,2,2,2,2,2,2,2,2,2,2,2,2,2,2,2,2,2,2,2,2,2,2,2,2,2,2,2,2,2,2,2,2,2,2,2,2,2,2,2,2,2,2,2,2,2,2,2,2,2,2,2,2,2,2,2,2,2,2,2,2,2,2,2,2,2,2,2,2,2,2,2,2,2,2,2,2,2,2,2,2,2,2,2,2,2,2,2,2,2,2,2,2,2,2,2,2,2,2,2,2,2,2,2,2,2,2,2,2,2,2,2,2,2,2,2,2,2,2,2,2,2,2,2,2,2,2,2,2,2,2,2,2,2,2,2,2,2,2,2,2,2,2,2,2,2,2,2,2,2,2,2,2,2,2,2,2,2,2,2,2,2,2,2,2,2,2,2,2,2,2,2,2,2,2,2,2,2,2,2,2,2,2,2,2,2,2,2,2,2,2,2,2,2,2,2,2,2,2,2,2,2,2,2,2,2,2,2,2,2,2,2,2,2,2,2,2,2,2,2,2,2,2,2,2,2,2,2,2,2,2,2,2,2,2,2,2,2,2,2,2,2,2,2,2,2,2,2,2,2,2,2,2,2,2,2,2,2,2,2,2,2,2,2,2,2,2,2,2,2,2,2,2,2,2,2,2,2,2,2,2,2,2,2,2,2,2,2,2,2,2,2,2,2,2,2,2,2,2,2,2,2,2,2,2,2,2,2,2,2,2,2,2,2,2,2,2,2,2,2,2,2,2,2,2,2,2,2,2,2,2,2,2,2,2,2,2,2,2,2,2,2,2,2,2,2,2,2,2,2,2,2,2,2,2,2,2,2,2,2,2,2,2,2,2,2,2,2,2,2,2,2,2,2,2,2,2,2,2,2,2,2,2,2,2,2,2,2,2,2,2,2,2,2,2,2,2,2,2,2,2,2,2,2,2,2,2,2,2,2,2,2,2,2,2,2,2,2,2,2,2,2,2,2,2,2,2,2,2,2,2,2,2,2,2,2,2,2,2,2,2,2,2,2,2,2,2,2,2,2,2,2,2,2,2,2,2,2,2,2,2,2,2,2,2,2,2,2,2,2,2,2,2,2,2,2,2,2,2,2,2,2,2,2,2,2,2,2,2,2,2,2,2,2,2,2,2,2,2,2,2,2,2,2,2,2,2,2,2,2,2,2,2,2,2,2,2,2,2,2,2,2,2,2,2,2,2,2,2,2,2,2,2,2,2,2,2,2,2,2,2,2,2,2,2,2,2,2,2,2,2,2,2,2,2,2,2,2,2,2,2,2,2,2,2,2,2,2,2,2,2,2,2,2,2,2,2,2,2,2,2,2,2,2,2,2,2,2,2,2,2,2,2,2,2,2,2,2,2,2,2,2,2,2,2,2,2,2,2,2,2,2,2,2,2,2,2,2,2,2,2,2,2,2,2,2,2,2,2,2,2,2,2,2,2,2,2,2,2,2,2,2,2,2,2,2,2,2,2,2,2,2,2,2,2,2,2,2,2,2,2,2,2,2,2,2,2,2,2,2,2,2,2,2,2,2,2,2,2,2,2,2,2,2,2,2,2,2,2,2,2,2,2,2,2,2,2,2,2,2,2,2,2,2,2,2,2,2,2,2,2,2,2,2,2,2,2,2,2,2,2,2,2,2,2,2,2,2,2,2,2,2,2,2,2,2,2,2,2,2,2,2,2,2,2,2,2,2,2,2,2,2,2,2,2,2,2,2,2,2,2,2,2,2,2,2,2,2,2,2,2,2,2,2,2,2,2,2,2,2,2,2,2,2,2,2,2,2,2,2,2,2,2,2,2,2,2,2,2,2,2,2,2,2,2,2,2,2,2,2,2,2,2,2,2,2,2,2,2,2,2,2,2,2,2,2,2,2,2,2,2,2,2,2,2,2,2,2,2,2,2,2,2,2,2,2,2,2,2,2,2,2,2,2,2,2,2,2,2,2,2,2,2,2,2,2,2,2,2,2,2,2,2,2,2,2,2,2,2,2,2,2,2,2,2,2,2,2,2,2,2,2,2,2,2,2,2,2,2,2,2,2,2,2,2,2,2,2,2,2,2,2,2,2,2,2,2,2,2,2,2,2,2,2,2,2,2,2,2,2,2,2,2,2,2,2,2,2,2,2,2,2,2,2,2,2,2,2,2,2,2,2,2,2,2,2,2,2,2,2,2,2,2,2,2,2,2,2,2,2,2,2,2,2,2,2,2,2,2,2,2,2,2,2,2,2,2,2,2,2,2,2,2,2,2,2,2,2,2,2,2,2,2,2,2,2,2,2,2,2,2,2,2,2,2,2,2,2,2,2,2,2,2,2,2,2,2,2,2,2,2,2,2,2,2,2,2,2,2,2,2,2,2,2,2,2,2,2,2,2,2,2,2,2,2,2,2,2,2,2,2,2,2,2,2,2,2,2,2,2,2,2,2,2,2,2,2,2,2,2,2,2,2,2,2,2,2,2,2,2,2,2,2,2,2,2,2,2,2,2,2,2,2,2,2,2,2,2,2,2,2,2,2,2,2,2,2,2,2,2,2,2,2,2,2,2,2,2,2,2,2,2,2,2,2,2,2,2,2,2,2,2,2,2,2,2,2,2,2,2,2,2,2,2,2,2,2,2,2,2,2,2,2,2,2,2,2,2,2,2,2,2,2,2,2,2,2,2,2,2,2,2,2,2,2,2,2,2,2,2,2,2,2,2,2,2,2,2,2,2,2,2,2,2,2,2,2,2,2,2,2,2,2,2,2,2,2,2,2,2,2,2,2,2,2,2,2,2,2,2,2,2,2,2,2,2,2,2,2,2,2,2,2,2,2,2,2,2,2,2,2,2,2,2,2,2,2,2,2,2,2,2,2,2,2,2,2,2,2,2,2,2,2,2,2,2,2,2,2,2,2,2,2,2,2,2,2,2,2,2,2,2,2,2,2,2,2,2,2,2,2,2,2,2,2,2,2,2,2,2,2,2,2,2,2,2,2,2,2,2,2,2,2,2,2,2,2,2,2,2,2,2,2,2,2,2,2,2,2,2,2,2,2,2,2,2,2,2,2,2,2,2,2,2,2,2,2,2,2,2,2,2,2,2,2,2,2,2,2,2,2,2,2,2,2,2,2,2,2,2,2,2,2,2,2,2,2,2,2,2,2,2,2,2,2,2,2,2,2,2,2,2,2,2,2,2,2,2,2,2,2,2,2,2,2,2,2,2,2,2,2,2,2,2,2,2,2,2,2,2,2,2,2,2,2,2,2,2,2,2,2,2,2,2,2,2,2,2,2,2,2,2,2,2,2,2,2,2,2,2,2,2,2,2,2,2,2,2,2,2,2,2,2,2,2,2,2,2,2,2,2,2,2,2,2,2,2,2,2,2,2,2,2,2,2,2,2,2,2,2,2,2,2,2,2,2,2,2,2,2,2,2,2,2,2,2,2,2,2,2,2,2,2,2,2,2,2,2,2,2,2,2,2,2,2,2,2,2,2,2,2,2,2,2,2,2,2,2,2,2,2,2,2,2,2,2,2,2,2,2,2,2,2,2,2,2,2,2,2,2,2,2,2,2,2,2,2,2,2,2,2,2,2,2,2,2,2,2,2,2,2,2,2,2,2,2,2,2,2,2,2,2,2,2,2,2,2,2,2,2,2,2,2,2,2,2,2,2,2,2,2,2,2,2,2,2,2,2,2,2,2,2,2,2,2,2,2,2,2,2,2,2,2,2,2,2,2,2,2,2,2,2,2,2,2,2,2,2,2,2,2,2,2,2,2,2,2,2,2,2,2,2,2,2,2,2,2,2,2,2,2,2,2,2,2,2,2,2,2,2,2,2,2,2,2,2,2,2,2,2,2,2,2,2,2,2,2,2,2,2,2,2,2,2,2,2,2,2,2,2,2,2,2,2,2,2,2,2,2,2,2,2,2,2,2,2,2,2,2,2,2,2,2,2,2,2,2,2,2,2,2,2,2,2,2,2,2,2,2,2,2,2,2,2,2,2,2,2,2,2,2,2,2,2,2,2,2,2,2,2,2,2,2,2,2,2,2,2,2,2,2,2,2,2,2,2,2,2,2,2,2,2,2,2,2,2,2,2,2,2,2,2,2,2,2,2,2,2,2,2,2,2,2,2,2,2,2,2,2,2,2,2,2,2,2,2,2,2,2,2,2,2,2,2,2,2,2,2,2,2,2,2,2,2,2,2,2,2,2,2,2,2,2,2,2,2,2,2,2,2,2,2,2,2,2,2,2,2,2,2,2,2,2,2,2,2,2,2,2,2,2,2,2,2,2,2,2,2,2,2,2,2,2,2,2,2,2,2,2,2,2,2,2,2,2,2,2,2,2,2,2,2,2,2,2,2,2,2,2,2,2,2,2,2,2,2,2,2,2,2,2,2,2,2,2,2,2,2,2,2,2,2,2,2,2,2,2,2,2,2,2,2,2,2,2,2,2,2,2,2,2,2,2,2,2,2,2,2,2,2,2,2,2,2,2,2,2,2,2,2,2,2,2,2,2,2,2,2,2,2,2,2,2,2,2,2,2,2,2,2,2,2,2,2,2,2,2,2,2,2,2,2,2,2,2,2,2,2,2,2,2,2,2,2,2,2,2,2,2,2,2,2,2,2,2,2,2,2,2,2,2,2,2,2,2,2,2,2,2,2,2,2,2,2,2,2,2,2,2,2,2,2,2,2,2,2,2,2,2,2,2,2,2,2,2,2,2,2,2,2,2,2,2,2,2,2,2,2,2,2,2,2,2,2,2,2,2,2,2,2,2,2,2,2,2,2,2,2,2,2,2,2,2,2,2,2,2,2,2,2,2,2,2,2,2,2,2,2,2,2,2,2,2,2,2,2,2,2,2,2,2,2,2,2,2,2,2,2,2,2,2,2,2,2,2,2,2,2,2,2,2,2,2,2,2,2,2,2,2,2,2,2,2,2,2,2,2,2,2,2,2,2,2,2,2,2,2,2,2,2,2,2,2,2,2,2,2,2,2,2,2,2,2,2,2,2,2,2,2,2,2,2,2,2,2,2,2,2,2,2,2,2,2,2,2,2,2,2,2,2,2,2,2,2,2,2,2,2,2,2,2,2,2,2,2,2,2,2,2,2,2,2,2,2,2,2,2,2,2,2,2,2,2,2,2,2,2,2,2,2,2,2,2,2,2,2,2,2,2,2,2,2,2,2,2,2,2,2,2,2,2,2,2,2,2,2,2,2,2,2,2,2,2,2,2,2,2,2,2,2,2,2,2,2,2,2,2,2,2,2,2,2,2,2,2,2,2,2,2,2,2,2,2,2,2,2,2,2,2,2,2,2,2,2,2,2,2,2,2,2,2,2,2,2,2,2,2,2,2,2,2,2,2,2,2,2,2,2,2,2,2,2,2,2,2,2,2,2,2,2,2,2,2,2,2,2,2,2,2,2,2,2,2,2,2,2,2,2,2,2,2,2,2,2,2,2,2,2,2,2,2,2,2,2,2,2]
[null,null,null,null,null,null,null,null,null,null,null,null,null,null,null,null,null,null,null,null,null,null,null,null,null,null,null,null,null,2,2,2,2,2,2,2,2,2,2,2,2,2,2,2,2,2,2,2,2,2,2,2,2,2,2,2,2,2,2,2,2,2,2,2,2,2,2,2,2,2,2,2,2,2,2,2,2,2,2,2,2,2,2,2,2,2,2,2,2,2,2,2,2,2,2,2,2,2,2,2,2,2,2,2,2,2,2,2,2,2,2,2,2,2,2,2,2,2,2,2,2,2,2,2,2,2,2,2,2,2,2,2,2,2,2,2,2,2,2,2,2,2,2,2,2,2,2,2,2,2,2,2,2,2,2,2,2,2,2,2,2,2,2,2,2,2,2,2,2,2,2,2,2,2,2,2,2,2,2,2,2,2,2,2,2,2,2,2,2,2,2,2,2,2,2,2,2,2,2,2,2,2,2,2,2,2,2,2,2,2,2,2,2,2,2,2,2,2,2,2,2,2,2,2,2,2,2,2,2,2,2,2,2,2,2,2,2,2,2,2,2,2,2,2,2,2,2,2,2,2,2,2,2,2,2,2,2,2,2,2,2,2,2,2,2,2,2,2,2,2,2,2,2,2,2,2,2,2,2,2,2,2,2,2,2,2,2,2,2,2,2,2,2,2,2,2,2,2,2,2,2,2,2,2,2,2,2,2,2,2,2,2,2,2,2,2,2,2,2,2,2,2,2,2,2,2,2,2,2,2,2,2,2,2,2,2,2,2,2,2,2,2,2,2,2,2,2,2,2,2,2,2,2,2,2,2,2,2,2,2,2,2,2,2,2,2,2,2,2,2,2,2,2,2,2,2,2,2,2,2,2,2,2,2,2,2,2,2,2,2,2,2,2,2,2,2,2,2,2,2,2,2,2,2,2,2,2,2,2,2,2,2,2,2,2,2,2,2,2,2,2,2,2,2,2,2,2,2,2,2,2,2,2,2,2,2,2,2,2,2,2,2,2,2,2,2,2,2,2,2,2,2,2,2,2,2,2,2,2,2,2,2,2,2,2,2,2,2,2,2,2,2,2,2,2,2,2,2,2,2,2,2,2,2,2,2,2,2,2,2,2,2,2,2,2,2,2,2,2,2,2,2,2,2,2,2,2,2,2,2,2,2,2,2,2,2,2,2,2,2,2,2,2,2,2,2,2,2,2,2,2,2,2,2,2,2,2,2,2,2,2,2,2,2,2,2,2,2,2,2,2,2,2,2,2,2,2,2,2,2,2,2,2,2,2,2,2,2,2,2,2,2,2,2,2,2,2,2,2,2,2,2,2,2,2,2,2,2,2,2,2,2,2,2,2,2,2,2,2,2,2,2,2,2,2,2,2,2,2,2,2,2,2,2,2,2,2,2,2,2,2,2,2,2,2,2,2,2,2,2,2,2,2,2,2,2,2,2,2,2,2,2,2,2,2,2,2,2,2,2,2,2,2,2,2,2,2,2,2,2,2,2,2,2,2,2,2,2,2,2,2,2,2,2,2,2,2,2,2,2,2,2,2,2,2,2,2,2,2,2,2,2,2,2,2,2,2,2,2,2,2,2,2,2,2,2,2,2,2,2,2,2,2,2,2,2,2,2,2,2,2,2,2,2,2,2,2,2,2,2,2,2,2,2,2,2,2,2,2,2,2,2,2,2,2,2,2,2,2,2,2,2,2,2,2,2,2,2,2,2,2,2,2,2,2,2,2,2,2,2,2,2,2,2,2,2,2,2,2,2,2,2,2,2,2,2,2,2,2,2,2,2,2,2,2,2,2,2,2,2,2,2,2,2,2,2,2,2,2,2,2,2,2,2,2,2,2,2,2,2,2,2,2,2,2,2,2,2,2,2,2,2,2,2,2,2,2,2,2,2,2,2,2,2,2,2,2,2,2,2,2,2,2,2,2,2,2,2,2,2,2,2,2,2,2,2,2,2,2,2,2,2,2,2,2,2,2,2,2,2,2,2,2,2,2,2,2,2,2,2,2,2,2,2,2,2,2,2,2,2,2,2,2,2,2,2,2,2,2,2,2,2,2,2,2,2,2,2,2,2,2,2,2,2,2,2,2,2,2,2,2,2,2,2,2,2,2,2,2,2,2,2,2,2,2,2,2,2,2,2,2,2,2,2,2,2,2,2,2,2,2,2,2,2,2,2,2,2,2,2,2,2,2,2,2,2,2,2,2,2,2,2,2,2,2,2,2,2,2,2,2,2,2,2,2,2,2,2,2,2,2,2,2,2,2,2,2,2,2,2,2,2,2,2,2,2,2,2,2,2,2,2,2,2,2,2,2,2,2,2,2,2,2,2,2,2,2,2,2,2,2,2,2,2,2,2,2,2,2,2,2,2,2,2,2,2,2,2,2,2,2,2,2,2,2,2,2,2,2,2,2,2,2,2,2,2,2,2,2,2,2,2,2,2,2,2,2,2,2,2,2,2,2,2,2,2,2,2,2,2,2,2,2,2,2,2,2,2,2,2,2,2,2,2,2,2,2,2,2,2,2,2,2,2,2,2,2,2,2,2,2,2,2,2,2,2,2,2,2,2,2,2,2,2,2,2,2,2,2,2,2,2,2,2,2,2,2,2,2,2,2,2,2,2,2,2,2,2,2,2,2,2,2,2,2,2,2,2,2,2,2,2,2,2,2,2,2,2,2,2,2,2,2,2,2,2,2,2,2,2,2,2,2,2,2,2,2,2,2,2,2,2,2,2,2,2,2,2,2,2,2,2,2,2,2,2,2,2,2,2,2,2,2,2,2,2,2,2,2,2,2,2,2,2,2,2,2,2,2,2,2,2,2,2,2,2,2,2,2,2,2,2,2,2,2,2,2,2,2,2,2,2,2,2,2,2,2,2,2,2,2,2,2,2,2,2,2,2,2,2,2,2,2,2,2,2,2,2,2,2,2,2,2,2,2,2,2,2,2,2,2,2,2,2,2,2,2,2,2,2,2,2,2,2,2,2,2,2,2,2,2,2,2,2,2,2,2,2,2,2,2,2,2,2,2,2,2,2,2,2,2,2,2,2,2,2,2,2,2,2,2,2,2,2,2,2,2,2,2,2,2,2,2,2,2,2,2,2,2,2,2,2,2,2,2,2,2,2,2,2,2,2,2,2,2,2,2,2,2,2,2,2,2,2,2,2,2,2,2,2,2,2,2,2,2,2,2,2,2,2,2,2,2,2,2,2,2,2,2,2,2,2,2,2,2,2,2,2,2,2,2,2,2,2,2,2,2,2,2,2,2,2,2,2,2,2,2,2,2,2,2,2,2,2,2,2,2,2,2,2,2,2,2,2,2,2,2,2,2,2,2,2,2,2,2,2,2,2,2,2,2,2,2,2,2,2,2,2,2,2,2,2,2,2,2,2,2,2,2,2,2,2,2,2,2,2,2,2,2,2,2,2,2,2,2,2,2,2,2,2,2,2,2,2,2,2,2,2,2,2,2,2,2,2,2,2,2,2,2,2,2,2,2,2,2,2,2,2,2,2,2,2,2,2,2,2,2,2,2,2,2,2,2,2,2,2,2,2,2,2,2,2,2,2,2,2,2,2,2,2,2,2,2,2,2,2,2,2,2,2,2,2,2,2,2,2,2,2,2,2,2,2,2,2,2,2,2,2,2,2,2,2,2,2,2,2,2,2,2,2,2,2,2,2,2,2,2,2,2,2,2,2,2,2,2,2,2,2,2,2,2,2,2,2,2,2,2,2,2,2,2,2,2,2,2,2,2,2,2,2,2,2,2,2,2,2,2,2,2,2,2,2,2,2,2,2,2,2,2,2,2,2,2,2,2,2,2,2,2,2,2,2,2,2,2,2,2,2,2,2,2,2,2,2,2,2,2,2,2,2,2,2,2,2,2,2,2,2,2,2,2,2,2,2,2,2,2,2,2,2,2,2,2,2,2,2,2,2,2,2,2,2,2,2,2,2,2,2,2,2,2,2,2,2,2,2,2,2,2,2,2,2,2,2,2,2,2,2,2,2,2,2,2,2,2,2,2,2,2,2,2,2,2,2,2,2,2,2,2,2,2,2,2,2,2,2,2,2,2,2,2,2,2,2,2,2,2,2,2,2,2,2,2,2,2,2,2,2,2,2,2,2,2,2,2,2,2,2,2,2,2,2,2,2,2,2,2,2,2,2,2,2,2,2,2,2,2,2,2,2,2,2,2,2,2,2,2,2,2,2,2,2,2,2,2,2,2,2,2,2,2,2,2,2,2,2,2,2,2,2,2,2,2,2,2,2,2,2,2,2,2,2,2,2,2,2,2,2,2,2,2,2,2,2,2,2,2,2,2,2,2,2,2,2,2,2,2,2,2,2,2,2,2,2,2,2,2,2,2,2,2,2,2,2,2,2,2,2,2,2,2,2,2,2,2,2,2,2,2,2,2,2,2,2,2,2,2,2,2,2,2,2,2,2,2,2,2,2,2,2,2,2,2,2,2,2,2,2,2,2,2,2,2,2,2,2,2,2,2,2,2,2,2,2,2,2,2,2,2,2,2,2,2,2,2,2,2,2,2,2,2,2,2,2,2,2,2,2,2,2,2,2,2,2,2,2,2,2,2,2,2,2,2,2,2,2,2,2,2,2,2,2,2,2,2,2,2,2,2,2,2,2,2,2,2,2,2,2,2,2,2,2,2,2,2,2,2,2,2,2,2,2,2,2,2,2,2,2,2,2,2,2,2,2,2,2,2,2,2,2,2,2,2,2,2,2,2,2,2,2,2,2,2,2,2,2,2,2,2,2,2,2,2,2,2,2,2,2,2,2,2,2,2,2,2,2,2,2,2,2,2,2,2,2,2,2,2,2,2,2,2,2,2,2,2,2,2,2,2,2,2,2,2,2,2,2,2,2,2,2,2,2,2,2,2,2,2,2,2,2,2,2,2,2,2,2,2,2,2,2,2,2,2,2,2,2,2,2,2,2,2,2,2,2,2,2,2,2,2,2,2,2,2,2,2,2,2,2,2,2,2,2,2,2,2,2,2,2,2,2,2,2,2,2,2,2,2,2,2,2,2,2,2,2,2,2,2,2,2,2,2,2,2,2,2,2,2,2,2,2,2,2,2,2,2,2,2,2,2,2,2,2,2,2,2,2,2,2,2,2,2,2,2,2,2,2,2,2,2,2,2,2,2,2,2,2,2,2,2,2,2,2,2,2,2,2,2,2,2,2,2,2,2,2,2,2,2,2,2,2,2,2,2,2,2,2,2,2,2,2,2,2,2,2,2,2,2,2,2,2,2,2,2,2,2,2,2,2,2,2,2,2,2,2,2,2,2,2,2,2,2,2,2,2,2,2,2,2,2,2,2,2,2,2,2,2,2,2,2,2,2,2,2,2,2,2,2,2,2,2,2,2,2,2,2,2,2,2,2,2,2,2,2,2,2,2,2,2,2,2,2,2,2,2,2,2,2,2,2,2,2,2,2,2,2,2,2,2,2,2,2,2,2,2,2,2,2,2,2,2,2,2,2,2,2,2,2,2,2,2,2,2,2,2,2,2,2,2,2,2,2,2,2,2,2,2,2,2,2,2,2,2,2,2,2,2,2,2,2,2,2,2,2,2,2,2,2,2,2,2,2,2,2,2,2,2,2,2,2,2,2,2,2,2,2,2,2,2,2,2,2,2,2,2,2,2,2,2,2,2,2,2,2,2,2,2,2,2,2,2,2,2,2,2,2,2,2,2,2,2,2,2,2,2,2,2,2,2,2,2,2,2,2,2,2,2,2,2,2,2,2,2,2,2,2,2,2,2,2,2,2,2,2,2,2,2,2,2,2,2,2,2,2,2,2,2,2,2,2,2,2,2,2,2,2,2,2,2,2,2,2,2,2,2,2,2,2,2,2,2,2,2,2,2,2,2,2,2,2,2,2,2,2,2,2,2,2,2,2,2,2,2,2,2,2,2,2,2,2,2,2,2,2,2,2,2,2,2,2,2,2,2,2,2,2,2,2,2,2,2,2,2,2,2,2,2,2,2,2,2,2,2,2,2,2,2,2,2,2,2,2,2,2,2,2,2,2,2,2,2,2,2,2,2,2,2,2,2,2,2,2,2,2,2,2,2,2,2,2,2,2,2,2,2,2,2,2,2,2,2,2,2,2,2,2,2,2,2,2,2,2,2,2,2,2,2,2,2,2,2,2,2,2,2,2,2,2,2,2,2,2,2,2,2,2,2,2,2,2,2,2,2,2,2,2,2,2,2,2,2,2,2,2,2,2,2,2,2,2,2,2,2,2,2,2,2,2,2,2,2,2,2,2,2,2,2,2,2,2,2,2,2,2,2,2,2,2,2,2,2,2,2,2,2,2,2,2,2,2,2,2,2,2,2,2,2,2,2,2,2,2,2,2,2,2,2,2,2,2,2,2,2,2,2,2,2,2,2,2,2,2,2,2,2,2,2,2,2,2,2,2,2,2,2,2,2,2,2,2,2,2,2,2,2,2,2,2,2,2,2,2,2,2,2,2,2,2,2,2,2,2,2,2,2,2,2,2,2,2,2,2,2,2,2,2,2,2,2,2,2,2,2,2,2,2,2,2,2,2,2,2,2,2,2,2,2,2,2,2,2,2,2,2,2,2,2,2,2,2,2,2,2,2,2,2,2,2,2,2,2,2,2,2,2,2,2,2,2,2,2,2,2,2,2,2,2,2,2,2,2,2,2,2,2,2,2,2,2,2,2,2,2,2,2,2,2,2,2,2,2,2,2,2,2,2,2,2,2,2,2,2,2,2,2,2,2,2,2,2,2,2,2,2,2,2,2,2,2,2,2,2,2,2,2,2,2,2,2,2,2,2,2,2,2,2,2,2,2,2,2,2,2,2,2,2,2,2,2,2,2,2,2,2,2,2,2,2,2,2,2,2,2,2,2,2,2,2,2,2,2,2,2,2,2,2,2,2,2,2,2,2,2,2,2,2,2,2,2,2,2,2,2,2,2,2,2,2,2,2,2,2,2,2,2,2,2,2,2,2,2,2,2,2,2,2,2,2,2,2,2,2,2,2,2,2,2,2,2,2,2,2,2,2,2,2,2,2,2,2,2,2,2,2,2,2,2,2,2,2,2,2,2,2,2,2,2,2,2,2,2,2,2,2,2,2,2,2,2,2,2,2,2,2,2,2,2,2,2,2,2,2,2,2,2,2,2,2,2,2,2,2,2,2,2,2,2,2,2,2,2,2,2,2,2,2,2,2,2,2,2,2,2,2,2,2,2,2,2,2,2,2,2,2,2,2,2,2,2,2,2,2,2,2,2,2,2,2,2,2,2,2,2,2,2,2,2,2,2,2,2,2,2,2,2,2,2,2,2,2,2,2,2,2,2,2,2,2,2,2,2,2,2,2,2,2,2,2,2,2,2,2,2,2,2,2,2,2,2,2,2,2,2,2,2,2,2,2,2,2,2,2,2,2,2,2,2,2,2,2,2,2,2,2,2,2,2,2,2,2,2,2,2,2,2,2,2,2,2,2,2,2,2,2,2,2,2,2,2,2,2,2,2,2,2,2,2,2,2,2,2,2,2,2,2,2,2,2,2,2,2,2,2,2,2,2,2,2,2,2,2,2,2,2,2,2,2,2,2,2,2,2,2,2,2,2,2,2,2,2,2,2,2,2,2,2,2,2,2,2,2,2,2,2,2,2,2,2,2,2,2,2,2,2,2,2,2,2,2,2,2,2,2,2,2,2,2,2,2,2,2,2,2,2,2,2,2,2,2,2,2,2,2,2,2,2,2,2,2,2,2,2,2,2,2,2,2,2,2,2,2,2,2,2,2,2,2,2,2,2,2,2,2,2,2,2,2,2,2,2,2,2,2,2,2,2,2,2,2,2,2,2,2,2,2,2,2,2,2,2,2,2,2,2,2,2,2,2,2,2,2,2,2,2,2,2,2,2,2,2,2,2,2,2,2,2,2,2,2,2,2,2,2,2,2,2,2,2,2,2,2,2,2,2,2,2,2,2,2,2,2,2,2,2,2,2,2,2,2,2,2,2,2,2,2,2,2,2,2,2,2,2,2,2,2,2,2,2,2,2,2,2,2,2,2,2,2,2,2,2,2,2,2,2,2,2,2,2,2,2,2,2,2,2,2,2,2,2,2,2,2,2,2,2,2,2,2,2,2,2,2,2,2,2,2,2,2,2,2,2,2,2,2,2,2,2,2,2,2,2,2,2,2,2,2,2,2,2,2,2,2,2,2,2,2,2,2,2,2,2,2,2,2,2,2,2,2,2,2,2,2,2,2,2,2,2,2,2,2,2,2,2,2,2,2,2,2,2,2,2,2,2,2,2,2,2,2,2,2,2,2,2,2,2,2,2,2,2,2,2,2,2,2,2,2,2,2,2,2,2,2,2,2,2,2,2,2,2,2,2,2,2,2,2,2,2,2,2,2,2,2,2,2,2,2,2,2,2,2,2,2,2,2,2,2,2,2,2,2,2,2,2,2,2,2,2,2,2,2,2,2,2,2,2,2,2,2,2,2,2,2,2,2,2,2,2,2,2,2,2,2,2,2,2,2,2,2,2,2,2,2,2,2,2,2,2,2,2,2,2,2,2,2,2,2,2,2,2,2,2,2,2,2,2,2,2,2,2,2,2,2,2,2,2,2,2,2,2,2,2,2,2,2,2,2,2,2,2,2,2,2,2,2,2,2,2,2,2,2,2,2,2,2,2,2,2,2,2,2,2,2,2,2,2,2,2,2,2,2,2,2,2,2,2,2,2,2,2,2,2,2,2,2,2,2,2,2,2,2,2,2,2,2,2,2,2,2,2,2,2,2,2,2,2,2,2,2,2,2,2,2,2,2,2,2,2,2,2,2,2,2,2,2,2,2,2,2,2,2,2,2,2,2,2,2,2,2,2,2,2,2,2,2,2,2,2,2,2,2,2,2,2,2,2,2,2,2,2,2,2,2,2,2,2,2,2,2,2,2,2,2,2,2,2,2,2,2,2,2,2,2,2,2,2,2,2,2,2,2,2,2,2,2,2,2,2,2,2,2,2,2,2,2,2,2,2,2,2,2,2,2,2,2,2,2,2,2,2,2,2,2,2,2,2,2,2,2,2,2,2,2,2,2,2,2,2,2,2,2,2,2,2,2,2,2,2,2,2,2,2,2,2,2,2,2,2,2,2,2,2,2,2,2,2,2,2,2,2,2,2,2,2,2,2,2,2,2,2,2,2,2,2,2,2,2,2,2,2,2,2,2,2,2,2,2,2,2,2,2,2,2,2,2,2,2,2,2,2,2,2,2,2,2,2,2,2,2,2,2,2,2,2,2,2,2,2,2,2,2,2,2,2,2,2,2,2,2,2,2,2,2,2,2,2,2,2,2,2,2,2,2,2,2,2,2,2,2,2,2,2,2,2,2,2,2,2,2,2,2,2,2,2,2,2,2,2,2,2,2,2,2,2,2,2,2,2,2,2,2,2,2,2,2,2,2,2,2,2,2,2,2,2,2,2,2,2,2,2,2,2,2,2,2,2,2,2,2,2,2,2,2,2,2,2,2,2,2,2,2,2,2,2,2,2,2,2,2,2,2,2,2,2,2,2,2,2,2,2,2,2,2,2,2,2,2,2,2,2,2,2,2,2,2,2,2,2,2,2,2,2,2,2,2,2,2,2,2,2,2,2,2,2,2,2,2,2,2,2,2,2,2,2,2,2,2,2,2,2,2,2,2,2,2,2,2,2,2,2,2,2,2,2,2,2,2,2,2,2,2,2,2,2,2,2,2,2,2,2,2,2,2,2,2,2,2,2,2,2,2,2,2,2,2,2,2,2,2,2,2,2,2,2,2,2,2,2,2,2,2,2,2,2,2,2,2,2,2,2,2,2,2,2,2,2,2,2,2,2,2,2,2,2,2,2,2,2,2,2,2,2,2,2,2,2,2,2,2,2,2,2,2,2,2,2,2,2,2,2,2,2,2,2,2,2,2,2,2,2,2,2,2,2,2,2,2,2,2,2,2,2,2,2,2,2,2,2,2,2,2,2,2,2,2,2,2,2,2,2,2,2,2,2,2,2,2,2,2,2,2,2,2,2,2,2,2,2,2,2,2,2,2,2,2,2,2,2,2,2,2,2,2,2,2,2,2,2,2,2,2,2,2,2,2,2,2,2,2,2,2,2,2,2,2,2,2,2,2,2,2,2,2,2,2,2,2,2,2,2,2,2,2,2,2,2,2,2,2,2,2,2,2,2,2,2,2,2,2,2,2,2,2,2,2,2,2,2,2,2,2,2,2,2,2,2,2,2,2,2,2,2,2,2,2,2,2,2,2,2,2,2,2,2,2,2,2,2,2,2,2,2,2,2,2,2,2,2,2,2,2,2,2,2,2,2,2,2,2,2,2,2,2,2,2,2,2,2,2,2,2,2,2,2,2,2,2,2,2,2,2,2,2,2,2,2,2,2,2,2,2,2,2,2,2,2,2,2,2,2,2,2,2,2,2,2,2,2,2,2,2,2,2,2,2,2,2,2,2,2,2,2,2,2,2,2,2,2,2,2,2,2,2,2,2,2,2,2,2,2,2,2,2,2,2,2,2,2,2,2,2,2,2,2,2,2,2,2,2,2,2,2,2,2,2,2,2,2,2,2,2,2,2,2,2,2,2,2,2,2,2,2,2,2,2,2,2,2,2,2,2,2,2,2,2,2,2,2,2,2,2,2,2,2,2,2,2,2,2,2,2,2,2,2,2,2,2,2,2,2,2,2,2,2,2,2,2,2,2,2,2,2,2,2,2,2,2,2,2,2,2,2,2,2,2,2,2,2,2,2,2,2,2,2,2,2,2,2,2,2,2,2,2,2,2,2,2,2,2,2,2,2,2,2,2,2,2,2,2,2,2,2,2,2,2,2,2,2,2,2,2,2,2,2,2,2,2,2,2,2,2,2,2,2,2,2,2,2,2,2,2,2,2,2,2,2,2,2,2,2,2,2,2,2,2,2,2,2,2,2,2,2,2,2,2,2,2,2,2,2,2,2,2,2,2,2,2,2,2,2,2,2,2,2,2,2,2,2,2,2,2,2,2,2,2,2,2,2,2,2,2,2,2,2,2,2,2,2,2,2,2,2,2,2,2,2,2,2,2,2,2,2,2,2,2,2,2,2,2,2,2,2,2,2,2,2,2,2,2,2,2,2,2,2,2,2,2,2,2,2,2,2,2,2,2,2,2,2,2,2,2,2,2,2,2,2,2,2,2,2,2,2,2,2,2,2,2,2,2,2,2,2,2,2,2,2,2,2,2,2,2,2,2,2,2,2,2,2,2,2,2,2,2,2,2,2,2,2,2,2,2,2,2,2,2,2,2,2,2,2,2,2,2,2,2,2,2,2,2,2,2,2,2,2,2,2,2,2,2,2,2,2,2,2,2,2,2,2,2,2,2,2,2,2,2,2,2,2,2,2,2,2,2,2,2,2,2,2,2,2,2,2,2,2,2,2,2,2,2,2,2,2,2,2,2,2,2,2,2,2,2,2,2,2,2,2,2,2,2,2,2,2,2,2,2,2,2,2,2,2,2,2,2,2,2,2,2,2,2,2,2,2,2,2,2,2,2,2,2,2,2,2,2,2,2,2,2,2,2,2,2,2,2,2,2,2,2,2,2,2,2,2,2,2,2,2,2,2,2,2,2,2,2,2,2,2,2,2,2,2,2,2,2,2,2,2,2,2,2,2,2,2,2,2,2,2,2,2,2,2,2,2,2,2,2,2,2,2,2,2,2,2,2,2,2,2,2,2,2,2,2,2,2,2,2,2,2,2,2,2,2,2,2,2,2,2,2,2,2,2,2,2,2,2,2,2,2,2,2,2,2,2,2,2,2,2,2,2,2,2,2,2,2,2,2,2,2,2,2,2,2,2,2,2,2,2,2,2,2,2,2,2,2,2,2,2,2,2,2,2,2,2,2,2,2,2,2,2,2,2,2,2,2,2,2,2,2,2,2,2,2,2,2,2,2,2,2,2,2,2,2,2,2,2,2,2,2,2,2,2,2,2,2,2,2,2,2,2,2,2,2,2,2,2,2,2,2,2,2,2,2,2,2,2,2,2,2,2,2,2,2,2,2,2,2,2,2,2,2,2,2,2,2,2,2,2,2,2,2,2,2,2,2,2,2,2,2,2,2,2,2,2,2,2,2,2,2,2,2,2,2,2,2,2,2,2,2,2,2,2,2,2,2,2,2,2,2,2,2,2,2,2,2,2,2,2,2,2,2,2,2,2,2,2,2,2,2,2,2,2,2,2,2,2,2,2,2,2,2,2,2,2,2,2,2,2,2,2,2,2,2,2,2,2,2,2,2,2,2,2,2,2,2,2,2,2,2,2,2,2,2,2,2,2,2,2,2,2,2,2,2,2,2,2,2,2,2,2,2,2,2,2,2,2,2,2,2,2,2,2,2,2,2,2,2,2,2,2,2,2,2,2,2,2,2,2,2,2,2,2,2,2,2,2,2,2,2,2,2,2,2,2,2,2,2,2,2,2,2,2,2,2,2,2,2,2,2,2,2,2,2,2,2,2,2,2,2,2,2,2,2,2,2,2,2,2,2,2,2,2,2,2,2,2,2,2,2,2,2,2,2,2,2,2,2,2,2,2,2,2,2,2,2,2,2,2,2,2,2,2,2,2,2,2,2,2,2,2,2,2,2,2,2,2,2,2,2,2,2,2,2,2,2,2,2,2,2,2,2,2,2,2,2,2,2,2,2,2,2,2,2,2,2,2,2,2,2,2,2,2,2,2,2,2,2,2,2,2,2,2,2,2,2,2,2,2,2,2,2,2,2,2,2,2,2,2,2,2,2,2,2,2,2,2,2,2,2,2,2,2,2,2,2,2,2,2,2,2,2,2,2,2,2,2,2,2,2,2,2,2,2,2,2,2,2,2,2,2,2,2,2,2,2,2,2,2,2,2,2,2,2,2,2,2,2,2,2,2,2,2,2,2,2,2,2,2,2,2,2,2,2,2,2,2,2,2,2,2,2,2,2,2,2,2,2,2,2,2,2,2,2,2,2,2,2,2,2,2,2,2,2,2,2,2,2,2,2,2,2,2,2,2,2,2,2,2,2,2,2,2,2,2,2,2,2,2,2,2,2,2,2,2,2,2,2,2,2,2,2,2,2,2,2,2,2,2,2,2,2,2,2,2,2,2,2,2,2,2,2,2,2,2,2,2,2,2,2,2,2,2,2,2,2,2,2,2,2,2,2,2,2,2,2,2,2,2,2,2,2,2,2,2,2,2,2,2,2,2,2,2,2,2,2,2,2,2,2,2,2,2,2,2,2,2,2,2,2,2,2,2,2,2,2,2,2,2,2,2,2,2,2,2,2,2,2,2,2,2,2,2,2,2,2,2,2,2,2,2,2,2,2,2,2,2,2,2,2,2,2,2,2,2,2,2,2,2,2,2,2,2,2,2,2,2,2,2,2,2,2,2,2,2,2,2,2,2,2,2,2,2,2,2,2,2,2,2,2,2,2,2,2,2,2,2,2,2,2,2,2,2,2,2,2,2,2,2,2,2,2,2,2,2,2,2,2,2,2,2,2,2,2,2,2,2,2,2,2,2,2,2,2,2,2,2,2,2,2,2,2,2,2,2,2,2,2,2,2,2,2,2,2,2,2,2,2,2,2,2,2,2,2,2,2,2,2,2,2,2,2,2,2,2,2,2,2,2,2,2,2,2,2,2,2,2,2,2,2,2,2,2,2,2,2,2,2,2,2,2,2,2,2,2,2,2,2,2,2,2,2,2,2,2,2,2,2,2,2,2,2,2,2,2,2,2,2,2,2,2,2,2,2,2,2,2,2,2,2,2,2,2,2,2,2,2,2,2,2,2,2,2,2,2,2,2,2,2,2,2,2,2,2,2,2,2,2,2,2,2,2,2,2,2,2,2,2,2,2,2,2,2,2,2,2,2,2,2,2,2,2,2,2,2,2,2,2,2,2,2,2,2,2,2,2,2,2,2,2,2,2,2,2,2,2,2,2,2,2,2,2,2,2,2,2,2,2,2,2,2,2,2,2,2,2,2,2,2,2,2,2,2,2,2,2,2,2,2,2,2,2,2,2,2,2,2,2,2,2,2,2,2,2,2,2,2,2,2,2,2,2,2,2,2,2,2,2,2,2,2,2,2,2,2,2,2,2,2,2,2,2,2,2,2,2,2,2,2,2,2,2,2,2,2,2,2,2,2,2,2,2,2,2,2,2,2,2,2,2,2,2,2,2,2,2,2,2,2,2,2,2,2,2,2,2,2,2,2,2,2,2,2,2,2,2,2,2,2,2,2,2,2,2,2,2,2,2,2,2,2,2,2,2,2,2,2,2,2,2,2,2,2,2,2,2,2,2,2,2,2,2,2,2,2,2,2,2,2,2,2,2,2,2,2,2,2,2,2,2,2,2,2,2,2,2,2,2,2,2,2,2,2,2,2,2,2,2,2,2,2,2,2,2,2,2,2,2,2,2,2,2,2,2,2,2,2,2,2,2,2,2,2,2,2,2,2,2,2,2,2,2,2,2,2,2,2,2,2,2,2,2,2,2,2,2,2,2,2,2,2,2,2,2,2,2,2,2,2,2,2,2,2,2,2,2,2,2,2,2,2,2,2,2,2,2,2,2,2,2,2,2,2,2,2,2,2,2,2,2,2,2,2,2,2,2,2,2,2,2,2,2,2,2,2,2,2,2,2,2,2,2,2,2,2,2,2,2,2,2,2,2,2,2,2,2,2,2,2,2,2,2,2,2,2,2,2,2,2,2,2,2,2,2,2,2,2,2,2,2,2,2,2,2,2,2,2,2,2,2,2,2,2,2,2,2,2,2,2,2,2,2,2,2,2,2,2,2,2,2,2,2,2,2,2,2,2,2,2,2,2,2,2,2,2,2,2,2,2,2,2,2,2,2,2,2,2,2,2,2,2,2,2,2,2,2,2,2,2,2,2,2,2,2,2,2,2,2,2,2,2,2,2,2,2,2,2,2,2,2,2,2,2,2,2,2,2,2,2,2,2,2,2,2,2,2,2,2,2,2,2,2,2,2,2,2,2,2,2,2,2,2,2,2,2,2,2,2,2,2,2,2,2,2,2,2,2,2,2,2,2,2,2,2,2,2,2,2,2,2,2,2,2,2,2,2,2,2,2,2,2,2,2,2,2,2,2,2,2,2,2,2,2,2,2,2,2,2,2,2,2,2,2,2,2,2,2,2,2,2,2,2,2,2,2,2,2,2,2,2,2,2,2,2,2,2,2,2,2,2,2,2,2,2,2,2,2,2,2,2,2,2,2,2,2,2,2,2,2,2,2,2,2,2,2,2,2,2,2,2,2,2,2,2,2,2,2,2,2,2,2,2,2,2,2,2,2,2,2,2,2,2,2,2,2,2,2,2,2,2,2,2,2,2,2,2,2,2,2,2,2,2,2,2,2,2,2,2,2,2,2,2,2,2,2,2,2,2,2,2,2,2,2,2,2,2,2,2,2,2,2,2,2,2,2,2,2,2,2,2,2,2,2,2,2,2,2,2,2,2,2,2,2,2,2,2,2,2,2,2,2,2,2,2,2,2,2,2,2,2,2,2,2,2,2,2,2,2,2,2,2,2,2,2,2,2,2,2,2,2,2,2,2,2,2,2,2,2,2,2,2,2,2,2,2,2,2,2,2,2,2,2,2,2,2,2,2,2,2,2,2,2,2,2,2,2,2,2,2,2,2,2,2,2,2,2,2,2,2,2,2,2,2,2,2,2,2,2,2,2,2,2,2,2,2,2,2,2,2,2,2,2,2,2,2,2,2,2,2,2,2,2,2,2,2,2,2,2,2,2,2,2,2,2,2,2,2,2,2,2,2,2,2,2,2,2,2,2,2,2,2,2,2,2,2,2,2,2,2,2,2,2,2,2,2,2,2,2,2,2,2,2,2,2,2,2,2,2,2,2,2,2,2,2,2,2,2,2,2,2,2,2,2,2,2,2,2,2,2,2,2,2,2,2,2,2,2,2,2,2,2,2,2,2,2,2,2,2,2,2,2,2,2,2,2,2,2,2,2,2,2,2,2,2,2,2,2,2,2,2,2,2,2,2,2,2,2,2,2,2,2,2,2,2,2,2,2,2,2,2,2,2,2,2,2,2,2,2,2,2,2,2,2,2,2,2,2,2,2,2,2,2,2,2,2,2,2,2,2,2,2,2,2,2,2,2,2,2,2,2,2,2,2,2,2,2,2,2,2,2,2,2,2,2,2,2,2,2,2,2,2,2,2,2,2,2,2,2,2,2,2,2,2,2,2,2,2,2,2,2,2,2,2,2,2,2,2,2,2,2,2,2,2,2,2,2,2,2,2,2,2,2,2,2,2,2,2,2,2,2,2,2,2,2,2,2,2,2,2,2,2,2,2,2,2,2,2,2,2,2,2,2,2,2,2,2,2,2,2,2,2,2,2,2,2,2,2,2,2,2,2,2,2,2,2,2,2,2,2,2,2,2,2,2,2,2,2,2,2,2,2,2,2,2,2,2,2,2,2,2,2,2,2,2,2,2,2,2,2,2,2,2,2,2,2,2,2,2,2,2,2,2,2,2,2,2,2,2,2,2,2,2,2,2,2,2,2,2,2,2,2,2,2,2,2,2,2,2,2,2,2,2,2,2,2,2,2,2,2,2,2,2,2,2,2,2,2,2,2,2,2,2,2,2,2,2,2,2,2,2,2,2,2,2,2,2,2,2,2,2,2,2,2,2,2,2,2,2,2,2,2,2,2,2,2,2,2,2,2,2,2,2,2,2,2,2,2,2,2,2,2,2,2,2,2,2,2,2,2,2,2,2,2,2,2,2,2,2,2,2,2,2,2,2,2,2,2,2,2,2,2,2,2,2,2,2,2,2,2,2,2,2,2,2,2,2,2,2,2,2,2,2,2,2,2,2,2,2,2,2,2,2,2,2,2,2,2,2,2,2,2,2,2,2,2,2,2,2,2,2,2,2,2,2,2,2,2,2,2,2,2,2,2,2,2,2,2,2,2,2,2,2,2,2,2,2,2,2,2,2,2,2,2,2,2,2,2,2,2,2,2,2,2,2,2,2,2,2,2,2,2,2,2,2,2,2,2,2,2,2,2,2,2,2,2,2,2,2,2,2,2,2,2,2,2,2,2,2,2,2,2,2,2,2,2,2,2,2,2,2,2,2,2,2,2,2,2,2,2,2,2,2,2,2,2,2,2,2,2,2,2,2,2,2,2,2,2,2,2,2,2,2,2,2,2,2,2,2,2,2,2,2,2,2,2,2,2,2,2,2,2,2,2,2,2,2,2,2,2,2,2,2,2,2,2,2,2,2,2,2,2,2,2,2,2,2,2,2,2,2,2,2,2,2,2,2,2,2,2,2,2,2,2,2,2,2,2,2,2,2,2,2,2,2,2,2,2,2,2,2,2,2,2,2,2,2,2,2,2,2,2,2,2,2,2,2,2,2,2,2,2,2,2,2,2,2,2,2,2,2,2,2,2,2,2,2,2,2,2,2,2,2,2,2,2,2,2,2,2,2,2,2,2,2,2,2,2,2,2,2,2,2,2,2,2,2,2,2,2,2,2,2,2,2,2,2,2,2,2,2,2,2,2,2,2,2,2,2,2,2,2,2,2,2,2,2,2,2,2,2,2,2,2,2,2,2,2,2,2,2,2,2,2,2,2,2,2,2,2,2,2,2,2,2,2,2,2,2,2,2,2,2,2,2,2,2,2,2,2,2,2,2,2,2,2,2,2,2,2,2,2,2,2,2,2,2,2,2,2,2,2,2,2,2,2,2,2,2,2,2,2,2,2,2,2,2,2,2,2,2,2,2,2,2,2,2,2,2,2,2,2,2,2,2,2,2,2,2,2,2,2,2,2,2,2,2,2,2,2,2,2,2,2,2,2,2,2,2,2,2,2,2,2,2,2,2,2,2,2,2,2,2,2,2,2,2,2,2,2,2,2,2,2,2,2,2,2,2,2,2,2,2,2,2,2,2,2,2,2,2,2,2,2,2,2,2,2,2,2,2,2,2,2,2,2,2,2,2,2,2,2,2,2,2,2,2,2,2,2,2,2,2,2,2,2,2,2,2,2,2,2,2,2,2,2,2,2,2,2,2,2,2,2,2,2,2,2,2,2,2,2,2,2,2,2,2,2,2,2,2,2,2,2,2,2,2,2,2,2,2,2,2,2,2,2,2,2,2,2,2,2,2,2,2,2,2,2,2,2,2,2,2,2,2,2,2,2,2,2,2,2,2,2,2,2,2,2,2,2,2,2,2,2,2,2,2,2,2,2,2,2,2,2,2,2,2,2,2,2,2,2,2,2,2,2,2,2,2,2,2,2,2,2,2,2,2,2,2,2,2,2,2,2,2,2,2,2,2,2,2,2,2,2,2,2,2,2,2,2,2,2,2,2,2,2,2,2,2,2,2,2,2,2,2,2,2,2,2,2,2,2,2,2,2,2,2,2,2,2,2,2,2,2,2,2,2,2,2,2,2,2,2,2,2,2,2,2,2,2,2,2,2,2,2,2,2,2,2,2,2,2,2,2,2,2,2,2,2,2,2,2,2,2,2,2,2,2,2,2,2,2,2,2,2,2,2,2,2,2,2,2,2,2,2,2,2,2,2,2,2,2,2,2,2,2,2,2,2,2,2,2,2,2,2,2,2,2,2,2,2,2,2,2,2,2,2,2,2,2,2,2,2,2,2,2,2,2,2,2,2,2,2,2,2,2,2,2,2,2,2,2,2,2,2,2,2,2,2,2,2,2,2,2,2,2,2,2,2,2,2,2,2,2,2,2,2,2,2,2,2,2,2,2,2,2,2,2,2,2,2,2,2,2,2,2,2,2,2,2,2,2,2,2,2,2,2,2,2,2,2,2,2,2,2,2,2,2,2,2,2,2,2,2,2,2,2,2,2,2,2,2,2,2,2,2,2,2,2,2,2,2,2,2,2,2,2,2,2,2,2,2,2,2,2,2,2,2,2,2,2,2,2,2,2,2,2,2,2,2,2,2,2,2,2,2,2,2,2,2,2,2,2,2,2,2,2,2,2,2,2,2,2,2,2,2,2,2,2,2,2,2,2,2,2,2,2,2,2,2,2,2,2,2,2,2,2,2,2,2,2,2,2,2,2,2,2,2,2,2,2,2,2,2,2,2,2,2,2,2,2,2,2,2,2,2,2,2,2,2,2,2,2,2,2,2,2,2,2,2,2,2,2,2,2,2,2,2,2,2,2,2,2,2,2,2,2,2,2,2,2,2,2,2,2,2,2,2,2,2,2,2,2,2,2,2,2,2,2,2,2,2,2,2,2,2,2,2,2,2,2,2,2,2,2,2,2,2,2,2,2,2,2,2,2,2,2,2,2,2,2,2,2,2,2,2,2,2,2,2,2,2,2,2,2,2,2,2,2,2,2,2,2,2,2,2,2,2,2,2,2,2,2,2,2,2,2,2,2,2,2,2,2,2,2,2,2,2,2,2,2,2,2,2,2,2,2,2,2,2,2,2,2,2,2,2,2,2,2,2,2,2,2,2,2,2,2,2,2,2,2,2,2,2,2,2,2,2,2,2,2,2,2,2,2,2,2,2,2,2,2,2,2,2,2,2,2,2,2,2,2,2,2,2,2,2,2,2,2,2,2,2,2,2,2,2,2,2,2,2,2,2,2,2,2,2,2,2,2,2,2,2,2,2,2,2,2,2,2,2,2,2,2,2,2,2,2,2,2,2,2,2,2,2,2,2,2,2,2,2,2,2,2,2,2,2,2,2,2,2,2,2,2,2,2,2,2,2,2,2,2,2,2,2,2,2,2,2,2,2,2,2,2,2,2,2,2,2,2,2,2,2,2,2,2,2,2,2,2,2,2,2,2,2,2,2,2,2,2,2,2,2,2,2,2,2,2,2,2,2,2,2,2,2,2,2,2,2,2,2,2,2,2,2,2,2,2,2,2,2,2,2,2,2,2,2,2,2,2,2,2,2,2,2,2,2,2,2,2,2,2,2,2,2,2,2,2,2,2,2,2,2,2,2,2,2,2,2,2,2,2,2,2,2,2,2,2,2,2,2,2,2,2,2,2,2,2,2,2,2,2,2,2,2,2,2,2,2,2,2,2,2,2,2,2,2,2,2,2,2,2,2,2,2,2,2,2,2,2,2,2,2,2,2,2,2,2,2,2,2,2,2,2,2,2,2,2,2,2,2,2,2,2,2,2,2,2,2,2,2,2,2,2,2,2,2,2,2,2,2,2,2,2,2,2,2,2,2,2,2,2,2,2,2,2,2,2,2,2,2,2,2,2,2,2,2,2,2,2,2,2,2,2,2,2,2,2,2,2,2,2,2,2,2,2,2,2,2,2,2,2,2,2,2,2,2,2,2,2,2,2,2,2,2,2,2,2,2,2,2,2,2,2,2,2,2,2,2,2,2,2,2,2,2,2,2,2,2,2,2,2,2,2,2,2,2,2,2,2,2,2,2,2,2,2,2,2,2,2,2,2,2,2,2,2,2,2,2,2,2,2,2,2,2,2,2,2,2,2,2,2,2,2,2,2,2,2,2,2,2,2,2,2,2,2,2,2,2,2,2,2,2,2,2,2,2,2,2,2,2,2,2,2,2,2,2,2,2,2,2,2,2,2,2,2,2,2,2,2,2,2,2,2,2,2,2,2,2,2,2,2,2,2,2,2,2,2,2,2,2,2,2,2,2,2,2,2,2,2,2,2,2,2,2,2,2,2,2,2,2,2,2,2,2,2,2,2,2,2,2,2,2,2,2,2,2,2,2,2,2,2,2,2,2,2,2,2,2,2,2,2,2,2,2,2,2,2,2,2,2,2,2,2,2,2,2,2,2,2,2,2,2,2,2,2,2,2,2,2,2,2,2,2,2,2,2,2,2,2,2,2,2,2,2,2,2,2,2,2,2,2,2,2,2,2,2,2,2,2,2,2,2,2,2,2,2,2,2,2,2,2,2,2,2,2,2,2,2,2,2,2,2,2,2,2,2,2,2,2,2,2,2,2,2,2,2,2,2,2,2,2,2,2,2,2,2,2,2,2,2,2,2,2,2,2,2,2,2,2,2,2,2,2,2,2,2,2,2,2,2,2,2,2,2,2,2,2,2,2,2,2,2,2,2,2,2,2,2,2,2,2,2,2,2,2,2,2,2,2,2,2,2,2,2,2,2,2,2,2,2,2,2,2,2,2,2,2,2,2,2,2,2,2,2,2,2,2,2,2,2,2,2,2,2,2,2,2,2,2,2,2,2,2,2,2,2,2,2,2,2,2,2,2,2,2,2,2,2,2,2,2,2,2,2,2,2,2,2,2,2,2,2,2,2,2,2,2,2,2,2,2,2,2,2,2,2,2,2,2,2,2,2,2,2,2,2,2,2,2,2,2,2,2,2,2,2,2,2,2,2,2,2,2,2,2,2,2,2,2,2,2,2,2,2,2,2,2,2,2,2,2,2,2,2,2,2,2,2,2,2,2,2,2,2,2,2,2,2,2,2,2,2,2,2,2,2,2,2,2,2,2,2,2,2,2,2,2,2,2,2,2,2,2,2,2,2,2,2,2,2,2,2,2,2,2,2,2,2,2,2,2,2,2,2,2,2,2,2,2,2,2,2,2,2,2,2,2,2,2,2,2,2,2,2,2,2,2,2,2,2,2,2,2,2,2,2,2,2,2,2,2,2,2,2,2,2,2,2,2,2,2,2,2,2,2,2,2,2,2,2,2,2,2,2,2,2,2,2,2,2,2,2,2,2,2,2,2,2,2,2,2,2,2,2,2,2,2,2,2,2,2,2,2,2,2,2,2,2,2,2,2,2,2,2,2,2,2,2,2,2,2,2,2,2,2,2,2,2,2,2,2,2,2,2,2,2,2,2,2,2,2,2,2,2,2,2,2,2,2,2,2,2,2,2,2,2,2,2,2,2,2,2,2,2,2,2,2,2,2,2,2,2,2,2,2,2,2,2,2,2,2,2,2,2,2,2,2,2,2,2,2,2,2,2,2,2,2,2,2,2,2,2,2,2,2,2,2,2,2,2,2,2,2,2,2,2,2,2,2,2,2,2,2,2,2,2,2,2,2,2,2,2,2,2,2,2,2,2,2,2,2,2,2,2,2,2,2,2,2,2,2,2,2,2,2,2,2,2,2,2,2,2,2,2,2,2,2,2,2,2,2,2,2,2,2,2,2,2,2,2,2,2,2,2,2,2,2,2,2,2,2,2,2,2,2,2,2,2,2,2,2,2,2,2,2,2,2,2,2,2,2,2,2,2,2,2,2,2,2,2,2,2,2,2,2,2,2,2,2,2,2,2,2,2,2,2,2,2,2,2,2,2,2,2,2,2,2,2,2,2,2,2,2,2,2,2,2,2,2,2,2,2,2,2,2,2,2,2,2,2,2,2,2,2,2,2,2,2,2,2,2,2,2,2,2,2,2,2,2,2,2,2,2,2,2,2,2,2,2,2,2,2,2,2,2,2,2,2,2,2,2,2,2,2,2,2,2,2,2,2,2,2,2,2,2,2,2,2,2,2,2,2,2,2,2,2,2,2,2,2,2,2,2,2,2,2,2,2,2,2,2,2,2,2,2,2,2,2,2,2,2,2,2,2,2,2,2,2,2,2,2,2,2,2,2,2,2,2,2,2,2,2,2,2,2,2,2,2,2,2,2,2,2,2,2,2,2,2,2,2,2,2,2,2,2,2,2,2,2,2,2,2,2,2,2,2,2,2,2,2,2,2,2,2,2,2,2,2,2,2,2,2,2,2,2,2,2,2,2,2,2,2,2,2,2,2,2,2,2,2,2,2,2,2,2,2,2,2,2,2,2,2,2,2,2,2,2,2,2,2,2,2,2,2,2,2,2,2,2,2,2,2,2,2,2,2,2,2,2,2,2,2,2,2,2,2,2,2,2,2,2,2,2,2,2,2,2,2,2,2,2,2,2,2,2,2,2,2,2,2,2,2,2,2,2,2,2,2,2,2,2,2,2,2,2,2,2,2,2,2,2,2,2,2,2,2,2,2,2,2,2,2,2,2,2,2,2,2,2,2,2,2,2,2,2,2,2,2,2,2,2,2,2,2,2,2,2,2,2,2,2,2,2,2,2,2,2,2,2,2,2,2,2,2,2,2,2,2,2,2,2,2,2,2,2,2,2,2,2,2,2,2,2,2,2,2,2,2,2,2,2,2,2,2,2,2,2,2,2,2,2,2,2,2,2,2,2,2,2,2,2,2,2,2,2,2,2,2,2,2,2,2,2,2,2,2,2,2,2,2,2,2,2,2,2,2,2,2,2,2,2,2,2,2,2,2,2,2,2,2,2,2,2,2,2,2,2,2,2,2,2,2,2,2,2,2,2,2,2,2,2,2,2,2,2,2,2,2,2,2,2,2,2,2,2,2,2,2,2,2,2,2,2,2,2,2,2,2,2,2,2,2,2,2,2,2,2,2,2,2,2,2,2,2,2,2,2,2,2,2,2,2,2,2,2,2,2,2,2,2,2,2,2,2,2,2,2,2,2,2,2,2,2,2,2,2,2,2,2,2,2,2,2,2,2,2,2,2,2,2,2,2,2,2,2,2,2,2,2,2,2,2,2,2,2,2,2,2,2,2,2,2,2,2,2,2,2,2,2,2,2,2,2,2,2,2,2,2,2,2,2,2,2,2,2,2,2,2,2,2,2,2,2,2,2,2,2,2,2,2,2,2,2,2,2,2,2,2,2,2,2,2,2,2,2,2,2,2,2,2,2,2,2,2,2,2,2,2,2,2,2,2,2,2,2,2,2,2,2,2,2,2,2,2,2,2,2,2,2,2,2,2,2,2,2,2,2,2,2,2,2,2,2,2,2,2,2,2,2,2,2,2,2,2,2,2,2,2,2,2,2,2,2,2,2,2,2,2,2,2,2,2,2,2,2,2,2,2,2,2,2,2,2,2,2,2,2,2,2,2,2,2,2,2,2,2,2,2,2,2,2,2,2,2,2,2,2,2,2,2,2,2,2,2,2,2,2,2,2,2,2,2,2,2,2,2,2,2,2,2,2,2,2,2,2,2,2,2,2,2,2,2,2,2,2,2,2,2,2,2,2,2,2,2,2,2,2,2,2,2,2,2,2,2,2,2,2,2,2,2,2,2,2,2,2,2,2,2,2,2,2,2,2,2,2,2,2,2,2,2,2,2,2,2,2,2,2,2,2,2,2,2,2,2,2,2,2,2,2,2,2,2,2,2,2,2,2,2,2,2,2,2,2,2,2,2,2,2,2,2,2,2,2,2,2,2,2,2,2,2,2,2,2,2,2,2,2,2,2,2,2,2,2,2,2,2,2,2,2,2,2,2,2,2,2,2,2,2,2,2,2,2,2,2,2,2,2,2,2,2,2,2,2,2,2,2,2,2,2,2,2,2,2,2,2,2,2,2,2,2,2,2,2,2,2,2,2,2,2,2,2,2,2,2,2,2,2,2,2,2,2,2,2,2,2,2,2,2,2,2,2,2,2,2,2,2,2,2,2,2,2,2,2,2,2,2,2,2,2,2,2,2,2,2,2,2,2,2,2,2,2,2,2,2,2,2,2,2,2,2,2,2,2,2,2,2,2,2,2,2,2,2,2,2,2,2,2,2,2,2,2,2,2,2,2,2,2,2,2,2,2,2,2,2,2,2,2,2,2,2,2,2,2,2,2,2,2,2,2,2,2,2,2,2,2,2,2,2,2,2,2,2,2,2,2,2,2,2,2,2,2,2,2,2,2,2,2,2,2,2,2,2,2,2,2,2,2,2,2,2,2,2,2,2,2,2,2,2,2,2,2,2,2,2,2,2,2,2,2,2,2,2,2,2,2,2,2,2,2,2,2,2,2,2,2,2,2,2,2,2,2,2,2,2,2,2,2,2,2,2,2,2,2,2,2,2,2,2,2,2,2,2,2,2,2,2,2,2,2,2,2,2,2,2,2,2,2,2,2,2,2,2,2,2,2,2,2,2,2,2,2,2,2,2,2,2,2,2,2,2,2,2,2,2,2,2,2,2,2,2,2,2,2,2,2,2,2,2,2,2,2,2,2,2,2,2,2,2,2,2,2,2,2,2,2,2,2,2,2,2,2,2,2,2,2,2,2,2,2,2,2,2,2,2,2,2,2,2,2,2,2,2,2,2,2,2,2,2,2,2,2,2,2,2,2,2,2,2,2,2,2,2,2,2,2,2,2,2,2,2,2,2,2,2,2,2,2,2,2,2,2,2,2,2,2,2,2,2,2,2,2,2,2,2,2,2,2,2,2,2,2,2,2,2,2,2,2,2,2,2,2,2,2,2,2,2,2,2,2,2,2,2,2,2,2,2,2,2,2,2,2,2,2,2,2,2,2,2,2,2,2,2,2,2,2,2,2,2,2,2,2,2,2,2,2,2,2,2,2,2,2,2,2,2,2,2,2,2,2,2,2,2,2,2,2,2,2,2,2,2,2,2,2,2,2,2,2,2,2,2,2,2,2,2,2,2,2,2,2,2,2,2,2,2,2,2,2,2,2,2,2,2,2,2,2,2,2,2,2,2,2,2,2,2,2,2,2,2,2,2,2,2,2,2,2,2,2,2,2,2,2,2,2,2,2,2,2,2,2,2,2,2,2,2,2,2,2,2,2,2,2,2,2,2,2,2,2,2,2,2,2,2,2,2,2,2,2,2,2,2,2,2,2,2,2,2,2,2,2,2,2,2,2,2,2,2,2,2,2,2,2,2,2,2,2,2,2,2,2,2,2,2,2,2,2,2,2,2,2,2,2,2,2,2,2,2,2,2,2,2,2,2,2,2,2,2,2,2,2,2,2,2,2,2,2,2,2,2,2,2,2,2,2,2,2,2,2,2,2,2,2,2,2,2,2,2,2,2,2,2,2,2,2,2,2,2,2,2,2,2,2,2,2,2,2,2,2,2,2,2,2,2,2,2,2,2,2,2,2,2,2,2,2,2,2,2,2,2,2,2,2,2,2,2,2,2,2,2,2,2,2,2,2,2,2,2,2,2,2,2,2,2,2,2,2,2,2,2,2,2,2,2,2,2,2,2,2,2,2,2,2,2,2,2,2,2,2,2,2,2,2,2,2,2,2,2,2,2,2,2,2,2,2,2,2,2,2,2,2,2,2,2,2,2,2,2,2,2,2,2,2,2,2,2,2,2,2,2,2,2,2,2,2,2,2,2,2,2,2,2,2,2,2,2,2,2,2,2,2,2,2,2,2,2,2,2,2,2,2,2,2,2,2,2,2,2,2,2,2,2,2,2,2,2,2,2,2,2,2,2,2,2,2,2,2,2,2,2,2,2,2,2,2,2,2,2,2,2,2,2,2,2,2,2,2,2,2,2,2,2,2,2,2,2,2,2,2,2,2,2,2,2,2,2,2,2,2,2,2,2,2,2,2,2,2,2,2,2,2,2,2,2,2,2,2,2,2,2,2,2,2,2,2,2,2,2,2,2,2,2,2,2,2,2,2,2,2,2,2,2,2,2,2,2,2,2,2,2,2,2,2,2,2,2,2,2,2,2,2,2,2,2,2,2,2,2,2,2,2,2,2,2,2,2,2,2,2,2,2,2,2,2,2,2,2,2,2,2,2,2,2,2,2,2,2,2,2,2,2,2,2,2,2,2,2,2,2,2,2,2,2,2,2,2,2,2,2,2,2,2,2,2,2,2,2,2,2,2,2,2,2,2,2,2,2,2,2,2,2,2,2,2,2,2,2,2,2,2,2,2,2,2,2,2,2,2,2,2,2,2,2,2,2,2,2,2,2,2,2,2,2,2,2,2,2,2,2,2,2,2,2,2,2,2,2,2,2,2,2,2,2,2,2,2,2,2,2,2,2,2,2,2,2,2,2,2,2,2,2,2,2,2,2,2,2,2,2,2,2,2,2,2,2,2,2,2,2,2,2,2,2,2,2,2,2,2,2,2,2,2,2,2,2,2,2,2,2,2,2,2,2,2,2,2,2,2,2,2,2,2,2,2,2,2,2,2,2,2,2,2,2,2,2,2,2,2,2,2,2,2,2,2,2,2,2,2,2,2,2,2,2,2,2,2,2,2,2,2,2,2,2,2,2,2,2,2,2,2,2,2,2,2,2,2,2,2,2,2,2,2,2,2,2,2,2,2,2,2,2,2,2,2,2,2,2,2,2,2,2,2,2,2,2,2,2,2,2,2,2,2,2,2,2,2,2,2,2,2,2,2,2,2,2,2,2,2,2,2,2,2,2,2,2,2,2,2,2,2,2,2,2,2,2,2,2,2,2,2,2,2,2,2,2,2,2,2,2,2,2,2,2,2,2,2,2,2,2,2,2,2,2,2,2,2,2,2,2,2,2,2,2,2,2,2,2,2,2,2,2,2,2,2,2,2,2,2,2,2,2,2,2,2,2,2,2,2,2,2,2,2,2,2,2,2,2,2,2,2,2,2,2,2,2,2,2,2,2,2,2,2,2,2,2,2,2,2,2,2,2,2,2,2,2,2,2,2,2,2,2,2,2,2,2,2,2,2,2,2,2,2,2,2,2,2,2,2,2,2,2,2,2,2,2,2,2,2,2,2,2,2,2,2,2,2,2,2,2,2,2,2,2,2,2,2,2,2,2,2,2,2,2,2,2,2,2,2,2,2,2,2,2,2,2,2,2,2,2,2,2,2,2,2,2,2,2,2,2,2,2,2,2,2,2,2,2,2,2,2,2,2,2,2,2,2,2,2,2,2,2,2,2,2,2,2,2,2,2,2,2,2,2,2,2,2,2,2,2,2,2,2,2,2,2,2,2,2,2,2,2,2,2,2,2,2,2,2,2,2,2,2,2,2,2,2,2,2,2,2,2,2,2,2,2,2,2,2,2,2,2,2,2,2,2,2,2,2,2,2,2,2,2,2,2,2,2,2,2,2,2,2,2,2,2,2,2,2,2,2,2,2,2,2,2,2,2,2,2,2,2,2,2,2,2,2,2,2,2,2,2,2,2,2,2,2,2,2,2,2,2,2,2,2,2,2,2,2,2,2,2,2,2,2,2,2,2,2,2,2,2,2,2,2,2,2,2,2,2,2,2,2,2,2,2,2,2,2,2,2,2,2,2,2,2,2,2,2,2,2,2,2,2,2,2,2,2,2,2,2,2,2,2,2,2,2,2,2,2,2,2,2,2,2,2,2,2,2,2,2,2,2,2,2,2,2,2,2,2,2,2,2,2,2,2,2,2,2,2,2,2,2,2,2,2,2,2,2,2,2,2,2,2,2,2,2,2,2,2,2,2,2,2,2,2,2,2,2,2,2,2,2,2,2,2,2,2,2,2,2,2,2,2,2,2,2,2,2,2,2,2,2,2,2,2,2,2,2,2,2,2,2,2,2,2,2,2,2,2,2,2,2,2,2,2,2,2,2,2,2,2,2,2,2,2,2,2,2,2,2,2,2,2,2,2,2,2,2,2,2,2,2,2,2,2,2,2,2,2,2,2,2,2,2,2,2,2,2,2,2,2,2,2,2,2,2,2,2,2,2,2,2,2,2,2,2,2,2,2,2,2,2,2,2,2,2,2,2,2,2,2,2,2,2,2,2,2,2,2,2,2,2,2,2,2,2,2,2,2,2,2,2,2,2,2,2,2,2,2,2,2,2,2,2,2,2,2,2,2,2,2,2,2,2,2,2,2,2,2,2,2,2,2,2,2,2,2,2,2,2,2,2,2,2,2,2,2,2,2,2,2,2,2,2,2,2,2,2,2,2,2,2,2,2,2,2,2,2,2,2,2,2,2,2,2,2,2,2,2,2,2,2,2,2,2,2,2,2,2,2,2,2,2,2,2,2,2,2,2,2,2,2,2,2,2,2,2,2,2,2,2,2,2,2,2,2,2,2,2,2,2,2,2,2,2,2,2,2,2,2,2,2,2,2,2,2,2,2,2,2,2,2,2,2,2,2,2,2,2,2,2,2,2,2,2,2,2,2,2,2,2,2,2,2,2,2,2,2,2,2,2,2,2,2,2,2,2,2,2,2,2,2,2,2,2,2,2,2,2,2,2,2,2,2,2,2,2,2,2,2,2,2,2,2,2,2,2,2,2,2,2,2,2,2,2,2,2,2,2,2,2,2,2,2,2,2,2,2,2,2,2,2,2,2,2,2,2,2,2,2,2,2,2,2,2,2,2,2,2,2,2,2,2,2,2,2,2,2,2,2,2,2,2,2,2,2,2,2,2,2,2,2,2,2,2,2,2,2,2,2,2,2,2,2,2,2,2,2,2,2,2,2,2,2,2,2,2,2,2,2,2,2,2,2,2,2,2,2,2,2,2,2,2,2,2,2,2,2,2,2,2,2,2,2,2,2,2,2,2,2,2,2,2,2,2,2,2,2,2,2,2,2,2,2,2,2,2,2,2,2,2,2,2,2,2,2,2,2,2,2,2,2,2,2,2,2,2,2,2,2,2,2,2,2,2,2,2,2,2,2,2,2,2,2,2,2,2,2,2,2,2,2,2,2,2,2,2,2,2,2,2,2,2,2,2,2,2,2,2,2,2,2,2,2,2,2,2,2,2,2,2,2,2,2,2,2,2,2,2,2,2,2,2,2,2,2,2,2,2,2,2,2,2,2,2,2,2,2,2,2,2,2,2,2,2,2,2,2,2,2,2,2,2,2,2,2,2,2,2,2,2,2,2,2,2,2,2,2,2,2,2,2,2,2,2,2,2,2,2,2,2,2,2,2,2,2,2,2,2,2,2,2,2,2,2,2,2,2,2,2,2,2,2,2,2,2,2,2,2,2,2,2,2,2,2,2,2,2,2,2,2,2,2,2,2,2,2,2,2,2,2,2,2,2,2,2,2,2,2,2,2,2,2,2,2,2,2,2,2,2,2,2,2,2,2,2,2,2,2,2,2,2,2,2,2,2,2,2,2,2,2,2,2,2,2,2,2,2,2,2,2,2,2,2,2,2,2,2,2,2,2,2,2,2,2,2,2,2,2,2,2,2,2,2,2,2,2,2,2,2,2,2,2,2,2,2,2,2,2,2,2,2,2,2,2,2,2,2,2,2,2,2,2,2,2,2,2,2,2,2,2,2,2,2,2,2,2,2,2,2,2,2,2,2,2,2,2,2,2,2,2,2,2,2,2,2,2,2,2,2,2,2,2,2,2,2,2,2,2,2,2,2,2,2,2,2,2,2,2,2,2,2,2,2,2,2,2,2,2,2,2,2,2,2,2,2,2,2,2,2,2,2,2,2,2,2,2,2,2,2,2,2,2,2,2,2,2,2,2,2,2,2,2,2,2,2,2,2,2,2,2,2,2,2,2,2,2,2,2,2,2,2,2,2,2,2,2,2,2,2,2,2,2,2,2,2,2,2,2,2,2,2,2,2,2,2,2,2,2,2,2,2,2,2,2,2,2,2,2,2,2,2,2,2,2,2,2,2,2,2,2,2,2,2,2,2,2,2,2,2,2,2,2,2,2,2,2,2,2,2,2,2,2,2,2,2,2,2,2,2,2,2,2,2,2,2,2,2,2,2,2,2,2,2,2,2,2,2,2,2,2,2,2,2,2,2,2,2,2,2,2,2,2,2,2,2,2,2,2,2,2,2,2,2,2,2,2,2,2,2,2,2,2,2,2,2,2,2,2,2,2,2,2,2,2,2,2,2,2,2,2,2,2,2,2,2,2,2,2,2,2,2,2,2,2,2,2,2,2,2,2,2,2,2,2,2,2,2,2,2,2,2,2,2,2,2,2,2,2,2,2,2,2,2,2,2,2,2,2,2,2,2,2,2,2,2,2,2,2,2,2,2,2,2,2,2,2,2,2,2,2,2,2,2,2,2,2,2,2,2,2,2,2,2,2,2,2,2,2,2,2,2,2,2,2,2,2,2,2,2,2,2,2,2,2,2,2,2,2,2,2,2,2,2,2,2,2,2,2,2,2,2,2,2,2,2,2,2,2,2,2,2,2,2,2,2,2,2,2,2,2,2,2,2,2,2,2,2,2,2,2,2,2,2,2,2,2,2,2,2,2,2,2,2,2,2,2,2,2,2,2,2,2,2,2,2,2,2,2,2,2,2,2,2,2,2,2,2,2,2,2,2,2,2,2,2,2,2,2,2,2,2,2,2,2,2,2,2,2,2,2,2,2,2,2,2,2,2,2,2,2,2,2,2,2,2,2,2,2,2,2,2,2,2,2,2,2,2,2,2,2,2,2,2,2,2,2,2,2,2,2,2,2,2,2,2,2,2,2,2,2,2,2,2,2,2,2,2,2,2,2,2,2,2,2,2,2,2,2,2,2,2,2,2,2,2,2,2,2,2,2,2,2,2,2,2,2,2,2,2,2,2,2,2,2,2,2,2,2,2,2,2,2,2,2,2,2,2,2,2,2,2,2,2,2,2,2,2,2,2,2,2,2,2,2,2,2,2,2,2,2,2,2,2,2,2,2,2,2,2,2,2,2,2,2,2,2,2,2,2,2,2,2,2,2,2,2,2,2,2,2,2,2,2,2,2,2,2,2,2,2,2,2,2,2,2,2,2,2,2,2,2,2,2,2,2,2,2,2,2,2,2,2,2,2,2,2,2,2,2,2,2,2,2,2,2,2,2,2,2,2,2,2,2,2,2,2,2,2,2,2,2,2,2,2,2,2,2,2,2,2,2,2,2,2,2,2,2,2,2,2,2,2,2,2,2,2,2,2,2,2,2,2,2,2,2,2,2,2,2,2,2,2,2,2,2,2,2,2,2,2,2,2,2,2,2,2,2,2,2,2,2,2,2,2,2,2,2,2,2,2,2,2,2,2,2,2,2,2,2,2,2,2,2,2,2,2,2,2,2,2,2,2,2,2,2,2,2,2,2,2,2,2,2,2,2,2,2,2,2,2,2,2,2,2,2,2,2,2,2,2,2,2,2,2,2,2,2,2,2,2,2,2,2,2,2,2,2,2,2,2,2,2,2,2,2,2,2,2,2,2,2,2,2,2,2,2,2,2,2,2,2,2,2,2,2,2,2,2,2,2,2,2,2,2,2,2,2,2,2,2,2,2,2,2,2,2,2,2,2,2,2,2,2,2,2,2,2,2,2,2,2,2,2,2,2,2,2,2,2,2,2,2,2,2,2,2,2,2,2,2,2,2,2,2,2,2,2,2,2,2,2,2,2,2,2,2,2,2,2,2,2,2,2,2,2,2,2,2,2,2,2,2,2,2,2,2,2,2,2,2,2,2,2,2,2,2,2,2,2,2,2,2,2,2,2,2,2,2,2,2,2,2,2,2,2,2,2,2,2,2,2,2,2,2,2,2,2,2,2,2,2,2,2,2,2,2,2,2,2,2,2,2,2,2,2,2,2,2,2,2,2,2,2,2,2,2,2,2,2,2,2,2,2,2,2,2,2,2,2,2,2,2,2,2,2,2,2,2,2,2,2,2,2,2,2,2,2,2,2,2,2,2,2,2,2,2,2,2,2,2,2,2,2,2,2,2,2,2,2,2,2,2,2,2,2,2,2,2,2,2,2,2,2,2,2,2,2,2,2,2,2,2,2,2,2,2,2,2,2,2,2,2,2,2,2,2,2,2,2,2,2,2,2,2,2,2,2,2,2,2,2,2,2,2,2,2,2,2,2,2,2,2,2,2,2,2,2,2,2,2,2,2,2,2,2,2,2,2,2,2,2,2,2,2,2,2,2,2,2,2,2,2,2,2,2,2,2,2,2,2,2,2,2,2,2,2,2,2,2,2,2,2,2,2,2,2,2,2,2,2,2,2,2,2,2,2,2,2,2,2,2,2,2,2,2,2,2,2,2,2,2,2,2,2,2,2,2,2,2,2,2,2,2,2,2,2,2,2,2,2,2,2,2,2,2,2,2,2,2,2,2,2,2,2,2,2,2,2,2,2,2,2,2,2,2,2,2,2,2,2,2,2,2,2,2,2,2,2,2,2,2,2,2,2,2,2,2,2,2,2,2,2,2,2,2,2,2,2,2,2,2,2,2,2,2,2,2,2,2,2,2,2,2,2,2,2,2,2,2,2,2,2,2,2,2,2,2,2,2,2,2,2,2,2,2,2,2,2,2,2,2,2,2,2,2,2,2,2,2,2,2,2,2,2,2,2,2,2,2,2,2,2,2,2,2,2,2,2,2,2,2,2,2,2,2,2,2,2,2,2,2,2,2,2,2,2,2,2,2,2,2,2,2,2,2,2,2,2,2,2,2,2,2,2,2,2,2,2,2,2,2,2,2,2,2,2,2,2,2,2,2,2,2,2,2,2,2,2,2,2,2,2,2,2,2,2,2,2,2,2,2,2,2,2,2,2,2,2,2,2,2,2,2,2,2,2,2,2,2,2,2,2,2,2,2,2,2,2,2,2,2,2,2,2,2,2,2,2,2,2,2,2,2,2,2,2,2,2,2,2,2,2,2,2,2,2,2,2,2,2,2,2,2,2,2,2,2,2,2,2,2,2,2,2,2,2,2,2,2,2,2,2,2,2,2,2,2,2,2,2,2,2,2,2,2,2,2,2,2,2,2,2,2,2,2,2,2,2,2,2,2,2,2,2,2,2,2,2,2,2,2,2,2,2,2,2,2,2,2,2,2,2,2,2,2,2,2,2,2,2,2,2,2,2,2,2,2,2,2,2,2,2,2,2,2,2,2,2,2,2,2,2,2,2,2,2,2,2,2,2,2,2,2,2,2,2,2,2,2,2,2,2,2,2,2,2,2,2,2,2,2,2,2,2,2,2,2,2,2,2,2,2,2,2,2,2,2,2,2,2,2,2,2,2,2,2,2,2,2,2,2,2,2,2,2,2,2,2,2,2,2,2,2,2,2,2,2,2,2,2,2,2,2,2,2,2,2,2,2,2,2,2,2,2,2,2,2,2,2,2,2,2,2,2,2,2,2,2,2,2,2,2,2,2,2,2,2,2,2,2,2,2,2,2,2,2,2,2,2,2,2,2,2,2,2,2,2,2,2,2,2,2,2,2,2,2,2,2,2,2,2,2,2,2,2,2,2,2,2,2,2,2,2,2,2,2,2,2,2,2,2,2,2,2,2,2,2,2,2,2,2,2,2,2,2,2,2,2,2,2,2,2,2,2,2,2,2,2,2,2,2,2,2,2,2,2,2,2,2,2,2,2,2,2,2,2,2,2,2,2,2,2,2,2,2,2,2,2,2,2,2,2,2,2,2,2,2,2,2,2,2,2,2,2,2,2,2,2,2,2,2,2,2,2,2,2,2,2,2,2,2,2,2,2,2,2,2,2,2,2,2,2,2,2,2,2,2,2,2,2,2,2,2,2,2,2,2,2,2,2,2,2,2,2,2,2,2,2,2,2,2,2,2,2,2,2,2,2,2,2,2,2,2,2,2,2,2,2,2,2,2,2,2,2,2,2,2,2,2,2,2,2,2,2,2,2,2,2,2,2,2,2,2,2,2,2,2,2,2,2,2,2,2,2,2,2,2,2,2,2,2,2,2,2,2,2,2,2,2,2,2,2,2,2,2,2,2,2,2,2,2,2,2,2,2,2,2,2,2,2,2,2,2,2,2,2,2,2,2,2,2,2,2,2,2,2,2,2,2,2,2,2,2,2,2,2,2,2,2,2,2,2,2,2,2,2,2,2,2,2,2,2,2,2,2,2,2,2,2,2,2,2,2,2,2,2,2,2,2,2,2,2,2,2,2,2,2,2,2,2,2,2,2,2,2,2,2,2,2,2,2,2,2,2,2,2,2,2,2,2,2,2,2,2,2,2,2,2,2,2,2,2,2,2,2,2,2,2,2,2,2,2,2,2,2,2,2,2,2,2,2,2,2,2,2,2,2,2,2,2,2,2,2,2,2,2,2,2,2,2,2,2,2,2,2,2,2,2,2,2,2,2,2,2,2,2,2,2,2,2,2,2,2,2,2,2,2,2,2,2,2,2,2,2,2,2,2,2,2,2,2,2,2,2,2,2,2,2,2,2,2,2,2,2,2,2,2,2,2,2,2,2,2,2,2,2,2,2,2,2,2,2,2,2,2,2,2,2,2,2,2,2,2,2,2,2,2,2,2,2,2,2,2,2,2,2,2,2,2,2,2,2,2,2,2,2,2,2,2,2,2,2,2,2,2,2,2,2,2,2,2,2,2,2,2,2,2,2,2,2,2,2,2,2,2,2,2,2,2,2,2,2,2,2,2,2,2,2,2,2,2,2,2,2,2,2,2,2,2,2,2,2,2,2,2,2,2,2,2,2,2,2,2,2,2,2,2,2,2,2,2,2,2,2,2,2,2,2,2,2,2,2,2,2,2,2,2,2,2,2,2,2,2,2,2,2,2,2,2,2,2,2,2,2,2,2,2,2,2,2,2,2,2,2,2,2,2,2,2,2,2,2,2,2,2,2,2,2,2,2,2,2,2,2,2,2,2,2,2,2,2,2,2,2,2,2,2,2,2,2,2,2,2,2,2,2,2,2,2,2,2,2,2,2,2,2,2,2,2,2,2,2,2,2,2,2,2,2,2,2,2,2,2,2,2,2,2,2,2,2,2,2,2,2,2,2,2,2,2,2,2,2,2,2,2,2,2,2,2,2,2,2,2,2,2,2,2,2,2,2,2,2,2,2,2,2,2,2,2,2,2,2,2,2,2,2,2,2,2,2,2,2,2,2,2,2,2,2,2,2,2,2,2,2,2,2,2,2,2,2,2,2,2,2,2,2,2,2,2,2,2,2,2,2,2,2,2,2,2,2,2,2,2,2,2,2,2,2,2,2,2,2,2,2,2,2,2,2,2,2,2,2,2,2,2,2,2,2,2,2,2,2,2,2,2,2,2,2,2,2,2,2,2,2,2,2,2,2,2,2,2,2,2,2,2,2,2,2,2,2,2,2,2,2,2,2,2,2,2,2,2,2,2,2,2,2,2,2,2,2,2,2,2,2,2,2,2,2,2,2,2,2,2,2,2,2,2,2,2,2,2,2,2,2,2,2,2,2,2,2,2,2,2,2,2,2,2,2,2,2,2,2,2,2,2,2,2,2,2,2,2,2,2,2,2,2,2,2,2,2,2,2,2,2,2,2,2,2,2,2,2,2,2,2,2,2,2,2,2,2,2,2,2,2,2,2,2,2,2,2,2,2,2,2,2,2,2,2,2,2,2,2,2,2,2,2,2,2,2,2,2,2,2,2,2,2,2,2,2,2,2,2,2,2,2,2,2,2,2,2,2,2,2,2,2,2,2,2,2,2,2,2,2,2,2,2,2,2,2,2,2,2,2,2,2,2,2,2,2,2,2,2,2,2,2,2,2,2,2,2,2,2,2,2,2,2,2,2,2,2,2,2,2,2,2,2,2,2,2,2,2,2,2,2,2,2,2,2,2,2,2,2,2,2,2,2,2,2,2,2,2,2,2,2,2,2,2,2,2,2,2,2,2,2,2,2,2,2,2,2,2,2,2,2,2,2,2,2,2,2,2,2,2,2,2,2,2,2,2,2,2,2,2,2,2,2,2,2,2,2,2,2,2,2,2,2,2,2,2,2,2,2,2,2,2,2,2,2,2,2,2,2,2,2,2,2,2,2,2,2,2,2,2,2,2,2,2,2,2,2,2,2,2,2,2,2,2,2,2,2,2,2,2,2,2,2,2,2,2,2,2,2,2,2,2,2,2,2,2,2,2,2,2,2,2,2,2,2,2,2,2,2,2,2,2,2,2,2,2,2,2,2,2,2,2,2,2,2,2,2,2,2,2,2,2,2,2,2,2,2,2,2,2,2,2,2,2,2,2,2,2,2,2,2,2,2,2,2,2,2,2,2,2,2,2,2,2,2,2,2,2,2,2,2,2,2,2,2,2,2,2,2,2,2,2,2,2,2,2,2,2,2]

{"sheet":"３回目ボタン入力","index":13,"n_rows":61,"n_cols":24,"rows_kept":61,"cut":false,"hidden":false,"merged":[[0,2,24,21]]}
[{"$f":"B1","v":1},1,1]
[{"$f":"IF(B2=5,0,B2)","v":3},3,null,null,null,null,null,null,null,null,null,null,null,null,null,null,null,null,null,null,null,null,null,1]
[{"$f":"IF(B3=5,0,B3)","v":3},3,null,null,null,null,null,null,null,null,null,null,null,null,null,null,null,null,null,null,null,null,null,2]
[3,3,null,null,null,null,null,null,null,null,null,null,null,null,null,null,null,null,null,null,null,null,null,3]
[3,3,null,null,null,null,null,null,null,null,null,null,null,null,null,null,null,null,null,null,null,null,null,4]
[3,3,null,null,null,null,null,null,null,null,null,null,null,null,null,null,null,null,null,null,null,null,null,5]
[{"$f":"IF(B7=1,4,IF(B7=2,3,IF(B7=3,2,IF(B7=4,1,IF(B7=5,0,B7)))))","v":2},3,null,null,null,null,null,null,null,null,null,null,null,null,null,null,null,null,null,null,null,null,null,6]
[{"$f":"IF(B8=1,4,IF(B8=2,3,IF(B8=3,2,IF(B8=4,1,IF(B8=5,0,B8)))))","v":2},3,null,null,null,null,null,null,null,null,null,null,null,null,null,null,null,null,null,null,null,null,null,7]
[{"$f":"IF(B9=1,4,IF(B9=2,3,IF(B9=3,2,IF(B9=4,1,IF(B9=5,0,B9)))))","v":2},3,null,null,null,null,null,null,null,null,null,null,null,null,null,null,null,null,null,null,null,null,null,8]
[3,3,null,null,null,null,null,null,null,null,null,null,null,null,null,null,null,null,null,null,null,null,null,9]
[3,3,null,null,null,null,null,null,null,null,null,null,null,null,null,null,null,null,null,null,null,null,null,10]
[3,3,null,null,null,null,null,null,null,null,null,null,null,null,null,null,null,null,null,null,null,null,null,11]
[3,3,null,null,null,null,null,null,null,null,null,null,null,null,null,null,null,null,null,null,null,null,null,12]
[3,3,null,null,null,null,null,null,null,null,null,null,null,null,null,null,null,null,null,null,null,null,null,13]
[{"$f":"IF(B15=1,4,IF(B15=2,3,IF(B15=3,2,IF(B15=4,1,IF(B15=5,0,B15)))))","v":2},3,null,null,null,null,null,null,null,null,null,null,null,null,null,null,null,null,null,null,null,null,null,14]
[3,3,null,null,null,null,null,null,null,null,null,null,null,null,null,null,null,null,null,null,null,null,null,15]
[3,3,null,null,null,null,null,null,null,null,null,null,null,null,null,null,null,null,null,null,null,null,null,16]
[3,3,null,null,null,null,null,null,null,null,null,null,null,null,null,null,null,null,null,null,null,null,null,17]
[3,3,null,null,null,null,null,null,null,null,null,null,null,null,null,null,null,null,null,null,null,null,null,18]
[3,3,null,null,null,null,null,null,null,null,null,null,null,null,null,null,null,null,null,null,null,null,null,19]
[{"$f":"IF(B21=1,4,IF(B21=2,3,IF(B21=3,2,IF(B21=4,1,IF(B21=5,0,B21)))))","v":2},3,null,null,null,null,null,null,null,null,null,null,null,null,null,null,null,null,null,null,null,null,null,20]
[3,3,null,null,null,null,null,null,null,null,null,null,null,null,null,null,null,null,null,null,null,null,null,21]
[3,3,null,null,null,null,null,null,null,null,null,null,null,null,null,null,null,null,null,null,null,null,null,22]
[3,3,null,null,null,null,null,null,null,null,null,null,null,null,null,null,null,null,null,null,null,null,null,23]
[3,3,null,null,null,null,null,null,null,null,null,null,null,null,null,null,null,null,null,null,null,null,null,24]
[3,3,null,null,null,null,null,null,null,null,null,null,null,null,null,null,null,null,26,null,null,null,null,25]
[{"$f":"IF(B27=1,4,IF(B27=2,3,IF(B27=3,2,IF(B27=4,1,IF(B27=5,0,B27)))))","v":2},3,null,null,null,null,null,null,null,null,null,null,null,null,null,null,null,null,27,null,null,null,null,26]
[{"$f":"IF(B28=1,4,IF(B28=2,3,IF(B28=3,2,IF(B28=4,1,IF(B28=5,0,B28)))))","v":2},3,null,null,null,null,null,null,null,null,null,null,null,null,null,null,null,null,28,null,null,null,null,27]
[2,3,null,null,null,null,null,null,null,null,null,null,null,null,null,null,null,null,29,null,null,null,null,28]
[null,null,null,null,null,null,null,null,null,null,null,null,null,null,null,null,null,null,30,null,null,null,null,29]
[null,null,null,null,null,null,null,null,null,null,null,null,null,null,null,null,null,null,31,null,null,null,null,30]
[null,null,null,null,null,null,null,null,null,null,null,null,null,null,null,null,null,null,32,null,null,null,null,31]
[null,null,null,null,null,null,null,null,null,null,null,null,null,null,null,null,null,null,33,null,null,null,null,32]
[null,null,null,null,null,null,null,null,null,null,null,null,null,null,null,null,null,null,34,null,null,null,null,33]
[null,null,null,null,null,null,null,null,null,null,null,null,null,null,null,null,null,null,35,null,null,null,null,34]
[null,null,null,null,null,null,null,null,null,null,null,null,null,null,null,null,null,null,36,null,null,null,null,35]
[null,null,null,null,null,null,null,null,null,null,null,null,null,null,null,null,null,null,37,null,null,null,null,36]
[null,null,null,null,null,null,null,null,null,null,null,null,null,null,null,null,null,null,38,null,null,null,null,37]
[null,null,null,null,null,null,null,null,null,null,null,null,null,null,null,null,null,null,39,null,null,null,null,38]
[null,null,null,null,null,null,null,null,null,null,null,null,null,null,null,null,null,null,40,null,null,null,null,39]
[null,null,null,null,null,null,null,null,null,null,null,null,null,null,null,null,null,null,41,null,null,null,null,40]
[null,null,null,null,null,null,null,null,null,null,null,null,null,null,null,null,null,null,42,null,null,null,null,41]
[null,null,null,null,null,null,null,null,null,null,null,null,null,null,null,null,null,null,43,null,null,null,null,42]
[null,null,null,null,null,null,null,null,null,null,null,null,null,null,null,null,null,null,44,null,null,null,null,43]
[null,null,null,null,null,null,null,null,null,null,null,null,null,null,null,null,null,null,45,null,null,null,null,44]
[null,null,null,null,null,null,null,null,null,null,null,null,null,null,null,null,null,null,null,null,null,null,null,45]
[null,null,null,null,null,null,null,null,null,null,null,null,null,null,null,null,null,null,null,null,null,null,null,46]
[null,null,null,null,null,null,null,null,null,null,null,null,null,null,null,null,null,null,null,null,null,null,null,47]
[null,null,null,null,null,null,null,null,null,null,null,null,null,null,null,null,null,null,null,null,null,null,null,48]
[null,null,null,null,null,null,null,null,null,null,null,null,null,null,null,null,null,null,null,null,null,null,null,49]
[null,null,null,null,null,null,null,null,null,null,null,null,null,null,null,null,null,null,null,null,null,null,null,50]
[null,null,null,null,null,null,null,null,null,null,null,null,null,null,null,null,null,null,null,null,null,null,null,51]
[null,null,null,null,null,null,null,null,null,null,null,null,null,null,null,null,null,null,null,null,null,null,null,52]
[null,null,null,null,null,null,null,null,null,null,null,null,null,null,null,null,null,null,null,null,null,null,null,53]
[null,null,null,null,null,null,null,null,null,null,null,null,null,null,null,null,null,null,null,null,null,null,null,54]
[null,null,null,null,null,null,null,null,null,null,null,null,null,null,null,null,null,null,null,null,null,null,null,55]
[null,null,null,null,null,null,null,null,null,null,null,null,null,null,null,null,null,null,null,null,null,null,null,56]
[null,null,null,null,null,null,null,null,null,null,null,null,null,null,null,null,null,null,null,null,null,null,null,57]
[null,null,null,null,null,null,null,null,null,null,null,null,null,null,null,null,null,null,null,null,null,null,null,58]
[null,null,null,null,null,null,null,null,null,null,null,null,null,null,null,null,null,null,null,null,null,null,null,59]
[null,null,null,null,null,null,null,null,null,null,null,null,null,null,null,null,null,null,null,null,null,null,null,60]

{"sheet":"３回目ボタン出力","index":14,"n_rows":2,"n_cols":29,"rows_kept":2,"cut":false,"hidden":false,"merged":[]}
[null,"３回目出力表"]
["出席番号","（1）","（2）","（3）","（4）","（5）","（6）","（7）","（8）","（9）","（10）","（11）","（12）","（13）","（14）","（15）","（16）","（17）","（18）","（19）","（20）","（21）","（22）","（23）","（24）","（25）","（26）","（27）","（28）"]

{"sheet":"３回目集計表","index":15,"n_rows":150,"n_cols":45,"rows_kept":150,"cut":false,"hidden":false,"merged":[[144,1,144,2],[145,1,145,2],[146,1,146,2],[147,1,147,2],[78,30,79,30],[78,23,79,23],[78,12,79,12],[78,13,79,13],[78,14,79,14],[78,15,79,15],[78,16,79,16],[78,17,79,17],[77,3,79,3],[77,2,79,2],[140,1,140,2],[141,1,141,2],[142,1,142,2],[143,1,143,2],[78,24,79,24],[78,18,79,18],[78,19,79,19],[78,20,79,20],[78,21,79,21],[78,22,79,22],[77,1,79,1],[77,32,77,37],[78,4,79,4],[78,5,79,5],[78,6,79,6],[78,7,79,7],[78,8,79,8],[78,9,79,9],[78,10,79,10],[78,11,79,11],[78,31,79,31],[78,25,79,25],[78,26,79,26],[78,27,79,27],[78,28,79,28],[78,29,79,29],[68,1,68,2],[69,1,69,2],[70,1,70,2],[71,1,71,2],[72,1,72,2],[65,1,65,2],[66,1,66,2],[3,27,4,27],[3,28,4,28],[3,16,4,16],[2,2,4,2],[2,3,4,3],[2,1,4,1],[67,1,67,2],[3,23,4,23],[3,24,4,24],[3,25,4,25],[3,26,4,26],[3,17,4,17],[3,18,4,18],[3,19,4,19],[3,20,4,20],[3,21,4,21],[3,22,4,22],[3,11,4,11],[3,12,4,12],[3,13,4,13],[3,14,4,14],[3,15,4,15],[2,32,2,37],[3,4,4,4],[3,5,4,5],[3,6,4,6],[3,7,4,7],[3,8,4,8],[3,9,4,9],[3,10,4,10],[3,29,4,29],[3,30,4,30],[3,31,4,31]]}
[null,null,null,1,2,3,4,5,6,7,8,9,10,11,12,13,14,15,16,17,18,19,20,21,22,23,24,25,26,27,28,29,30,31,32,33,34,35,36]
[null,null,null,null,null,null,null,null,null,{"$f":"基礎データ!G3","v":0},"年",null,{"$f":"基礎データ!I3","v":0},"組",null,"「学校楽しぃーと」　　一覧表（３回目）"]
[null,"性別","氏名","出席番号",1,2,3,4,5,6,7,8,9,10,11,12,13,14,15,16,17,18,19,20,21,22,23,24,25,26,27,28,"観　点"]
[null,null,null,null,{"$f":"「学校楽しいーと」個票!E19","v":"学校には，お話ができる友達がいますか。"},{"$f":"「学校楽しいーと」個票!Y19","v":"学校には，自分の心配なことを話せる先生がいますか。"},{"$f":"「学校楽しいーと」個票!Y35","v":"学級の中にいると，楽しい気持ちになりますか。"},{"$f":"「学校楽しいーと」個票!Y27","v":"自分の係の仕事は，みんなの役に立っていると思いますか。"},{"$f":"「学校楽しいーと」個票!E27","v":"授業の時，「できた」，「わかった」と思うことがありますか。"},{"$f":"「学校楽しいーと」個票!E35","v":"悲しい気持ちになることがありますか。"},{"$f":"「学校楽しいーと」個票!E44","v":"友達からものを隠されたり，体を叩かれたりして嫌な気持ちになることがありますか。"},{"$f":"「学校楽しいーと」個票!E48","v":"友達がものを隠されたり，体を叩かれたりしたことを見たり聞いたりしたことがありますか。"},{"$f":"「学校楽しいーと」個票!E21","v":"学級には，一緒にお話をしたり，遊んだりする友達がいますか。"},{"$f":"「学校楽しいーと」個票!Y21","v":"学校には，自分の気持ちを分かってくれる先生がいますか。"},{"$f":"「学校楽しいーと」個票!Y37","v":"学級のみんなと一緒にいるのは，楽しいですか。"},{"$f":"「学校楽しいーと」個票!Y29","v":"授業や給食当番で「自分は，よく頑張ったなあ」と思うことがありますか。"},{"$f":"「学校楽しいーと」個票!E29","v":"授業の時，先生のお話をよく聞いていますか。"},{"$f":"「学校楽しいーと」個票!E37","v":"お腹が痛くなるときがありますか。"},{"$f":"「学校楽しいーと」個票!E23","v":"学校には，自分の気持ちを話せる友達がいますか。"},{"$f":"「学校楽しいーと」個票!Y23","v":"学校には，間違いや失敗をしても，きちんと理由を聞いてくれる先生がいますか。"},{"$f":"「学校楽しいーと」個票!Y39","v":"自分は，この学級でよかったと思いますか。"},{"$f":"「学校楽しいーと」個票!Y31","v":"自分には，自分のいいところがあると思いますか。"},{"$f":"「学校楽しいーと」個票!E31","v":"授業の時，よく発表していますか。"},{"$f":"「学校楽しいーと」個票!E39","v":"頭が痛くなるときがありますか。"},{"$f":"「学校楽しいーと」個票!E25","v":"自分が困っているときに，お手伝いをしてくれる友達がいますか。"},{"$f":"「学校楽しいーと」個票!Y25","v":"学校の先生は，ひいきをせずにみんなと同じようにあなたにお話をしてくれますか。"},{"$f":"「学校楽しいーと」個票!Y41","v":"学級では，安心して過ごすことができますか。"},{"$f":"「学校楽しいーと」個票!Y33","v":"他の人から好かれていると思いますか。"},{"$f":"「学校楽しいーと」個票!E33","v":"授業で習ったことができるようになろうと頑張っていますか。"},{"$f":"「学校楽しいーと」個票!E41","v":"気分が悪くなることがありますか。"},{"$f":"「学校楽しいーと」個票!E46","v":"友達から悪口を言われたり，無視をされたりして嫌な気持ちになることがありますか。"},{"$f":"「学校楽しいーと」個票!E50","v":"友達が悪口を言われたり，無視をされたりしたことを見たり聞いたりしたことがありますか。"},"友達との関係","教師との関係","学習意欲","自己肯定感","心身の状態","学級集団における適応感","いじめ"]
[null,null,null,null,null,null,null,null,null,null,null,null,null,null,null,null,null,null,null,null,null,null,null,null,null,null,null,null,null,null,null,null,null,null,null,null,null,null,null,null,null,4,3,2,1]
[null,{"$f":"IF(D6=0,\"\",VLOOKUP(D6,基礎データ!$B$5:$D$64,3))","v":""},{"$f":"IF(D6=0,\"\",VLOOKUP(D6,基礎データ!$B$5:$D$64,2))","v":""},0,0,0,0,0,0,0,0,0,0,0,0,0,0,0,0,0,0,0,0,0,0,0,0,0,0,0,0,0,{"$f":"E6+M6+S6+Y6","v":0},{"$f":"F6+N6+T6+Z6","v":0},{"$f":"I6+Q6+W6+AC6","v":0},{"$f":"H6+P6+V6+AB6","v":0},{"$f":"J6+R6+X6+AD6","v":0},{"$f":"G6+O6+U6+AA6","v":0},{"$f":"AE6+L6+K6+AF6","v":0},null,null,{"$f":"COUNTIF(E6:AF6,4)","v":0},{"$f":"COUNTIF(E6:AF6,3)","v":0},{"$f":"COUNTIF(E6:AF6,2)","v":0},{"$f":"COUNTIF(E6:AF6,1)","v":0}]
[null,{"$f":"IF(D7=0,\"\",VLOOKUP(D7,基礎データ!$B$5:$D$64,3))","v":""},{"$f":"IF(D7=0,\"\",VLOOKUP(D7,基礎データ!$B$5:$D$64,2))","v":""},0,0,0,0,0,0,0,0,0,0,0,0,0,0,0,0,0,0,0,0,0,0,0,0,0,0,0,0,0,0,0,0,0,0,0,0,null,null,{"$f":"COUNTIF(E7:AF7,4)","v":0},{"$f":"COUNTIF(E7:AF7,3)","v":0},{"$f":"COUNTIF(E7:AF7,2)","v":0},{"$f":"COUNTIF(E7:AF7,1)","v":0}]
[null,{"$f":"IF(D8=0,\"\",VLOOKUP(D8,基礎データ!$B$5:$D$64,3))","v":""},{"$f":"IF(D8=0,\"\",VLOOKUP(D8,基礎データ!$B$5:$D$64,2))","v":""},0,0,0,0,0,0,0,0,0,0,0,0,0,0,0,0,0,0,0,0,0,0,0,0,0,0,0,0,0,0,0,0,0,0,0,0,null,null,0,0,0,0]
[null,{"$f":"IF(D9=0,\"\",VLOOKUP(D9,基礎データ!$B$5:$D$64,3))","v":""},{"$f":"IF(D9=0,\"\",VLOOKUP(D9,基礎データ!$B$5:$D$64,2))","v":""},0,0,0,0,0,0,0,0,0,0,0,0,0,0,0,0,0,0,0,0,0,0,0,0,0,0,0,0,0,0,0,0,0,0,0,0,null,null,0,0,0,0]
[null,{"$f":"IF(D10=0,\"\",VLOOKUP(D10,基礎データ!$B$5:$D$64,3))","v":""},{"$f":"IF(D10=0,\"\",VLOOKUP(D10,基礎データ!$B$5:$D$64,2))","v":""},0,0,0,0,0,0,0,0,0,0,0,0,0,0,0,0,0,0,0,0,0,0,0,0,0,0,0,0,0,0,0,0,0,0,0,0,null,null,0,0,0,0]
[null,{"$f":"IF(D11=0,\"\",VLOOKUP(D11,基礎データ!$B$5:$D$64,3))","v":""},{"$f":"IF(D11=0,\"\",VLOOKUP(D11,基礎データ!$B$5:$D$64,2))","v":""},0,0,0,0,0,0,0,0,0,0,0,0,0,0,0,0,0,0,0,0,0,0,0,0,0,0,0,0,0,0,0,0,0,0,0,0,null,null,0,0,0,0]
[null,{"$f":"IF(D12=0,\"\",VLOOKUP(D12,基礎データ!$B$5:$D$64,3))","v":""},{"$f":"IF(D12=0,\"\",VLOOKUP(D12,基礎データ!$B$5:$D$64,2))","v":""},0,0,0,0,0,0,0,0,0,0,0,0,0,0,0,0,0,0,0,0,0,0,0,0,0,0,0,0,0,0,0,0,0,0,0,0,null,null,0,0,0,0]
[null,{"$f":"IF(D13=0,\"\",VLOOKUP(D13,基礎データ!$B$5:$D$64,3))","v":""},{"$f":"IF(D13=0,\"\",VLOOKUP(D13,基礎データ!$B$5:$D$64,2))","v":""},0,0,0,0,0,0,0,0,0,0,0,0,0,0,0,0,0,0,0,0,0,0,0,0,0,0,0,0,0,0,0,0,0,0,0,0,null,null,0,0,0,0]
[null,{"$f":"IF(D14=0,\"\",VLOOKUP(D14,基礎データ!$B$5:$D$64,3))","v":""},{"$f":"IF(D14=0,\"\",VLOOKUP(D14,基礎データ!$B$5:$D$64,2))","v":""},0,0,0,0,0,0,0,0,0,0,0,0,0,0,0,0,0,0,0,0,0,0,0,0,0,0,0,0,0,0,0,0,0,0,0,0,null,null,0,0,0,0]
[null,{"$f":"IF(D15=0,\"\",VLOOKUP(D15,基礎データ!$B$5:$D$64,3))","v":""},{"$f":"IF(D15=0,\"\",VLOOKUP(D15,基礎データ!$B$5:$D$64,2))","v":""},0,0,0,0,0,0,0,0,0,0,0,0,0,0,0,0,0,0,0,0,0,0,0,0,0,0,0,0,0,0,0,0,0,0,0,0,null,null,0,0,0,0]
[null,{"$f":"IF(D16=0,\"\",VLOOKUP(D16,基礎データ!$B$5:$D$64,3))","v":""},{"$f":"IF(D16=0,\"\",VLOOKUP(D16,基礎データ!$B$5:$D$64,2))","v":""},0,0,0,0,0,0,0,0,0,0,0,0,0,0,0,0,0,0,0,0,0,0,0,0,0,0,0,0,0,0,0,0,0,0,0,0,null,null,0,0,0,0]
[null,{"$f":"IF(D17=0,\"\",VLOOKUP(D17,基礎データ!$B$5:$D$64,3))","v":""},{"$f":"IF(D17=0,\"\",VLOOKUP(D17,基礎データ!$B$5:$D$64,2))","v":""},0,0,0,0,0,0,0,0,0,0,0,0,0,0,0,0,0,0,0,0,0,0,0,0,0,0,0,0,0,0,0,0,0,0,0,0,null,null,0,0,0,0]
[null,{"$f":"IF(D18=0,\"\",VLOOKUP(D18,基礎データ!$B$5:$D$64,3))","v":""},{"$f":"IF(D18=0,\"\",VLOOKUP(D18,基礎データ!$B$5:$D$64,2))","v":""},0,0,0,0,0,0,0,0,0,0,0,0,0,0,0,0,0,0,0,0,0,0,0,0,0,0,0,0,0,0,0,0,0,0,0,0,null,null,0,0,0,0]
[null,{"$f":"IF(D19=0,\"\",VLOOKUP(D19,基礎データ!$B$5:$D$64,3))","v":""},{"$f":"IF(D19=0,\"\",VLOOKUP(D19,基礎データ!$B$5:$D$64,2))","v":""},0,0,0,0,0,0,0,0,0,0,0,0,0,0,0,0,0,0,0,0,0,0,0,0,0,0,0,0,0,0,0,0,0,0,0,0,null,null,0,0,0,0]
[null,{"$f":"IF(D20=0,\"\",VLOOKUP(D20,基礎データ!$B$5:$D$64,3))","v":""},{"$f":"IF(D20=0,\"\",VLOOKUP(D20,基礎データ!$B$5:$D$64,2))","v":""},0,0,0,0,0,0,0,0,0,0,0,0,0,0,0,0,0,0,0,0,0,0,0,0,0,0,0,0,0,0,0,0,0,0,0,0,null,null,0,0,0,0]
[null,{"$f":"IF(D21=0,\"\",VLOOKUP(D21,基礎データ!$B$5:$D$64,3))","v":""},{"$f":"IF(D21=0,\"\",VLOOKUP(D21,基礎データ!$B$5:$D$64,2))","v":""},0,0,0,0,0,0,0,0,0,0,0,0,0,0,0,0,0,0,0,0,0,0,0,0,0,0,0,0,0,0,0,0,0,0,0,0,null,null,0,0,0,0]
[null,{"$f":"IF(D22=0,\"\",VLOOKUP(D22,基礎データ!$B$5:$D$64,3))","v":""},{"$f":"IF(D22=0,\"\",VLOOKUP(D22,基礎データ!$B$5:$D$64,2))","v":""},0,0,0,0,0,0,0,0,0,0,0,0,0,0,0,0,0,0,0,0,0,0,0,0,0,0,0,0,0,0,0,0,0,0,0,0,null,null,0,0,0,0]
[null,{"$f":"IF(D23=0,\"\",VLOOKUP(D23,基礎データ!$B$5:$D$64,3))","v":""},{"$f":"IF(D23=0,\"\",VLOOKUP(D23,基礎データ!$B$5:$D$64,2))","v":""},0,0,0,0,0,0,0,0,0,0,0,0,0,0,0,0,0,0,0,0,0,0,0,0,0,0,0,0,0,0,0,0,0,0,0,0,null,null,0,0,0,0]
[null,{"$f":"IF(D24=0,\"\",VLOOKUP(D24,基礎データ!$B$5:$D$64,3))","v":""},{"$f":"IF(D24=0,\"\",VLOOKUP(D24,基礎データ!$B$5:$D$64,2))","v":""},0,0,0,0,0,0,0,0,0,0,0,0,0,0,0,0,0,0,0,0,0,0,0,0,0,0,0,0,0,0,0,0,0,0,0,0,null,null,0,0,0,0]
[null,{"$f":"IF(D25=0,\"\",VLOOKUP(D25,基礎データ!$B$5:$D$64,3))","v":""},{"$f":"IF(D25=0,\"\",VLOOKUP(D25,基礎データ!$B$5:$D$64,2))","v":""},0,0,0,0,0,0,0,0,0,0,0,0,0,0,0,0,0,0,0,0,0,0,0,0,0,0,0,0,0,0,0,0,0,0,0,0,null,null,0,0,0,0]
[null,{"$f":"IF(D26=0,\"\",VLOOKUP(D26,基礎データ!$B$5:$D$64,3))","v":""},{"$f":"IF(D26=0,\"\",VLOOKUP(D26,基礎データ!$B$5:$D$64,2))","v":""},0,0,0,0,0,0,0,0,0,0,0,0,0,0,0,0,0,0,0,0,0,0,0,0,0,0,0,0,0,0,0,0,0,0,0,0,null,null,0,0,0,0]
[null,{"$f":"IF(D27=0,\"\",VLOOKUP(D27,基礎データ!$B$5:$D$64,3))","v":""},{"$f":"IF(D27=0,\"\",VLOOKUP(D27,基礎データ!$B$5:$D$64,2))","v":""},0,0,0,0,0,0,0,0,0,0,0,0,0,0,0,0,0,0,0,0,0,0,0,0,0,0,0,0,0,0,0,0,0,0,0,0,null,null,0,0,0,0]
[null,{"$f":"IF(D28=0,\"\",VLOOKUP(D28,基礎データ!$B$5:$D$64,3))","v":""},{"$f":"IF(D28=0,\"\",VLOOKUP(D28,基礎データ!$B$5:$D$64,2))","v":""},0,0,0,0,0,0,0,0,0,0,0,0,0,0,0,0,0,0,0,0,0,0,0,0,0,0,0,0,0,0,0,0,0,0,0,0,null,null,0,0,0,0]
[null,{"$f":"IF(D29=0,\"\",VLOOKUP(D29,基礎データ!$B$5:$D$64,3))","v":""},{"$f":"IF(D29=0,\"\",VLOOKUP(D29,基礎データ!$B$5:$D$64,2))","v":""},0,0,0,0,0,0,0,0,0,0,0,0,0,0,0,0,0,0,0,0,0,0,0,0,0,0,0,0,0,0,0,0,0,0,0,0,null,null,0,0,0,0]
[null,{"$f":"IF(D30=0,\"\",VLOOKUP(D30,基礎データ!$B$5:$D$64,3))","v":""},{"$f":"IF(D30=0,\"\",VLOOKUP(D30,基礎データ!$B$5:$D$64,2))","v":""},0,0,0,0,0,0,0,0,0,0,0,0,0,0,0,0,0,0,0,0,0,0,0,0,0,0,0,0,0,0,0,0,0,0,0,0,null,null,0,0,0,0]
[null,{"$f":"IF(D31=0,\"\",VLOOKUP(D31,基礎データ!$B$5:$D$64,3))","v":""},{"$f":"IF(D31=0,\"\",VLOOKUP(D31,基礎データ!$B$5:$D$64,2))","v":""},0,0,0,0,0,0,0,0,0,0,0,0,0,0,0,0,0,0,0,0,0,0,0,0,0,0,0,0,0,0,0,0,0,0,0,0,null,null,0,0,0,0]
[null,{"$f":"IF(D32=0,\"\",VLOOKUP(D32,基礎データ!$B$5:$D$64,3))","v":""},{"$f":"IF(D32=0,\"\",VLOOKUP(D32,基礎データ!$B$5:$D$64,2))","v":""},0,0,0,0,0,0,0,0,0,0,0,0,0,0,0,0,0,0,0,0,0,0,0,0,0,0,0,0,0,0,0,0,0,0,0,0,null,null,0,0,0,0]
[null,{"$f":"IF(D33=0,\"\",VLOOKUP(D33,基礎データ!$B$5:$D$64,3))","v":""},{"$f":"IF(D33=0,\"\",VLOOKUP(D33,基礎データ!$B$5:$D$64,2))","v":""},0,0,0,0,0,0,0,0,0,0,0,0,0,0,0,0,0,0,0,0,0,0,0,0,0,0,0,0,0,0,0,0,0,0,0,0,null,null,0,0,0,0]
[null,{"$f":"IF(D34=0,\"\",VLOOKUP(D34,基礎データ!$B$5:$D$64,3))","v":""},{"$f":"IF(D34=0,\"\",VLOOKUP(D34,基礎データ!$B$5:$D$64,2))","v":""},0,0,0,0,0,0,0,0,0,0,0,0,0,0,0,0,0,0,0,0,0,0,0,0,0,0,0,0,0,0,0,0,0,0,0,0,null,null,0,0,0,0]
[null,{"$f":"IF(D35=0,\"\",VLOOKUP(D35,基礎データ!$B$5:$D$64,3))","v":""},{"$f":"IF(D35=0,\"\",VLOOKUP(D35,基礎データ!$B$5:$D$64,2))","v":""},0,0,0,0,0,0,0,0,0,0,0,0,0,0,0,0,0,0,0,0,0,0,0,0,0,0,0,0,0,0,0,0,0,0,0,0,null,null,0,0,0,0]
[null,{"$f":"IF(D36=0,\"\",VLOOKUP(D36,基礎データ!$B$5:$D$64,3))","v":""},{"$f":"IF(D36=0,\"\",VLOOKUP(D36,基礎データ!$B$5:$D$64,2))","v":""},0,0,0,0,0,0,0,0,0,0,0,0,0,0,0,0,0,0,0,0,0,0,0,0,0,0,0,0,0,0,0,0,0,0,0,0,null,null,0,0,0,0]
[null,{"$f":"IF(D37=0,\"\",VLOOKUP(D37,基礎データ!$B$5:$D$64,3))","v":""},{"$f":"IF(D37=0,\"\",VLOOKUP(D37,基礎データ!$B$5:$D$64,2))","v":""},0,0,0,0,0,0,0,0,0,0,0,0,0,0,0,0,0,0,0,0,0,0,0,0,0,0,0,0,0,0,0,0,0,0,0,0,null,null,0,0,0,0]
[null,{"$f":"IF(D38=0,\"\",VLOOKUP(D38,基礎データ!$B$5:$D$64,3))","v":""},{"$f":"IF(D38=0,\"\",VLOOKUP(D38,基礎データ!$B$5:$D$64,2))","v":""},0,0,0,0,0,0,0,0,0,0,0,0,0,0,0,0,0,0,0,0,0,0,0,0,0,0,0,0,0,{"$f":"E38+M38+S38+Y38","v":0},{"$f":"F38+N38+T38+Z38","v":0},{"$f":"I38+Q38+W38+AC38","v":0},{"$f":"H38+P38+V38+AB38","v":0},{"$f":"J38+R38+X38+AD38","v":0},{"$f":"G38+O38+U38+AA38","v":0},{"$f":"AE38+L38+K38+AF38","v":0},null,null,0,0,0,0]
[null,{"$f":"IF(D39=0,\"\",VLOOKUP(D39,基礎データ!$B$5:$D$64,3))","v":""},{"$f":"IF(D39=0,\"\",VLOOKUP(D39,基礎データ!$B$5:$D$64,2))","v":""},0,0,0,0,0,0,0,0,0,0,0,0,0,0,0,0,0,0,0,0,0,0,0,0,0,0,0,0,0,0,0,0,0,0,0,0,null,null,0,0,0,0]
[null,{"$f":"IF(D40=0,\"\",VLOOKUP(D40,基礎データ!$B$5:$D$64,3))","v":""},{"$f":"IF(D40=0,\"\",VLOOKUP(D40,基礎データ!$B$5:$D$64,2))","v":""},0,0,0,0,0,0,0,0,0,0,0,0,0,0,0,0,0,0,0,0,0,0,0,0,0,0,0,0,0,0,0,0,0,0,0,0,null,null,0,0,0,0]
[null,{"$f":"IF(D41=0,\"\",VLOOKUP(D41,基礎データ!$B$5:$D$64,3))","v":""},{"$f":"IF(D41=0,\"\",VLOOKUP(D41,基礎データ!$B$5:$D$64,2))","v":""},0,0,0,0,0,0,0,0,0,0,0,0,0,0,0,0,0,0,0,0,0,0,0,0,0,0,0,0,0,0,0,0,0,0,0,0,null,null,0,0,0,0]
[null,{"$f":"IF(D42=0,\"\",VLOOKUP(D42,基礎データ!$B$5:$D$64,3))","v":""},{"$f":"IF(D42=0,\"\",VLOOKUP(D42,基礎データ!$B$5:$D$64,2))","v":""},0,0,0,0,0,0,0,0,0,0,0,0,0,0,0,0,0,0,0,0,0,0,0,0,0,0,0,0,0,0,0,0,0,0,0,0,null,null,0,0,0,0]
[null,{"$f":"IF(D43=0,\"\",VLOOKUP(D43,基礎データ!$B$5:$D$64,3))","v":""},{"$f":"IF(D43=0,\"\",VLOOKUP(D43,基礎データ!$B$5:$D$64,2))","v":""},0,0,0,0,0,0,0,0,0,0,0,0,0,0,0,0,0,0,0,0,0,0,0,0,0,0,0,0,0,0,0,0,0,0,0,0,null,null,0,0,0,0]
[null,{"$f":"IF(D44=0,\"\",VLOOKUP(D44,基礎データ!$B$5:$D$64,3))","v":""},{"$f":"IF(D44=0,\"\",VLOOKUP(D44,基礎データ!$B$5:$D$64,2))","v":""},0,0,0,0,0,0,0,0,0,0,0,0,0,0,0,0,0,0,0,0,0,0,0,0,0,0,0,0,0,0,0,0,0,0,0,0,null,null,0,0,0,0]
[null,{"$f":"IF(D45=0,\"\",VLOOKUP(D45,基礎データ!$B$5:$D$64,3))","v":""},{"$f":"IF(D45=0,\"\",VLOOKUP(D45,基礎データ!$B$5:$D$64,2))","v":""},0,0,0,0,0,0,0,0,0,0,0,0,0,0,0,0,0,0,0,0,0,0,0,0,0,0,0,0,0,0,0,0,0,0,0,0,null,null,0,0,0,0]
[null,{"$f":"IF(D46=0,\"\",VLOOKUP(D46,基礎データ!$B$5:$D$64,3))","v":""},{"$f":"IF(D46=0,\"\",VLOOKUP(D46,基礎データ!$B$5:$D$64,2))","v":""},0,0,0,0,0,0,0,0,0,0,0,0,0,0,0,0,0,0,0,0,0,0,0,0,0,0,0,0,0,0,0,0,0,0,0,0,null,null,0,0,0,0]
[null,{"$f":"IF(D47=0,\"\",VLOOKUP(D47,基礎データ!$B$5:$D$64,3))","v":""},{"$f":"IF(D47=0,\"\",VLOOKUP(D47,基礎データ!$B$5:$D$64,2))","v":""},0,0,0,0,0,0,0,0,0,0,0,0,0,0,0,0,0,0,0,0,0,0,0,0,0,0,0,0,0,0,0,0,0,0,0,0,null,null,0,0,0,0]
[null,{"$f":"IF(D48=0,\"\",VLOOKUP(D48,基礎データ!$B$5:$D$64,3))","v":""},{"$f":"IF(D48=0,\"\",VLOOKUP(D48,基礎データ!$B$5:$D$64,2))","v":""},0,0,0,0,0,0,0,0,0,0,0,0,0,0,0,0,0,0,0,0,0,0,0,0,0,0,0,0,0,0,0,0,0,0,0,0,null,null,0,0,0,0]
[null,{"$f":"IF(D49=0,\"\",VLOOKUP(D49,基礎データ!$B$5:$D$64,3))","v":""},{"$f":"IF(D49=0,\"\",VLOOKUP(D49,基礎データ!$B$5:$D$64,2))","v":""},0,0,0,0,0,0,0,0,0,0,0,0,0,0,0,0,0,0,0,0,0,0,0,0,0,0,0,0,0,0,0,0,0,0,0,0,null,null,0,0,0,0]
[null,{"$f":"IF(D50=0,\"\",VLOOKUP(D50,基礎データ!$B$5:$D$64,3))","v":""},{"$f":"IF(D50=0,\"\",VLOOKUP(D50,基礎データ!$B$5:$D$64,2))","v":""},0,0,0,0,0,0,0,0,0,0,0,0,0,0,0,0,0,0,0,0,0,0,0,0,0,0,0,0,0,0,0,0,0,0,0,0,null,null,0,0,0,0]
[null,{"$f":"IF(D51=0,\"\",VLOOKUP(D51,基礎データ!$B$5:$D$64,3))","v":""},{"$f":"IF(D51=0,\"\",VLOOKUP(D51,基礎データ!$B$5:$D$64,2))","v":""},0,0,0,0,0,0,0,0,0,0,0,0,0,0,0,0,0,0,0,0,0,0,0,0,0,0,0,0,0,0,0,0,0,0,0,0,null,null,0,0,0,0]
[null,{"$f":"IF(D52=0,\"\",VLOOKUP(D52,基礎データ!$B$5:$D$64,3))","v":""},{"$f":"IF(D52=0,\"\",VLOOKUP(D52,基礎データ!$B$5:$D$64,2))","v":""},0,0,0,0,0,0,0,0,0,0,0,0,0,0,0,0,0,0,0,0,0,0,0,0,0,0,0,0,0,0,0,0,0,0,0,0,null,null,0,0,0,0]
[null,{"$f":"IF(D53=0,\"\",VLOOKUP(D53,基礎データ!$B$5:$D$64,3))","v":""},{"$f":"IF(D53=0,\"\",VLOOKUP(D53,基礎データ!$B$5:$D$64,2))","v":""},0,0,0,0,0,0,0,0,0,0,0,0,0,0,0,0,0,0,0,0,0,0,0,0,0,0,0,0,0,0,0,0,0,0,0,0,null,null,0,0,0,0]
[null,{"$f":"IF(D54=0,\"\",VLOOKUP(D54,基礎データ!$B$5:$D$64,3))","v":""},{"$f":"IF(D54=0,\"\",VLOOKUP(D54,基礎データ!$B$5:$D$64,2))","v":""},0,0,0,0,0,0,0,0,0,0,0,0,0,0,0,0,0,0,0,0,0,0,0,0,0,0,0,0,0,0,0,0,0,0,0,0,null,null,0,0,0,0]
[null,{"$f":"IF(D55=0,\"\",VLOOKUP(D55,基礎データ!$B$5:$D$64,3))","v":""},{"$f":"IF(D55=0,\"\",VLOOKUP(D55,基礎データ!$B$5:$D$64,2))","v":""},0,0,0,0,0,0,0,0,0,0,0,0,0,0,0,0,0,0,0,0,0,0,0,0,0,0,0,0,0,0,0,0,0,0,0,0,null,null,0,0,0,0]
[null,{"$f":"IF(D56=0,\"\",VLOOKUP(D56,基礎データ!$B$5:$D$64,3))","v":""},{"$f":"IF(D56=0,\"\",VLOOKUP(D56,基礎データ!$B$5:$D$64,2))","v":""},0,0,0,0,0,0,0,0,0,0,0,0,0,0,0,0,0,0,0,0,0,0,0,0,0,0,0,0,0,0,0,0,0,0,0,0,null,null,0,0,0,0]
[null,{"$f":"IF(D57=0,\"\",VLOOKUP(D57,基礎データ!$B$5:$D$64,3))","v":""},{"$f":"IF(D57=0,\"\",VLOOKUP(D57,基礎データ!$B$5:$D$64,2))","v":""},0,0,0,0,0,0,0,0,0,0,0,0,0,0,0,0,0,0,0,0,0,0,0,0,0,0,0,0,0,0,0,0,0,0,0,0,null,null,0,0,0,0]
[null,{"$f":"IF(D58=0,\"\",VLOOKUP(D58,基礎データ!$B$5:$D$64,3))","v":""},{"$f":"IF(D58=0,\"\",VLOOKUP(D58,基礎データ!$B$5:$D$64,2))","v":""},0,0,0,0,0,0,0,0,0,0,0,0,0,0,0,0,0,0,0,0,0,0,0,0,0,0,0,0,0,0,0,0,0,0,0,0,null,null,0,0,0,0]
[null,{"$f":"IF(D59=0,\"\",VLOOKUP(D59,基礎データ!$B$5:$D$64,3))","v":""},{"$f":"IF(D59=0,\"\",VLOOKUP(D59,基礎データ!$B$5:$D$64,2))","v":""},0,0,0,0,0,0,0,0,0,0,0,0,0,0,0,0,0,0,0,0,0,0,0,0,0,0,0,0,0,0,0,0,0,0,0,0,null,null,0,0,0,0]
[null,{"$f":"IF(D60=0,\"\",VLOOKUP(D60,基礎データ!$B$5:$D$64,3))","v":""},{"$f":"IF(D60=0,\"\",VLOOKUP(D60,基礎データ!$B$5:$D$64,2))","v":""},0,0,0,0,0,0,0,0,0,0,0,0,0,0,0,0,0,0,0,0,0,0,0,0,0,0,0,0,0,0,0,0,0,0,0,0,null,null,0,0,0,0]
[null,{"$f":"IF(D61=0,\"\",VLOOKUP(D61,基礎データ!$B$5:$D$64,3))","v":""},{"$f":"IF(D61=0,\"\",VLOOKUP(D61,基礎データ!$B$5:$D$64,2))","v":""},0,0,0,0,0,0,0,0,0,0,0,0,0,0,0,0,0,0,0,0,0,0,0,0,0,0,0,0,0,0,0,0,0,0,0,0,null,null,0,0,0,0]
[null,{"$f":"IF(D62=0,\"\",VLOOKUP(D62,基礎データ!$B$5:$D$64,3))","v":""},{"$f":"IF(D62=0,\"\",VLOOKUP(D62,基礎データ!$B$5:$D$64,2))","v":""},0,0,0,0,0,0,0,0,0,0,0,0,0,0,0,0,0,0,0,0,0,0,0,0,0,0,0,0,0,0,0,0,0,0,0,0,null,null,0,0,0,0]
[null,{"$f":"IF(D63=0,\"\",VLOOKUP(D63,基礎データ!$B$5:$D$64,3))","v":""},{"$f":"IF(D63=0,\"\",VLOOKUP(D63,基礎データ!$B$5:$D$64,2))","v":""},0,0,0,0,0,0,0,0,0,0,0,0,0,0,0,0,0,0,0,0,0,0,0,0,0,0,0,0,0,0,0,0,0,0,0,0,null,null,0,0,0,0]
[null,{"$f":"IF(D64=0,\"\",VLOOKUP(D64,基礎データ!$B$5:$D$64,3))","v":""},{"$f":"IF(D64=0,\"\",VLOOKUP(D64,基礎データ!$B$5:$D$64,2))","v":""},0,0,0,0,0,0,0,0,0,0,0,0,0,0,0,0,0,0,0,0,0,0,0,0,0,0,0,0,0,0,0,0,0,0,0,0,null,null,0,0,0,0]
[null,{"$f":"IF(D65=0,\"\",VLOOKUP(D65,基礎データ!$B$5:$D$64,3))","v":""},{"$f":"IF(D65=0,\"\",VLOOKUP(D65,基礎データ!$B$5:$D$64,2))","v":""},0,0,0,0,0,0,0,0,0,0,0,0,0,0,0,0,0,0,0,0,0,0,0,0,0,0,0,0,0,0,0,0,0,0,0,0,null,null,0,0,0,0]
[null,"④ の数",null,null,{"$f":"COUNTIF(E$6:E$65,4)","v":0},{"$f":"COUNTIF(F$6:F$65,4)","v":0},0,0,0,0,0,0,0,0,0,0,0,0,0,0,0,0,0,0,0,0,0,0,0,0,0,0,{"$f":"E66+M66+S66+Y66","v":0},{"$f":"F66+N66+T66+Z66","v":0},{"$f":"I66+Q66+W66+AC66","v":0},{"$f":"H66+P66+V66+AB66","v":0},{"$f":"J66+R66+X66+AD66","v":0},{"$f":"G66+O66+U66+AA66","v":0},{"$f":"AE66+L66+K66+AF66","v":0}]
[null,"③ の数",null,null,{"$f":"COUNTIF(E$6:E$65,3)","v":0},{"$f":"COUNTIF(F$6:F$65,3)","v":0},0,{"$f":"COUNTIF(H$6:H$65,3)","v":0},0,0,0,0,0,0,0,0,0,0,0,0,0,0,0,0,0,0,0,0,0,0,0,0,{"$f":"E67+M67+S67+Y67","v":0},0,0,0,0,0,0]
[null,"② の数",null,null,{"$f":"COUNTIF(E$6:E$65,2)","v":0},{"$f":"COUNTIF(F$6:F$65,2)","v":0},0,0,0,0,0,0,0,0,0,0,0,0,0,0,0,0,0,0,0,0,0,0,0,0,0,0,{"$f":"E68+M68+S68+Y68","v":0},0,0,0,0,0,0]
[null,"① の数",null,null,{"$f":"COUNTIF(E$6:E$65,1)","v":0},{"$f":"COUNTIF(F$6:F$65,1)","v":0},0,0,0,0,0,0,0,0,0,0,0,0,0,0,0,0,0,0,0,0,0,0,0,0,0,0,{"$f":"E69+M69+S69+Y69","v":0},0,0,0,0,0,0]
[null,"合計",null,null,{"$f":"SUM(E66:E69)","v":0},{"$f":"SUM(F66:F69)","v":0},0,0,0,0,0,0,0,0,0,0,0,0,0,0,0,0,0,0,0,0,0,0,0,0,0,0,0,{"$f":"SUM(AH66:AH69)","v":0},0,0,0,0,0]
[null,"男子平均",null,{"$f":"COUNTIF($B$81:$B$140,\"男\")","v":0},{"$f":"IF(ISERROR(SUMIF($B6:$B65,\"男\",E6:E65)/COUNTIF($B6:$B65,\"男\")),0,SUMIF($B6:$B65,\"男\",E6:E65)/COUNTIF($B6:$B65,\"男\"))","v":0},{"$f":"IF(ISERROR(SUMIF($B6:$B65,\"男\",F6:F65)/COUNTIF($B6:$B65,\"男\")),0,SUMIF($B6:$B65,\"男\",F6:F65)/COUNTIF($B6:$B65,\"男\"))","v":0},{"$f":"IF(ISERROR(SUMIF($B6:$B65,\"男\",G6:G65)/COUNTIF($B6:$B65,\"男\")),0,SUMIF($B6:$B65,\"男\",G6:G65)/COUNTIF($B6:$B65,\"男\"))","v":0},0,0,0,0,0,0,0,0,0,0,0,0,0,0,0,0,0,0,0,0,0,0,0,0,{"$f":"IF(ISERROR(SUMIF($B6:$B65,\"男\",AF6:AF65)/COUNTIF($B6:$B65,\"男\")),0,SUMIF($B6:$B65,\"男\",AF6:AF65)/COUNTIF($B6:$B65,\"男\"))","v":0},{"$f":"IF(ISERROR(SUMIF($B6:$B65,\"男\",AG6:AG65)/COUNTIF($B6:$B65,\"男\")),0,SUMIF($B6:$B65,\"男\",AG6:AG65)/COUNTIF($B6:$B65,\"男\"))","v":0},{"$f":"IF(ISERROR(SUMIF($B6:$B65,\"男\",AH6:AH65)/COUNTIF($B6:$B65,\"男\")),0,SUMIF($B6:$B65,\"男\",AH6:AH65)/COUNTIF($B6:$B65,\"男\"))","v":0},0,0,0,0,{"$f":"IF(ISERROR(SUMIF($B6:$B65,\"男\",AM6:AM65)/COUNTIF($B6:$B65,\"男\")),0,SUMIF($B6:$B65,\"男\",AM6:AM65)/COUNTIF($B6:$B65,\"男\"))","v":0}]
[null,"女子平均",null,{"$f":"COUNTIF($B$81:$B$140,\"女\")","v":0},{"$f":"IF(ISERROR(SUMIF($B6:$B65,\"女\",E6:E65)/COUNTIF($B6:$B65,\"女\")),0,SUMIF($B6:$B65,\"女\",E6:E65)/COUNTIF($B6:$B65,\"女\"))","v":0},{"$f":"IF(ISERROR(SUMIF($B6:$B65,\"女\",F6:F65)/COUNTIF($B6:$B65,\"女\")),0,SUMIF($B6:$B65,\"女\",F6:F65)/COUNTIF($B6:$B65,\"女\"))","v":0},0,0,0,0,0,0,0,0,0,0,0,0,0,0,0,0,0,0,0,0,0,0,0,0,0,0,0,0,0,0,0,0,0]
[null,"全体平均",null,{"$f":"SUM(D71:D72)","v":0},{"$f":"IF(ISERROR((4*E66+3*E67+2*E68+E69)/E70),0,(4*E66+3*E67+2*E68+E69)/E70)","v":0},{"$f":"IF(ISERROR((4*F66+3*F67+2*F68+F69)/F70),0,(4*F66+3*F67+2*F68+F69)/F70)","v":0},0,0,0,0,0,0,0,0,0,0,0,0,0,0,0,0,0,0,0,0,0,0,0,0,0,0,{"$f":"IF(ISERROR(((4*AG66+3*AG67+2*AG68+AG69)/AG70)*4),0,(4*AG66+3*AG67+2*AG68+AG69)/AG70)*4","v":0},{"$f":"IF(ISERROR(((4*AH66+3*AH67+2*AH68+AH69)/AH70)*4),0,(4*AH66+3*AH67+2*AH68+AH69)/AH70)*4","v":0},0,0,0,0,0]
[null,null,null,"↑"]
[null,null,null,"ここだけ人数"]
[]
[null,null,null,null,null,null,null,null,null,{"$f":"基礎データ!G78","v":0},"年",null,{"$f":"基礎データ!I78","v":0},"組",null,"「学校楽しぃーと」　　一覧表（３回目）"]
[null,"性別","氏名","出席番号",1,2,3,4,5,6,7,8,9,10,11,12,13,14,15,16,17,18,19,20,21,22,23,24,25,26,27,28,"観　点"]
[null,null,null,null,{"$f":"「学校楽しいーと」個票!E19","v":"学校には，お話ができる友達がいますか。"},{"$f":"「学校楽しいーと」個票!Y19","v":"学校には，自分の心配なことを話せる先生がいますか。"},{"$f":"「学校楽しいーと」個票!Y35","v":"学級の中にいると，楽しい気持ちになりますか。"},{"$f":"「学校楽しいーと」個票!Y27","v":"自分の係の仕事は，みんなの役に立っていると思いますか。"},{"$f":"「学校楽しいーと」個票!E27","v":"授業の時，「できた」，「わかった」と思うことがありますか。"},{"$f":"「学校楽しいーと」個票!E35","v":"悲しい気持ちになることがありますか。"},{"$f":"「学校楽しいーと」個票!E44","v":"友達からものを隠されたり，体を叩かれたりして嫌な気持ちになることがありますか。"},{"$f":"「学校楽しいーと」個票!E48","v":"友達がものを隠されたり，体を叩かれたりしたことを見たり聞いたりしたことがありますか。"},{"$f":"「学校楽しいーと」個票!E21","v":"学級には，一緒にお話をしたり，遊んだりする友達がいますか。"},{"$f":"「学校楽しいーと」個票!Y21","v":"学校には，自分の気持ちを分かってくれる先生がいますか。"},{"$f":"「学校楽しいーと」個票!Y37","v":"学級のみんなと一緒にいるのは，楽しいですか。"},{"$f":"「学校楽しいーと」個票!Y29","v":"授業や給食当番で「自分は，よく頑張ったなあ」と思うことがありますか。"},{"$f":"「学校楽しいーと」個票!E29","v":"授業の時，先生のお話をよく聞いていますか。"},{"$f":"「学校楽しいーと」個票!E37","v":"お腹が痛くなるときがありますか。"},{"$f":"「学校楽しいーと」個票!E23","v":"学校には，自分の気持ちを話せる友達がいますか。"},{"$f":"「学校楽しいーと」個票!Y23","v":"学校には，間違いや失敗をしても，きちんと理由を聞いてくれる先生がいますか。"},{"$f":"「学校楽しいーと」個票!Y39","v":"自分は，この学級でよかったと思いますか。"},{"$f":"「学校楽しいーと」個票!Y31","v":"自分には，自分のいいところがあると思いますか。"},{"$f":"「学校楽しいーと」個票!E31","v":"授業の時，よく発表していますか。"},{"$f":"「学校楽しいーと」個票!E39","v":"頭が痛くなるときがありますか。"},{"$f":"「学校楽しいーと」個票!E25","v":"自分が困っているときに，お手伝いをしてくれる友達がいますか。"},{"$f":"「学校楽しいーと」個票!Y25","v":"学校の先生は，ひいきをせずにみんなと同じようにあなたにお話をしてくれますか。"},{"$f":"「学校楽しいーと」個票!Y41","v":"学級では，安心して過ごすことができますか。"},{"$f":"「学校楽しいーと」個票!Y33","v":"他の人から好かれていると思いますか。"},{"$f":"「学校楽しいーと」個票!E33","v":"授業で習ったことができるようになろうと頑張っていますか。"},{"$f":"「学校楽しいーと」個票!E41","v":"気分が悪くなることがありますか。"},{"$f":"「学校楽しいーと」個票!E46","v":"友達から悪口を言われたり，無視をされたりして嫌な気持ちになることがありますか。"},{"$f":"「学校楽しいーと」個票!E50","v":"友達が悪口を言われたり，無視をされたりしたことを見たり聞いたりしたことがありますか。"},"友達との関係","教師との関係","学習意欲","自己肯定感","心身の状態","学級集団における適応感","いじめ"]
[]
[null,{"$f":"IF(D81=0,\"\",VLOOKUP(D81,基礎データ!$B$5:$D$64,3))","v":""},{"$f":"IF(D81=0,\"\",VLOOKUP(D81,基礎データ!$B$5:$D$64,2))","v":""},{"$f":"D6","v":0},{"$f":"IF(E6=4,\"😄\",IF(E6=3,\"😊\",IF(E6=2,\"😢\",IF(E6=1,\"😭\",\"\"))))","v":""},"","","","","","","","","","","","","","","","","","","","","","","","","","",{"$f":"IF(AF6=4,\"😄\",IF(AF6=3,\"😊\",IF(AF6=2,\"😢\",IF(AF6=1,\"😭\",\"\"))))","v":""},{"$f":"AG6","v":0},0,0,0,0,0,0]
[null,{"$f":"IF(D82=0,\"\",VLOOKUP(D82,基礎データ!$B$5:$D$64,3))","v":""},{"$f":"IF(D82=0,\"\",VLOOKUP(D82,基礎データ!$B$5:$D$64,2))","v":""},{"$f":"D7","v":0},"","","","","","","","","","","","","","","","","","","","","","","","","","","",{"$f":"IF(AF7=4,\"😄\",IF(AF7=3,\"😊\",IF(AF7=2,\"😢\",IF(AF7=1,\"😭\",\"\"))))","v":""},0,0,0,0,0,0,0]
[null,{"$f":"IF(D83=0,\"\",VLOOKUP(D83,基礎データ!$B$5:$D$64,3))","v":""},{"$f":"IF(D83=0,\"\",VLOOKUP(D83,基礎データ!$B$5:$D$64,2))","v":""},0,"","","","","","","","","","","","","","","","","","","","","","","","","","","","",0,0,0,0,0,0,0]
[null,{"$f":"IF(D84=0,\"\",VLOOKUP(D84,基礎データ!$B$5:$D$64,3))","v":""},{"$f":"IF(D84=0,\"\",VLOOKUP(D84,基礎データ!$B$5:$D$64,2))","v":""},0,"","","","","","","","","","","","","","","","","","","","","","","","","","","","",0,0,0,0,0,0,0]
[null,{"$f":"IF(D85=0,\"\",VLOOKUP(D85,基礎データ!$B$5:$D$64,3))","v":""},{"$f":"IF(D85=0,\"\",VLOOKUP(D85,基礎データ!$B$5:$D$64,2))","v":""},0,"","","","","","","","","","","","","","","","","","","","","","","","","","","","",0,0,0,0,0,0,0]
[null,{"$f":"IF(D86=0,\"\",VLOOKUP(D86,基礎データ!$B$5:$D$64,3))","v":""},{"$f":"IF(D86=0,\"\",VLOOKUP(D86,基礎データ!$B$5:$D$64,2))","v":""},0,"","","","","","","","","","","","","","","","","","","","","","","","","","","","",0,0,0,0,0,0,0]
[null,{"$f":"IF(D87=0,\"\",VLOOKUP(D87,基礎データ!$B$5:$D$64,3))","v":""},{"$f":"IF(D87=0,\"\",VLOOKUP(D87,基礎データ!$B$5:$D$64,2))","v":""},0,"","","","","","","","","","","","","","","","","","","","","","","","","","","","",0,0,0,0,0,0,0]
[null,{"$f":"IF(D88=0,\"\",VLOOKUP(D88,基礎データ!$B$5:$D$64,3))","v":""},{"$f":"IF(D88=0,\"\",VLOOKUP(D88,基礎データ!$B$5:$D$64,2))","v":""},0,"","","","","","","","","","","","","","","","","","","","","","","","","","","","",0,0,0,0,0,0,0]
[null,{"$f":"IF(D89=0,\"\",VLOOKUP(D89,基礎データ!$B$5:$D$64,3))","v":""},{"$f":"IF(D89=0,\"\",VLOOKUP(D89,基礎データ!$B$5:$D$64,2))","v":""},0,"","","","","","","","","","","","","","","","","","","","","","","","","","","","",0,0,0,0,0,0,0]
[null,{"$f":"IF(D90=0,\"\",VLOOKUP(D90,基礎データ!$B$5:$D$64,3))","v":""},{"$f":"IF(D90=0,\"\",VLOOKUP(D90,基礎データ!$B$5:$D$64,2))","v":""},0,"","","","","","","","","","","","",{"$f":"IF(Q15=4,\"😄\",IF(Q15=3,\"😊\",IF(Q15=2,\"😢\",IF(Q15=1,\"😭\",\"\"))))","v":""},"","","","","","","","","","","","","","","",0,0,0,0,0,0,0]
[null,{"$f":"IF(D91=0,\"\",VLOOKUP(D91,基礎データ!$B$5:$D$64,3))","v":""},{"$f":"IF(D91=0,\"\",VLOOKUP(D91,基礎データ!$B$5:$D$64,2))","v":""},0,{"$f":"IF(E16=4,\"😄\",IF(E16=3,\"😊\",IF(E16=2,\"😢\",IF(E16=1,\"😭\",\"\"))))","v":""},"","","","","","","","","","","","","","","","","","","","","","","","","","","",0,0,0,0,0,0,0]
[null,{"$f":"IF(D92=0,\"\",VLOOKUP(D92,基礎データ!$B$5:$D$64,3))","v":""},{"$f":"IF(D92=0,\"\",VLOOKUP(D92,基礎データ!$B$5:$D$64,2))","v":""},0,"","","","","","","","","","","","","","","","","","","","","","","","","","","","",0,0,0,0,0,0,0]
[null,{"$f":"IF(D93=0,\"\",VLOOKUP(D93,基礎データ!$B$5:$D$64,3))","v":""},{"$f":"IF(D93=0,\"\",VLOOKUP(D93,基礎データ!$B$5:$D$64,2))","v":""},0,"","","","","","","","","","","","","","","","","","","","","","","","","","","","",0,0,0,0,0,0,0]
[null,{"$f":"IF(D94=0,\"\",VLOOKUP(D94,基礎データ!$B$5:$D$64,3))","v":""},{"$f":"IF(D94=0,\"\",VLOOKUP(D94,基礎データ!$B$5:$D$64,2))","v":""},0,"","","","","","","","","","","","","","","","","","","","","","","","","","","","",0,0,0,0,0,0,0]
[null,{"$f":"IF(D95=0,\"\",VLOOKUP(D95,基礎データ!$B$5:$D$64,3))","v":""},{"$f":"IF(D95=0,\"\",VLOOKUP(D95,基礎データ!$B$5:$D$64,2))","v":""},0,"","","","","","","","","","","","","","","","","","","","","","","","","","","","",0,0,0,0,0,0,0]
[null,{"$f":"IF(D96=0,\"\",VLOOKUP(D96,基礎データ!$B$5:$D$64,3))","v":""},{"$f":"IF(D96=0,\"\",VLOOKUP(D96,基礎データ!$B$5:$D$64,2))","v":""},0,"","","","","","","","","","","","","","","","","","","","","","","","","","","","",0,0,0,0,0,0,0]
[null,{"$f":"IF(D97=0,\"\",VLOOKUP(D97,基礎データ!$B$5:$D$64,3))","v":""},{"$f":"IF(D97=0,\"\",VLOOKUP(D97,基礎データ!$B$5:$D$64,2))","v":""},0,"","","","","","","","","","","","","","","","","","","","","","","","","","","","",{"$f":"AG22","v":0},0,0,0,0,0,0]
[null,{"$f":"IF(D98=0,\"\",VLOOKUP(D98,基礎データ!$B$5:$D$64,3))","v":""},{"$f":"IF(D98=0,\"\",VLOOKUP(D98,基礎データ!$B$5:$D$64,2))","v":""},0,"","","","","","","","","","","","","","","","","","","","","","","","","","","","",0,0,0,0,0,0,0]
[null,{"$f":"IF(D99=0,\"\",VLOOKUP(D99,基礎データ!$B$5:$D$64,3))","v":""},{"$f":"IF(D99=0,\"\",VLOOKUP(D99,基礎データ!$B$5:$D$64,2))","v":""},0,"","","","","","","","","","","","","","","","","","","","","","","","","","","","",0,0,0,0,0,0,0]
[null,{"$f":"IF(D100=0,\"\",VLOOKUP(D100,基礎データ!$B$5:$D$64,3))","v":""},{"$f":"IF(D100=0,\"\",VLOOKUP(D100,基礎データ!$B$5:$D$64,2))","v":""},0,"","","",{"$f":"IF(H25=4,\"😄\",IF(H25=3,\"😊\",IF(H25=2,\"😢\",IF(H25=1,\"😭\",\"\"))))","v":""},"","","","","","","","","","","","","","","","","","","","","","","","",0,0,0,0,0,0,0]
[null,{"$f":"IF(D101=0,\"\",VLOOKUP(D101,基礎データ!$B$5:$D$64,3))","v":""},{"$f":"IF(D101=0,\"\",VLOOKUP(D101,基礎データ!$B$5:$D$64,2))","v":""},0,{"$f":"IF(E26=4,\"😄\",IF(E26=3,\"😊\",IF(E26=2,\"😢\",IF(E26=1,\"😭\",\"\"))))","v":""},"","","","","","","","","","","","","","","","","","","","","","","","","","","",0,0,0,0,0,0,0]
[null,{"$f":"IF(D102=0,\"\",VLOOKUP(D102,基礎データ!$B$5:$D$64,3))","v":""},{"$f":"IF(D102=0,\"\",VLOOKUP(D102,基礎データ!$B$5:$D$64,2))","v":""},0,"","","","","","","","","","","","","","","","","","","","","","","","","","","","",0,0,0,0,0,0,0]
[null,{"$f":"IF(D103=0,\"\",VLOOKUP(D103,基礎データ!$B$5:$D$64,3))","v":""},{"$f":"IF(D103=0,\"\",VLOOKUP(D103,基礎データ!$B$5:$D$64,2))","v":""},0,"","","","","","","","","","","","","","","","","","","","","","","","","","","","",0,0,0,0,0,0,0]
[null,{"$f":"IF(D104=0,\"\",VLOOKUP(D104,基礎データ!$B$5:$D$64,3))","v":""},{"$f":"IF(D104=0,\"\",VLOOKUP(D104,基礎データ!$B$5:$D$64,2))","v":""},0,"","","","","","","","","","","","","","","","","","","","","","","","","","","","",0,0,0,0,0,0,0]
[null,{"$f":"IF(D105=0,\"\",VLOOKUP(D105,基礎データ!$B$5:$D$64,3))","v":""},{"$f":"IF(D105=0,\"\",VLOOKUP(D105,基礎データ!$B$5:$D$64,2))","v":""},0,"","","","","","","","","","","","","","","","","","","","","","","","","","","","",0,0,0,0,0,0,0]
[null,{"$f":"IF(D106=0,\"\",VLOOKUP(D106,基礎データ!$B$5:$D$64,3))","v":""},{"$f":"IF(D106=0,\"\",VLOOKUP(D106,基礎データ!$B$5:$D$64,2))","v":""},0,"","","","","","","","","","","","","","","","","","","","","","","","","","","","",0,0,0,0,0,0,0]
[null,{"$f":"IF(D107=0,\"\",VLOOKUP(D107,基礎データ!$B$5:$D$64,3))","v":""},{"$f":"IF(D107=0,\"\",VLOOKUP(D107,基礎データ!$B$5:$D$64,2))","v":""},0,"","","","","","","","","","","","","","","","","","","","","","","","","","","","",0,0,0,0,0,0,0]
[null,{"$f":"IF(D108=0,\"\",VLOOKUP(D108,基礎データ!$B$5:$D$64,3))","v":""},{"$f":"IF(D108=0,\"\",VLOOKUP(D108,基礎データ!$B$5:$D$64,2))","v":""},0,"","","","","","","","","","","","","","","","","","","","","","","","","","","","",0,0,0,0,0,0,0]
[null,{"$f":"IF(D109=0,\"\",VLOOKUP(D109,基礎データ!$B$5:$D$64,3))","v":""},{"$f":"IF(D109=0,\"\",VLOOKUP(D109,基礎データ!$B$5:$D$64,2))","v":""},0,"","","","","","","","","","","","","","","","","","","","","","","","","","","","",0,0,0,0,0,0,0]
[null,{"$f":"IF(D110=0,\"\",VLOOKUP(D110,基礎データ!$B$5:$D$64,3))","v":""},{"$f":"IF(D110=0,\"\",VLOOKUP(D110,基礎データ!$B$5:$D$64,2))","v":""},0,"","","",{"$f":"IF(H35=4,\"😄\",IF(H35=3,\"😊\",IF(H35=2,\"😢\",IF(H35=1,\"😭\",\"\"))))","v":""},"","","","","","","","","","","","","","","","","","","","","","","","",0,0,0,0,0,0,0]
[null,{"$f":"IF(D111=0,\"\",VLOOKUP(D111,基礎データ!$B$5:$D$64,3))","v":""},{"$f":"IF(D111=0,\"\",VLOOKUP(D111,基礎データ!$B$5:$D$64,2))","v":""},0,{"$f":"IF(E36=4,\"😄\",IF(E36=3,\"😊\",IF(E36=2,\"😢\",IF(E36=1,\"😭\",\"\"))))","v":""},"","","","","","","","","","","","","","","","","","","","","","","","","","","",0,0,0,0,0,0,0]
[null,{"$f":"IF(D112=0,\"\",VLOOKUP(D112,基礎データ!$B$5:$D$64,3))","v":""},{"$f":"IF(D112=0,\"\",VLOOKUP(D112,基礎データ!$B$5:$D$64,2))","v":""},0,"","","","","","","","","","","","","","","","","","","","","","","","","","","","",0,0,0,0,0,0,0]
[null,{"$f":"IF(D113=0,\"\",VLOOKUP(D113,基礎データ!$B$5:$D$64,3))","v":""},{"$f":"IF(D113=0,\"\",VLOOKUP(D113,基礎データ!$B$5:$D$64,2))","v":""},0,"","","","","","","","","","","","","","","","","","","","","","","","","","","","",{"$f":"AG38","v":0},0,0,0,0,0,0]
[null,{"$f":"IF(D114=0,\"\",VLOOKUP(D114,基礎データ!$B$5:$D$64,3))","v":""},{"$f":"IF(D114=0,\"\",VLOOKUP(D114,基礎データ!$B$5:$D$64,2))","v":""},0,"","","","","","","","","","","","","","","","","","","","","","","","","","","","",0,0,0,0,0,0,0]
[null,{"$f":"IF(D115=0,\"\",VLOOKUP(D115,基礎データ!$B$5:$D$64,3))","v":""},{"$f":"IF(D115=0,\"\",VLOOKUP(D115,基礎データ!$B$5:$D$64,2))","v":""},0,"","","","","","","","","","","","","","","","","","","","","","","","","","","","",0,0,0,0,0,0,0]
[null,{"$f":"IF(D116=0,\"\",VLOOKUP(D116,基礎データ!$B$5:$D$64,3))","v":""},{"$f":"IF(D116=0,\"\",VLOOKUP(D116,基礎データ!$B$5:$D$64,2))","v":""},0,"","","","","","","","","","","","","","","","","","","","","","","","","","","","",0,0,0,0,0,0,0]
[null,{"$f":"IF(D117=0,\"\",VLOOKUP(D117,基礎データ!$B$5:$D$64,3))","v":""},{"$f":"IF(D117=0,\"\",VLOOKUP(D117,基礎データ!$B$5:$D$64,2))","v":""},0,"","","","","","","","","","","","","","","","","","","","","","","","","","","","",0,0,0,0,0,0,0]
[null,{"$f":"IF(D118=0,\"\",VLOOKUP(D118,基礎データ!$B$5:$D$64,3))","v":""},{"$f":"IF(D118=0,\"\",VLOOKUP(D118,基礎データ!$B$5:$D$64,2))","v":""},0,"","","","","","","","","","","","","","","","","","","","","","","","","","","","",0,0,0,0,0,0,0]
[null,{"$f":"IF(D119=0,\"\",VLOOKUP(D119,基礎データ!$B$5:$D$64,3))","v":""},{"$f":"IF(D119=0,\"\",VLOOKUP(D119,基礎データ!$B$5:$D$64,2))","v":""},0,"","","","","","","","","","","","","","","","","","","","","","","","","","","","",0,0,0,0,0,0,0]
[null,{"$f":"IF(D120=0,\"\",VLOOKUP(D120,基礎データ!$B$5:$D$64,3))","v":""},{"$f":"IF(D120=0,\"\",VLOOKUP(D120,基礎データ!$B$5:$D$64,2))","v":""},0,"","","",{"$f":"IF(H45=4,\"😄\",IF(H45=3,\"😊\",IF(H45=2,\"😢\",IF(H45=1,\"😭\",\"\"))))","v":""},"","","","","","","","","","","","","","","","","","","","","","","","",0,0,0,0,0,0,0]
[null,{"$f":"IF(D121=0,\"\",VLOOKUP(D121,基礎データ!$B$5:$D$64,3))","v":""},{"$f":"IF(D121=0,\"\",VLOOKUP(D121,基礎データ!$B$5:$D$64,2))","v":""},0,{"$f":"IF(E46=4,\"😄\",IF(E46=3,\"😊\",IF(E46=2,\"😢\",IF(E46=1,\"😭\",\"\"))))","v":""},"","","","","","","","","","","","","","","","","","","","","","","","","","","",0,0,0,0,0,0,0]
[null,{"$f":"IF(D122=0,\"\",VLOOKUP(D122,基礎データ!$B$5:$D$64,3))","v":""},{"$f":"IF(D122=0,\"\",VLOOKUP(D122,基礎データ!$B$5:$D$64,2))","v":""},0,"","","","","","","","","","","","","","","","","","","","","","","","","","","","",0,0,0,0,0,0,0]
[null,{"$f":"IF(D123=0,\"\",VLOOKUP(D123,基礎データ!$B$5:$D$64,3))","v":""},{"$f":"IF(D123=0,\"\",VLOOKUP(D123,基礎データ!$B$5:$D$64,2))","v":""},0,"","","","","","","","","","","","","","","","","","","","","","","","","","","","",0,0,0,0,0,0,0]
[null,{"$f":"IF(D124=0,\"\",VLOOKUP(D124,基礎データ!$B$5:$D$64,3))","v":""},{"$f":"IF(D124=0,\"\",VLOOKUP(D124,基礎データ!$B$5:$D$64,2))","v":""},0,"","","","","","","","","","","","","","","","","","","","","","","","","","","","",0,0,0,0,0,0,0]
[null,{"$f":"IF(D125=0,\"\",VLOOKUP(D125,基礎データ!$B$5:$D$64,3))","v":""},{"$f":"IF(D125=0,\"\",VLOOKUP(D125,基礎データ!$B$5:$D$64,2))","v":""},0,"","","","","","","","","","","","","","","","","","","","","","","","","","","","",0,0,0,0,0,0,0]
[null,{"$f":"IF(D126=0,\"\",VLOOKUP(D126,基礎データ!$B$5:$D$64,3))","v":""},{"$f":"IF(D126=0,\"\",VLOOKUP(D126,基礎データ!$B$5:$D$64,2))","v":""},0,"","","","","","","","","","","","","","","","","","","","","","","","","","","","",0,0,0,0,0,0,0]
[null,{"$f":"IF(D127=0,\"\",VLOOKUP(D127,基礎データ!$B$5:$D$64,3))","v":""},{"$f":"IF(D127=0,\"\",VLOOKUP(D127,基礎データ!$B$5:$D$64,2))","v":""},0,"","","","","","","","","","","","","","","","","","","","","","","","","","","","",0,0,0,0,0,0,0]
[null,{"$f":"IF(D128=0,\"\",VLOOKUP(D128,基礎データ!$B$5:$D$64,3))","v":""},{"$f":"IF(D128=0,\"\",VLOOKUP(D128,基礎データ!$B$5:$D$64,2))","v":""},0,"","","","","","","","","","","","","","","","","","","","","","","","","","","","",0,0,0,0,0,0,0]
[null,{"$f":"IF(D129=0,\"\",VLOOKUP(D129,基礎データ!$B$5:$D$64,3))","v":""},{"$f":"IF(D129=0,\"\",VLOOKUP(D129,基礎データ!$B$5:$D$64,2))","v":""},0,"","","","","","","","","","","","","","","","","","","","","","","","","","","","",{"$f":"AG54","v":0},0,0,0,0,0,0]
[null,{"$f":"IF(D130=0,\"\",VLOOKUP(D130,基礎データ!$B$5:$D$64,3))","v":""},{"$f":"IF(D130=0,\"\",VLOOKUP(D130,基礎データ!$B$5:$D$64,2))","v":""},0,"","","",{"$f":"IF(H55=4,\"😄\",IF(H55=3,\"😊\",IF(H55=2,\"😢\",IF(H55=1,\"😭\",\"\"))))","v":""},"","","","","","","","","","","","","","","","","","","","","","","","",0,0,0,0,0,0,0]
[null,{"$f":"IF(D131=0,\"\",VLOOKUP(D131,基礎データ!$B$5:$D$64,3))","v":""},{"$f":"IF(D131=0,\"\",VLOOKUP(D131,基礎データ!$B$5:$D$64,2))","v":""},0,{"$f":"IF(E56=4,\"😄\",IF(E56=3,\"😊\",IF(E56=2,\"😢\",IF(E56=1,\"😭\",\"\"))))","v":""},"","","","","","","","","","","","","","","","","","","","","","","","","","","",0,0,0,0,0,0,0]
[null,{"$f":"IF(D132=0,\"\",VLOOKUP(D132,基礎データ!$B$5:$D$64,3))","v":""},{"$f":"IF(D132=0,\"\",VLOOKUP(D132,基礎データ!$B$5:$D$64,2))","v":""},0,"","","","","","","","","","","","","","","","","","","","","","","","","","","","",0,0,0,0,0,0,0]
[null,{"$f":"IF(D133=0,\"\",VLOOKUP(D133,基礎データ!$B$5:$D$64,3))","v":""},{"$f":"IF(D133=0,\"\",VLOOKUP(D133,基礎データ!$B$5:$D$64,2))","v":""},0,"","","","","","","","","","","","","","","","","","","","","","","","","","","","",0,0,0,0,0,0,0]
[null,{"$f":"IF(D134=0,\"\",VLOOKUP(D134,基礎データ!$B$5:$D$64,3))","v":""},{"$f":"IF(D134=0,\"\",VLOOKUP(D134,基礎データ!$B$5:$D$64,2))","v":""},0,"","","","","","","","","","","","","","","","","","","","","","","","","","","","",0,0,0,0,0,0,0]
[null,{"$f":"IF(D135=0,\"\",VLOOKUP(D135,基礎データ!$B$5:$D$64,3))","v":""},{"$f":"IF(D135=0,\"\",VLOOKUP(D135,基礎データ!$B$5:$D$64,2))","v":""},0,"","","","","","","","","","","","","","","","","","","","","","","","","","","","",0,0,0,0,0,0,0]
[null,{"$f":"IF(D136=0,\"\",VLOOKUP(D136,基礎データ!$B$5:$D$64,3))","v":""},{"$f":"IF(D136=0,\"\",VLOOKUP(D136,基礎データ!$B$5:$D$64,2))","v":""},0,"","","","","","","","","","","","","","","","","","","","","","","","","","","","",0,0,0,0,0,0,0]
[null,{"$f":"IF(D137=0,\"\",VLOOKUP(D137,基礎データ!$B$5:$D$64,3))","v":""},{"$f":"IF(D137=0,\"\",VLOOKUP(D137,基礎データ!$B$5:$D$64,2))","v":""},0,"","","","","","","","","","","","","","","","","","","","","","","","","","","","",0,0,0,0,0,0,0]
[null,{"$f":"IF(D138=0,\"\",VLOOKUP(D138,基礎データ!$B$5:$D$64,3))","v":""},{"$f":"IF(D138=0,\"\",VLOOKUP(D138,基礎データ!$B$5:$D$64,2))","v":""},0,"","","","","","","","","","","","","","","","","","","","","","","","","","","","",0,0,0,0,0,0,0]
[null,{"$f":"IF(D139=0,\"\",VLOOKUP(D139,基礎データ!$B$5:$D$64,3))","v":""},{"$f":"IF(D139=0,\"\",VLOOKUP(D139,基礎データ!$B$5:$D$64,2))","v":""},0,"","","","","","","","","","","","","","","","","","","","","","","","","","","","",0,0,0,0,0,0,0]
[null,{"$f":"IF(D140=0,\"\",VLOOKUP(D140,基礎データ!$B$5:$D$64,3))","v":""},{"$f":"IF(D140=0,\"\",VLOOKUP(D140,基礎データ!$B$5:$D$64,2))","v":""},0,"","","",{"$f":"IF(H65=4,\"😄\",IF(H65=3,\"😊\",IF(H65=2,\"😢\",IF(H65=1,\"😭\",\"\"))))","v":""},"","","","","","","","","","","","","","","","","","","","","","","","",0,0,0,0,0,0,0]
[null,"😄 の数",null,null,{"$f":"E66","v":0},0,0,0,0,0,0,0,0,0,0,0,0,0,0,0,0,0,0,0,0,0,0,0,0,0,0,0,0,0,0,0,0,0,0]
[null,"😊 の数",null,null,0,0,0,0,0,0,0,0,0,0,0,0,0,0,0,0,0,0,0,0,0,0,0,0,0,0,0,0,0,0,0,0,0,0,0]
[null,"😢 の数",null,null,0,0,0,0,0,0,0,0,0,0,0,0,0,0,0,0,0,0,0,0,0,0,0,0,0,0,0,0,0,0,0,0,0,0,0]
[null,"😭 の数",null,null,0,0,0,0,0,0,0,0,0,0,0,0,0,0,0,0,0,0,0,0,0,0,0,0,0,0,0,0,0,0,0,0,0,0,0]
[null,"合計",null,null,0,0,0,0,0,0,0,0,0,0,0,0,0,0,0,0,0,0,0,0,0,0,0,0,0,0,0,0,0,0,0,0,0,0,{"$f":"AM70","v":0}]
[null,"男子平均",null,{"$f":"COUNTIF($B$81:$B$140,\"男\")","v":0},0,0,0,0,0,0,0,0,0,0,0,0,0,0,0,0,0,0,0,0,0,0,0,0,0,0,0,0,0,0,0,0,0,0,0]
[null,"女子平均",null,{"$f":"COUNTIF($B$81:$B$140,\"女\")","v":0},0,0,0,0,0,0,0,0,0,0,0,0,0,0,0,0,0,0,0,0,0,0,0,0,0,0,0,0,0,0,0,0,0,0,0]
[null,"全体平均",null,{"$f":"SUM(D146:D147)","v":0},0,0,0,0,0,0,0,0,0,0,0,0,0,0,0,0,0,{"$f":"V73","v":0},0,0,0,0,0,0,0,0,0,0,0,0,0,0,0,0,0]
[null,null,null,"↑"]
[null,null,null,"ここだけ人数"]